Workbook

Sheet PresupuestoGeneral
A1: ÍTEM | B1: Actividades a Desarrollar | C1: Unidad | D1: Cantidad | E1: Valor Unitario | F1: Valor Total | G1: Aporte Cornare | H1: Aporte ESAL
A2: 1 | B2: VIGENCIA 2026
A3: =+'1. Vegencia 2026'!B7 -> 1.1 | B3: =+'1. Vegencia 2026'!C7 -> Fortalecimiento a los Consejos de Cuenca, en el marco de la implementación de los POMCAS a través del acompañamientos profesional y asesoría académica para el desempeño de las funciones definidas por la norma | C3: =+'1. Vegencia 2026'!E7 -> Meses | D3: =+'1. Vegencia 2026'!F7 -> 2.5 | E3: =+'1. Vegencia 2026'!D7 -> 16599878 | F3: =+'1. Vegencia 2026'!G7 -> 41499695 | G3: =+F3-H3 -> 20737737 | H3: 20761958 | J3: APORTANTES | K3: APORTES EN DINERO 2026 | L3: APORTES EN DINERO 2027 | M3: TOTAL | N3: %
A4: =+'1. Vegencia 2026'!B8 -> 1.2 | B4: =+'1. Vegencia 2026'!C8 -> Consolidar el proceso Gobernanza Ambiental, a través de dos sesiones para cada uno de los seis Consejos de Cuencas (5 liderados por Cornare y 1 liderado por otra CAR, en comisión conjunta) | C4: =+'1. Vegencia 2026'!E8 -> Sesión | D4: =+'1. Vegencia 2026'!F8 -> 12 | E4: =+'1. Vegencia 2026'!D8 -> 2660975.1 | F4: =+'1. Vegencia 2026'!G8 -> 31931701 | G4: =+F4-H4 -> 10331701 | H4: 21600000
A5: =+'1. Vegencia 2026'!B9 -> 1.3 | B5: =+'1. Vegencia 2026'!C9 -> Realizar un Encuentro Regional de Consejeros de Cuenca | C5: =+'1. Vegencia 2026'!E9 -> Taller | D5: =+'1. Vegencia 2026'!F9 -> 1 | E5: =+'1. Vegencia 2026'!D9 -> 26549117 | F5: =+'1. Vegencia 2026'!G9 -> 26549117 | G5: =+F5-H5 -> 21549117 | H5: =5000000 -> 5000000 | J5: Cornare | K5: =+G7 -> 70875206 | L5: =+G15 -> 3.0813295e+08 | M5: =+G16 -> 379008155 | N5: =+M5/$M$7 -> 0.7
A6: =+'1. Vegencia 2026'!B10 -> 1.4 | B6: =+'1. Vegencia 2026'!C10 -> Reconocimiento de la áreas estratégicas de la cuenca por parte de los Consejeros de Cuenca (5 liderados por Cornare y 1 liderado por otra CAR), con el objetivo de que conozcan el territorio de la cuenca a la que pertenecen y realicen una actividad especifica dentro de la misma, ya sea una jornada de siembra o de limpieza de microcuenca. | C6: =+'1. Vegencia 2026'!E10 -> Meses | D6: =+'1. Vegencia 2026'!F10 -> 6 | E6: =+'1. Vegencia 2026'!D10 -> 3042775.1 | F6: =+'1. Vegencia 2026'!G10 -> 18256651 | G6: =+F6-H6 -> 18256651 | H6: 0 | J6: ESAL | K6: =+H7 -> 47361958 | L6: =+H15 -> 1.1507011e+08 | M6: =+K6+L6 -> 1.6243207e+08 | N6: =+M6/$M$7 -> 0.3
A7: Total 2026 | F7: =SUM(F3:F6) -> 1.1823716e+08 | G7: =SUM(G3:G6) -> 70875206 | H7: =SUM(H3:H6) -> 47361958 | J7: Total | K7: =+K5+K6 -> 1.1823716e+08 | L7: =+L5+L6 -> 4.2320306e+08 | M7: =+M5+M6 -> 5.4144022e+08 | N7: 1
A8: 2 | B8: VIGENCIA 2027
A9: =+'2. Vegencia 2027'!B6 -> 2.1 | B9: =+'2. Vegencia 2027'!C6 -> Fortalecimiento a los Consejos de Cuenca, en el marco de la implementación de los POMCAS a través del acompañamientos profesional y asesoría académica para el desempeño de las funciones definidas por la norma | C9: Meses | D9: =+'2. Vegencia 2027'!F6 -> 11.5 | E9: =+'2. Vegencia 2027'!D6 -> 17600851 | F9: =+'2. Vegencia 2027'!G6 -> 2.0240978e+08 | G9: 143618408 | H9: 58791376
A10: =+'2. Vegencia 2027'!B7 -> 2.2 | B10: =+'2. Vegencia 2027'!C7 -> Consolidar el proceso Gobernanza Ambiental, a través de cinco sesiones para cada uno de los seis Consejos de Cuencas (5 liderados por Cornare y 1 liderado por otra CAR, en comisión conjunta) | C10: =+'2. Vegencia 2027'!E7 -> Sesión | D10: =+'2. Vegencia 2027'!F7 -> 30 | E10: =+'2. Vegencia 2027'!D7 -> 2821431.9 | F10: =+'2. Vegencia 2027'!G7 -> 84642956 | G10: 39364224 | H10: 45278732
A11: =+'2. Vegencia 2027'!B8 -> 2.3 | B11: =+'2. Vegencia 2027'!C8 -> Realizar un Encuentro Regional de Consejeros de Cuenca | C11: =+'2. Vegencia 2027'!E8 -> Sesión | D11: =+'2. Vegencia 2027'!F8 -> 1 | E11: =+'2. Vegencia 2027'!D8 -> 27853805 | F11: =+'2. Vegencia 2027'!G8 -> 27853805 | G11: 16853805 | H11: 11000000
A12: =+'2. Vegencia 2027'!B9 -> 2.4 | B12: =+'2. Vegencia 2027'!C9 -> Ejecutar seis (6) iniciativas de los Consejos de Cuenca que impacten cada uno de los POMCA, (5 liderados por Cornare y 1 liderado por otra CAR) de acuerdo a los lineamientos definidos. | C12: =+'2. Vegencia 2027'!E9 -> Iniciativa | D12: =+'2. Vegencia 2027'!F9 -> 6 | E12: =+'2. Vegencia 2027'!D9 -> 12000000 | F12: =+'2. Vegencia 2027'!G9 -> 72000000 | G12: 72000000 | H12: 0
A13: =+'2. Vegencia 2027'!B10 -> 2.5 | B13: =+'2. Vegencia 2027'!C10 -> Realización de taller de capacitación en ecosistemas de datos | C13: =+'2. Vegencia 2027'!E10 -> Taller | D13: =+'2. Vegencia 2027'!F10 -> 6 | E13: =+'2. Vegencia 2027'!D10 -> 2821431.9 | F13: =+'2. Vegencia 2027'!G10 -> 16928591 | G13: 16928591 | H13: 0
A14: =+'2. Vegencia 2027'!B11 -> 2.6 | B14: =+'2. Vegencia 2027'!C11 -> Reconocimiento de la áreas estratégicas de la cuenca por parte de los Consejeros de Cuenca (5 liderados por Cornare y 1 liderado por otra CAR), con el objetivo de que conozcan el territorio de la cuenca a la que pertenecen y realicen una actividad especifica dentro de la misma, ya sea una jornada de siembra o de limpieza de microcuenca. | C14: =+'2. Vegencia 2027'!E11 -> Recorrido | D14: =+'2. Vegencia 2027'!F11 -> 6 | E14: =+'2. Vegencia 2027'!D11 -> 3227987 | F14: =+'2. Vegencia 2027'!G11 -> 19367922 | G14: 19367922 | H14: 0
A15: Total2027 | F15: =SUM(F9:F14) -> 4.2320306e+08 | G15: =SUM(G9:G14) -> 3.0813295e+08 | H15: =SUM(H9:H14) -> 1.1507011e+08
A16: Gran Total | F16: =+F15+F7 -> 5.4144022e+08 | G16: 379008155 | H16: =+H15+H7 -> 1.6243207e+08

Sheet 1. Vegencia 2026
C2: Resumen ejecución para la vigencia 2026
B5: ÍTEM | C5: Actividades a Desarrollar | D5: Valor Unitario | E5: Unidad | F5: Cantidad | G5: Valor Total
B7: 1.1 | C7: Fortalecimiento a los Consejos de Cuenca, en el marco de la implementación de los POMCAS a través del acompañamientos profesional y asesoría académica para el desempeño de las funciones definidas por la norma | D7: 16599878 | E7: Meses | F7: ='1.1'!E6 -> 2.5 | G7: ='1.1'!H10 -> 41499695
B8: 1.2 | C8: Consolidar el proceso Gobernanza Ambiental, a través de dos sesiones para cada uno de los seis Consejos de Cuencas (5 liderados por Cornare y 1 liderado por otra CAR, en comisión conjunta) | D8: =+'1.2'!K9 -> 2660975.1 | E8: Sesión | F8: 12 | G8: =+D8*F8 -> 31931701
B9: 1.3 | C9: Realizar un Encuentro Regional de Consejeros de Cuenca | D9: =+'1.3'!K12 -> 26549117 | E9: Taller | F9: 1 | G9: =+D9*F9 -> 26549117
B10: 1.4 | C10: Reconocimiento de la áreas estratégicas de la cuenca por parte de los Consejeros de Cuenca (5 liderados por Cornare y 1 liderado por otra CAR), con el objetivo de que conozcan el territorio de la cuenca a la que pertenecen y realicen una actividad especifica dentro de la misma, ya sea una jornada de siembra o de limpieza de microcuenca. | D10: =+'1.4'!J9 -> 3042775.1 | E10: Meses | F10: 6 | G10: =D10*F10 -> 18256651
C11: Total 2026 | G11: =SUM(G7:G10) -> 1.1823716e+08
D18: +

Sheet 1.1
B2: 1.1 Fortalecimiento a los Consejos de Cuenca, en el marco de la implementación de los POMCAS a través del acompañamientos profesional y asesoría académica para el desempeño de las funciones definidas por la norma
L3: =+F7/2779715 -> 1
A5: Ítem | B5: Actividad | C5: Descripción | D5: Unidad | E5: Cantidad | F5: Valor Unitario | G5: % Dicación | H5: Sub total | I5: TOTAL | J5: Valor de referencia
A6: 1.1 | B6: Fortalecimiento a los Consejos de Cuenca, en el marco de la implementación de los POMCAS a través del acompañamientos profesional y asesoría académica para el desempeño de las funciones definidas por la norma | C6: Coordinación Perfil profesional:Profesional en sociología, con experiencia en coordinación, gestión de proyectos y articulación de equipos interdisciplinarios, preferiblemente con experiencia en procesos de participación comunitaria, gobernanza ambiental y acompañamiento a organizaciones sociales y Consejos de Cuenca. Dedicación: 50%. Actividades a desarrollar: Coordinar técnica y administrativamente las actividades previstas para el fortalecimiento y acompañamiento de los seis (6) Consejos de Cuenca liderados por CORNARE. Realizar seguimiento al cumplimiento del plan de trabajo, cronograma, productos y compromisos establecidos para el desarrollo del convenio. Articular y orientar el trabajo del equipo profesional y de apoyo, procurando una adecuada coordinación de las actividades de acompañamiento, asesoría y fortalecimiento de los Consejos de Cuenca. Coordinar la programación y desarrollo de las sesiones, espacios de trabajo, asesorías y demás actividades contempladas en el convenio. Hacer seguimiento a los compromisos adquiridos con los Consejos de Cuenca y promover las acciones necesarias para su cumplimiento. Revisar y validar los documentos, informes, actas, productos y demás soportes generados durante la ejecución de las actividades. Facilitar la articulación entre el equipo interdisciplinario y los representantes de los Consejos de Cuenca. Identificar oportunamente situaciones que puedan afectar el desarrollo de las actividades y proponer acciones de mejora o alternativas de solución. Coordinar el proceso de cierre de la ejecución de las actividades de los Consejos de Cuenca, promoviendo la consolidación de los resultados, aprendizajes, retos y recomendaciones para los nuevos Consejos. Apoyar la elaboración y consolidación de los informes técnicos y administrativos requeridos en el marco del convenio. | D6: Meses | E6: 2.5 | F6: =8005274 -> 8005274 | G6: 0.5 | H6: =+E6*F6*G6 -> 10006592 | I6: =+H6+H7+H8+H9 -> 41499695 | J6: Valor proyectado, se ajustará con propuesta por parte del ESAL
C7: Analista contable: Perfil profesional: Técnico, tecnólogo o estudiante de áreas administrativas, para apoyar procesos de organización, gestión documental, convocatoria y seguimiento de actividades con comunidades y organizaciones sociales Dedicación: 50% Actividades a desarrollar: Brindar apoyo administrativo y operativo en la ejecución del convenio. Organizar, revisar y mantener actualizada la documentación y los soportes de las actividades. Apoyar la convocatoria y comunicación con comunidades y organizaciones. Realizar seguimiento a la programación, asistencia y desarrollo de las actividades. Apoyar la elaboración de actas, registros, informes y demás documentos requeridos. Apoyar la organización y consolidación de la información para el seguimiento y cierre del convenio. | D7: Meses | E7: 2.5 | F7: =2779715 -> 2779715 | G7: 0.5 | H7: =+E7*F7*G7 -> 3474643.8 | J7: Valor proyectado, se ajustará con propuesta por parte del ESAL
C8: Perfil profesional: Profesional en el area social con experiencia en temas psicosociales y trabajo con comunidades, dado el acompañamiento que se debe realizar a los 6 Consejos de Cuenca liderados por Cornare Dedicación: 100%. Actividades a desarrollar: Apoyar el fortalecimiento de cada uno de los Consejos de Cuenca a través del desarrollo de las siguientes actividades: -Gestionar y acompañar el ejercicio de Gobernanza(actividades señaladas en los ítems 1.2, 1.3, y 1.4 para lo cual deberá: -realizar convocatorias, contactar a los miembros de consejo para confirmar asistencias a las sesiones, liderar y coordinar la generación de documentos asociados con las sesiones. -Gestionar solicitudes, aclarar dudas e inquietudes que a través de canales de comunicación creados se puedan presentar por parte de cada uno de los miembros de los consejos. -Acompañar a los consejos en la definición, ejecución y seguimiento de la actividad seleccionada o propuesta comunitaria de los consejos de cuenca, definida en el presente convenio, relacionadas con las iniciativas comunitarias o de los Consejos de Cuenca, en el marco de la implementación de la LINEA ESTRATEGICA 1, denominada Información ambiental, planeación y ordenamiento ambiental del territorio, cambio climático y gestión del riesgo | D8: Mes | E8: 2.5 | F8: 8005274 | G8: 1 | H8: =+E8*F8*G8 -> 20013185 | J8: Salario fijado para profesionales especializados (P.E) para Cornare 2026
C9: Perfil profesional asesor: Profesional en ciencias sociales con experiencia y conocimientos en gobernanza, participación ciudadana, gestión comunitaria y fortalecimiento de organizaciones sociales. Dedicación: 40%. Actividades a desarrollar: Brindar asesoría técnica y académica a los Consejos de Cuenca en materia de gobernanza, participación, organización y gestión colectiva, de acuerdo con las particularidades y necesidades de cada Consejo. Asesorar a los consejeros en la aplicación y apropiación de las actividades desarrolladas durante el proceso de acompañamiento, aportando desde la experticia profesional elementos conceptuales, metodológicos y prácticos para su adecuada implementación. Orientar a los Consejos de Cuenca en la revisión y valoración de las acciones desarrolladas en el marco de las actividades de gobernanza, identificando avances, resultados, dificultades y oportunidades de fortalecimiento. Acompañar técnicamente a los consejeros en el análisis de los procesos de participación, toma de decisiones, comunicación, articulación y relacionamiento desarrollados al interior de cada Consejo. Asesorar la identificación y documentación de buenas prácticas, aprendizajes y experiencias significativas derivadas del ejercicio de gobernanza de cada Consejo de Cuenca. Orientar a los consejeros en la identificación de aspectos susceptibles de mejora y en la formulación de recomendaciones para fortalecer la gestión y gobernanza de los futuros Consejos de Cuenca. | D9: Mes | E9: 2.5 | F9: 8005274 | G9: 0.4 | H9: =+E9*F9*G9 -> 8005274 | J9: Salario fijado para profesionales especializados (P.E) para Cornare 2026
A10: Total | H10: =SUM(H6:H9) -> 41499695

Sheet 1.2
B2: 1.2 Consolidar el proceso Gobernanza Ambienta, a través de dos sesiones para seis Consejos de Cuencas (5 liderados por Cornare y 1 liderado por otra CAR, en comisión conjunta)
A5: Ítem | B5: Actividades a Desarrollar | C5: Descripción | E5: Productos | F5: Unidad Global | G5: Detalle | H5: Unidad | I5: Cantidad | J5: Valor Unitario | K5: valor Sesion | L5: Sesiones | M5: TOTAL
A6: 1.2 | B6: Consolidar el proceso Gobernanza Ambiental, a través de dos sesiones para seis Consejos de Cuencas (5 liderados por Cornare y 1 liderado por otra CAR, en comisión conjunta) | C6: El afianzamiento de la Gobernanza se realizará a través del desarrollo de dos(2) sesiones en cada uno de los 6 consejos de cuenca (para un total global de 12 sesiones) que tendrán el siguiente contenido: Sesión 1. Actualización, seguimiento y ajuste del Plan de Trabajo del Consejo de Cuenca, así como presentación, análisis, priorización y selección de iniciativas comunitarias para su implementación en el marco de la estrategia de Manejo Ambiental Sostenible del POMCA. Sesión 2. Fortalecimiento de capacidades en la temática priorizada por el Consejo de Cuenca, evaluación de avances de la gestión desarrollada, identificación de acciones de mejora, sistematización de lecciones aprendidas y formulación de recomendaciones para el fortalecimiento de la gobernanza en la cuenca. Las actividades se realizarán en parques educativos y espacios institucionales de los cascos urbanos de los municipios vinculados al Consejo de Cuenca, que cuenten con la infraestructura tecnológica y logística requerida. Estos espacios serán facilitados a través de la articulación y acuerdos con los entes territoriales participantes. | D6: Sesión 1 fortalecimiento de 6 consejos de cuenca -Seguimiento al plan de trabajo y la formulación de proyectos -Presentación, discusión y formulación de propuestas para iniciativas del ítem 1.5 | E6: Documento con las transferencias y asesorias en temas de gobernanza del agua y evaluación del proceso participativo | F6: Sesión | G6: Refrigerio 25 Personas (Consejeros de cuenca e invitados) (OPCIÓN 1: Sándwich crudo de jamón, queso, lechuga, tomate; incluye bebida. OPCIÓN 2: Pastel de pollo con bebida) | H6: Refrigerio | I6: 25 | J6: =+F21 -> 15272.003 | K6: =J6*I6 -> 381800.07 | L6: 12 | M6: =+SUM(K6:K8)*L6 -> 31931701
G7: Almuerzo 25 personas (Consejeros de cuenca e invitados) (Almuerzo completo con proteína animal de 120 gr, harina, ensalada, sopa, sobremesa y energético) opción Fiambre completo con bebida. Tanto el empaque como el servicio debe ser en productos biodegradables o en losa | H7: Almuerzo | I7: 25 | J7: 25667 | K7: =J7*I7 -> 641675
G8: Transporte intermunicipal de participantes para asistencia a talleres por cuenca (25 personas), incluyendo desplazamientos de ida y regreso, transbordos y conexiones requeridas desde el municipio de referencia definido para cada cuenca hasta el lugar de realización del taller (en la tabla 2 de la presente hoja de excel 1.2 se muestra la metodologia de calculo del valor) | H8: Sesion | I8: 1 | J8: =+S26 -> 1637500 | K8: =J8*I8 -> 1637500
A9: Total | K9: =SUM(K6:K8) -> 2660975.1 | L9: =L6 -> 12 | M9: =SUM(M6:M7) -> 31931701
B15: Tabla 1. Referencia de precios para servicio de alimentación como apoyo para la realización de las actividades del ítem 1.2 | N15: Tabla 2. Referencia de precios para servicio apoyo Logistico (Transpote) de las actividades del ítem 1.2
O17: Costeo preliminar por cuenca | T17: Metodología de cálculo: Se identifica, para cada cuenca, el municipio que representa el mayor desplazamiento desde el punto de referencia definido. Costo de transporte: Se toma la tarifa vigente del transporte público intermunicipal, incluyendo los transbordos necesarios, y se calcula ida + regreso. Costo total: Se suman los costos de ida y regreso de cada cuenca para obtener el valor total estimado de transporte.
C19: Refrigerios | O19: Cuenca | P19: Municipio de mayor referencia | Q19: Ruta de transporte considerada | R19: Valor ida | S19: Total por taller 25 personas
C20: Contrato de referencia | D20: Valor de referenca | E20: Valor a 2026 | F20: Promedio | H20: Almuerzos | O20: Río Negro | P20: El Peñol | Q20: El Retiro → Medellín → El Peñol | R20: 42000 | S20: =+R20*25 -> 1050000
C21: 229-2023 | D21: 12958.2 | E21: =D21*1.0585 -> 13716.255 | F21: =AVERAGE(E21:E23) -> 15272.003 | H21: Contrato de referencia | I21: Valor de referenca | J21: Valor a 2026 | O21: Samaná Sur | P21: Nariño | Q21: Samaná → Nariño | R21: 53000 | S21: =+R21*25 -> 1325000
C22: 443-2023 | D22: 12325.7 | E22: =D22*1.0585 -> 13046.753 | H22: 816-02025 | I22: 25667 | J22: 25667 | O22: Samaná Norte | P22: San Luis | Q22: San Luis → Medellín / conexión → municipio de referencia | R22: 55000 | S22: =+R22*25 -> 1375000
C23: 128-2024 | D23: 18000 | E23: =D23*1.0585 -> 19053 | O23: Río Nare | P23: Caracolí | Q23: Caracolí → conexión Medellín → San Rafael | R23: 70000 | S23: =+R23*25 -> 1750000
O24: Río Arma | P24: Pensilvania | Q24: Aguadas → Manizales → Pensilvania | R24: 105000 | S24: =+R24*25 -> 2625000
C25: Nota: los valores de contratos de 2023 se multiplicaron por el IPC para 2025 según el Dane (5,58%) para traerlos a valor presente | H25: Nota: Se tomo de referencia el convenio 618-2025, en el cual se realizaron 3 cotizaciones y tiene un valor promedio del mercado | O25: Cocorná y directos al Magdalena Medio | P25: Puerto Triunfo | Q25: Sonsón → Medellín → Puerto Triunfo | R25: 68000 | S25: =+R25*25 -> 1700000
O26: VALOR PROMEDIO | S26: =AVERAGE(S20:S25) -> 1637500
C28: Convenio 229-2023
H30: Convenio 816-2025
C39: Convenio 443-2023
C60: Convenio 128-2024

Sheet 1.3
B2: 1.3 Realizar un Encuentro Regional de Consejeros de Cuenca
A5: Ítem | B5: Actividades a Desarrollar | C5: Descripción | D5: Producto | E5: Detalle | F5: Unidad | G5: Cantidad | H5: Cantidad Global | I5: Valor Unitario | J5: Valo total por actividad | K5: TOTAL
A6: 1.3 | B6: Realizar un Encuentro Regional de Consejeros de Cuenca | C6: El Encuentro Regional de Consejeros de Cuenca, se desarrollará en tres momentos clave para fomentar la colaboración y el aprendizaje entre los participantes. En el *Momento 1, se llevará a cabo un conversatorio donde consejeros y funcionarios de Cornare intercambiarán perspectivas y experiencias sobre la gestión del agua y los retos actuales. En el *Momento 2, se revisarán y discutirán las lecciones aprendidas de los informes de seguimiento a los Planes de Ordenación y Manejo de Cuencas (POMCA) en la jurisdicción, identificando áreas de mejora y buenas prácticas. *Momento 3, consistirá en una ponencia sobre un tema relevante y prioritario elegido por los consejeros, abordando aspectos críticos para la gestión efectiva de las cuencas. Este encuentro busca fortalecer la cooperación y optimizar la gestión del recurso hídrico en la región. El encuentro contara con la participación de 25 personas de cada uno de los 6 consejos de cuenca para un total de 150 personas | D6: Un (1) Documento Relatoría con las intervenciones de cada uno de los Consejos de Cuenca, que recopile las conclusiones de cada uno de los momentos del encuentro regional, y se logre visibilizar las lecciones aprendidas, logros y retos en el desempeño de las funciones del Consejo de Cuenca | E6: Conferencista con experiencia en tematicas de gobernanza del agua: la conferencia debe estar encaminadas hacia los desafíos regionales en la gestión del agua a nivel de cuencas hidrográficas. A través de un enfoque participativo, que aporte a la discución de la importancia de los Planes de Ordenación y Manejo de Cuencas (POMCA), destacando las lecciones aprendidas de los Consejos de cuenca de la región. | F6: Conferencia | G6: 1 | H6: 1 | I6: =P34 -> 1755584.2 | J6: =G6*I6 -> 1755584.2 | K6: =SUM(J6:J11)*H6 -> 26549117
E7: Refrigerio 150 Personas (Sándwich crudo de jamo, queso, lechuga, tomate; incluye bebida) Opción dos: Pastel de pollo con bebida | F7: Refrigerio Mañana | G7: 150 | I7: =+E20 -> 15272.003 | J7: =G7*I7 -> 2290800.4
E8: Almuerzo 150 personas (Almuerzo completo con proteína animal de 120 gr, harina, ensalada, sopa, sobremesa y energético) opción Fiambre completo con bebida. Tanto el empaque como el servicio debe ser en productos biodegradables o en losa | F8: Almuerzo | G8: 150 | I8: =+H21 -> 25667 | J8: =G8*I8 -> 3850050
E9: Refrigerio 150 personas (porción de 150 gramos de fruta de temporada con porción de helado, en empaque biodegradable o comestible) | F9: Refrigerio tarde | G9: 150 | I9: =+E20 -> 15272.003 | J9: =G9*I9 -> 2290800.4
E10: Alquiler de recinto para 150 personas: Se contará con un espacio ubicado en el Valle de San Nicolás, seleccionado por disponer de la infraestructura física y las condiciones logísticas necesarias para el desarrollo adecuado del taller. El recinto deberá contar con capacidad para 150 personas, buena iluminación, silletería, mesas de trabajo, suministro de energía eléctrica, acceso a baterías sanitarias, ventilación adecuada y condiciones de accesibilidad para los participantes. La ubicación en el Valle de San Nicolás garantiza facilidad de acceso y conectividad para la población objetivo del proyecto. | F10: Recinto | G10: 1 | I10: =+Z24 -> 6536882.3 | J10: =G10*I10 -> 6536882.3
E11: Transporte intermunicipal de participantes para asistencia a talleres por cuenca (25 personas), incluyendo desplazamientos de ida y regreso, transbordos y conexiones requeridas desde el municipio de referencia definido para cada cuenca hasta el lugar de realización del taller (en la tabla 2 de la presente hoja de excel 1.3 se muestra la metodologia de calculo del valor) | F11: Trasporte | G11: 1 | I11: =+Q28 -> 9825000 | J11: =+G11*I11 -> 9825000
A12: Total | K12: =SUM(K6:K11) -> 26549117
B17: Tabla 1. Referencia de precios para servicio de alimentación como apoyo para la realización de las actividades del ítem 1,3 | L17: Tabla 2. Referencia de precios para servicio de trasporte consejeros como apoyo para la realización de las actividades del ítem 1.3 | T17: Tabla 4. Referencia de precios para servicio de recinto consejeros como apoyo para la realización de las actividades del ítem 1.3
B18: Refrigerios
B19: Contrato de referencia | C19: Valor de referenca | D19: Valor a 2026 | E19: Promedio | G19: Almuerzos | M19: Costeo preliminar por cuenca | R19: Metodología de cálculo: Se identifica, para cada cuenca, el municipio que representa el mayor desplazamiento desde el punto de referencia definido. Costo de transporte: Se toma la tarifa vigente del transporte público intermunicipal, incluyendo los transbordos necesarios, y se calcula ida + regreso. Costo total: Se suman los costos de ida y regreso de cada cuenca para obtener el valor total estimado de transporte.
B20: 229-2023 | C20: 12958.2 | D20: =C20*1.0585 -> 13716.255 | E20: =AVERAGE(D20:D22) -> 15272.003 | G20: Contrato de referencia | H20: Valor de referenca
B21: 443-2023 | C21: 12325.7 | D21: =C21*1.0585 -> 13046.753 | G21: 816-2025 | H21: 25667 | M21: Cuenca | N21: Municipio de mayor referencia | O21: Ruta de transporte considerada | P21: Costo transporte / visita | Q21: Total por taller 25 personas | U21: Recinto | V21: Se realizó cotización telefónica con el Centro de Convenciones Recinto Quirama de Comfenalco Antioquia y con Corporación Club El Santuario, los cuales son establecimientos que cumplen con las especificaciones técnicas | W21: Lugar | X21: Valores cotizados recinto en 2024 | Y21: Valores cotizados recinto en 2025 | Z21: Valores cotizados recinto en 2026 IPC 5,58
B22: 128-2024 | C22: 18000 | D22: =C22*1.0585 -> 19053 | M22: Río Negro | N22: El Peñol | O22: El Retiro → Medellín → El Peñol | P22: 42000 | Q22: =+P22*25 -> 1050000 | W22: Recinto Quirama | X22: 5964062 | Y22: =X22*1.035 -> 6172804.2 | Z22: =+Y22*105.58% -> 6517246.6
M23: Samaná Sur | N23: Nariño | O23: Samaná → Nariño | P23: 53000 | Q23: =+P23*25 -> 1325000 | W23: Corporación Club El Santuario | X23: 6000000 | Y23: =X23*1.035 -> 6210000 | Z23: =+Y23*105.58% -> 6556518
B24: Nota: los valores de contratos de 2023 se multiplicaron por el IPC para 2025 según el Dane (5,58%) para traerlos a valor presente | G24: Nota: Se tomo de referencia el convenio 618-2025, en el cual se realizaron 3 cotizaciones y tiene un valor promedio del mercado | M24: Samaná Norte | N24: San Luis | O24: San Luis → Medellín / conexión → municipio de referencia | P24: 55000 | Q24: =+P24*25 -> 1375000 | W24: Promedio | X24: =AVERAGE(X22:X23) -> 5982031 | Y24: =AVERAGE(Y22:Y23) -> 6191402.1 | Z24: =AVERAGE(Z22:Z23) -> 6536882.3
M25: Río Nare | N25: Caracolí | O25: Caracolí → conexión Medellín → San Rafael | P25: 70000 | Q25: =+P25*25 -> 1750000
M26: Río Arma | N26: Pensilvania | O26: Aguadas → Manizales → Pensilvania | P26: 105000 | Q26: =+P26*25 -> 2625000
M27: Cocorná y directos al Magdalena Medio | N27: Puerto Triunfo | O27: Sonsón → Medellín → Puerto Triunfo | P27: 68000 | Q27: =+P27*25 -> 1700000
M28: Total | P28: =SUM(P22:P27) -> 393000 | Q28: =SUM(Q22:Q27) -> 9825000 | R28: Total para 150 pesonas. 25 personas x 6 Cuencas
G29: Convenio 816-2025
L30: Tabla 3. Referencia de precios para servicio de conferencia para la realización de las actividades del ítem1.3
M32: Conferencia
M33: Contrato de referencia | N33: Valor de referenca a 2024 | O33: Valor a 2025 | P33: Promedio
C34: Convenio 443-2023 | M34: 443-2023 | N34: 1701099.9 | O34: =N34*1.035 -> 1760638.4 | P34: =AVERAGE(O34:O36) -> 1755584.2
M35: 229-2023 | N35: 1701099.9 | O35: =N35*1.035 -> 1760638.4
M36: 128-2024 | N36: 1686450.1 | O36: =N36*1.035 -> 1745475.9
N37: Convenio 443-2023
C50: Convenio 128-2024 | N50: Convenio 229-2023
C61: Convenio 218-2024

Sheet 1.4
C2: 1.4 Reconocimiento de la áreas estratégicas de la cuenca por parte de los Consejeros de Cuenca (5 liderados por Cornare y 1 liderado por otra CAR), con el objetivo de que conozcan el territorio de la cuenca a la que pertenecen y realicen una actividad especifica dentro de la misma, ya sea una jornada de siembra o de limpieza de microcuenca.
B4: Ítem | C4: Actividades a Desarrollar | D4: Descripción | E4: Detalle | F4: Unidad | G4: Cantidad | H4: Cantidad Global | I4: Valor Unitario | J4: SubT Actividad | K4: TOTAL
B5: 1.4 | C5: Reconocimiento de la áreas estratégicas de la cuenca por parte de los Consejeros de Cuenca (5 liderados por Cornare y 1 liderado por otra CAR), con el objetivo de que conozcan el territorio de la cuenca a la que pertenecen y realicen una actividad especifica dentro de la misma, ya sea una jornada de siembra o de limpieza de microcuenca. | D5: Realizar recorridos de campo con seis Consejos de Cuenca (5 liderados por Cornare y 1 liderado por otras CAR), con el objetivo de que conozcan el territorio de la cuenca a la que pertenecen. Acompañamiento a todas las actividades para el fortalecimiento de los Consejos de Cuenca y la recolección y análisis de la información para el seguimiento a los POMCA -Realización de un recorrido de campo con los Consejeros de Cuenca, con el fin de avanzar en el reconocimiento del territorio de la cuenca, el recorrido deberá ser planeado previamente a través de las sesiones ordinarias del consejo de cuenca -Capacitacion en el manejo de la caja de herramientas de educación ambiental por Consejo de Cuenca (6) (material que ya hace parte de la dotación del Consejo), esta capacitación se realizará durante el recorrido Para el desarrollo de estas actividades, se deberá suministrar: refrigerios, almuerzos, transporte | E5: Refrigerio 25 Personas (Consejeros de cuenca e invitados) (Sándwich crudo de jamo, queso, lechuga, tomate; incluye bebida) Opción dos: Pastel de pollo con bebida | F5: Refrigerio | G5: 25 | H5: 6 | I5: =+F14 -> 15272.003 | J5: =+I5*G5 -> 381800.07 | K5: =SUM(J5:J8)*H5 -> 18256651
E6: Almuerzo 25 personas (Consejeros de cuenca e invitados) (Almuerzo completo con proteína animal de 120 gr, harina, ensalada, sopa, sobremesa y energético) opción Fiambre completo con bebida. Tanto el empaque como el servicio debe ser en productos biodegradables o en losa | F6: Almuerzo | G6: 25 | I6: =+I15 -> 25667 | J6: =+I6*G6 -> 641675
E7: Refrigerio 25 personas (Consejeros de cuenca e invitados) (porción de 150 gramos de fruta de temporada con porción de helado, en empaque biodegradable o comestible) | F7: Refrigerio tarde | G7: 25 | I7: =+F14 -> 15272.003 | J7: =+I7*G7 -> 381800.07
E8: Transporte intermunicipal de participantes para asistencia a talleres por cuenca (25 personas), incluyendo desplazamientos de ida y regreso, transbordos y conexiones requeridas desde el municipio de referencia definido para cada cuenca hasta el lugar de realización del taller(en la tabla 2 de la presente hoja de excel 1.4 se muestra la metodologia de calculo del valor) | F8: Transporte | G8: 1 | I8: =+R22 -> 1637500 | J8: =+I8*G8 -> 1637500
B9: Total | J9: =SUM(J5:J8) -> 3042775.1 | K9: =J9*H5 -> 18256651
C11: Tabla 1. Referencia de precios para servicio de alimentación como apoyo para la realización de las actividades del ítem 1,3 | M11: Tabla 2. Referencia de precios para servicio de trasporte consejeros como apoyo para la realización de las actividades del ítem 1.3
C12: Refrigerios
C13: Contrato de referencia | D13: Valor de referenca | E13: Valor a 2026 | F13: Promedio | H13: Almuerzos | N13: Costeo preliminar por cuenca | S13: Metodología de cálculo: Se identifica, para cada cuenca, el municipio que representa el mayor desplazamiento desde el punto de referencia definido. Costo de transporte: Se toma la tarifa vigente del transporte público intermunicipal, incluyendo los transbordos necesarios, y se calcula ida + regreso. Costo total: Se suman los costos de ida y regreso de cada cuenca para obtener el valor total estimado de transporte.
C14: 229-2023 | D14: 12958.2 | E14: =D14*1.0585 -> 13716.255 | F14: =AVERAGE(E14:E16) -> 15272.003 | H14: Contrato de referencia | I14: Valor de referenca
C15: 443-2023 | D15: 12325.7 | E15: =D15*1.0585 -> 13046.753 | H15: 816-2025 | I15: 25667 | N15: Cuenca | O15: Municipio de mayor referencia | P15: Ruta de transporte considerada | Q15: Costo transporte / visita | R15: Total por taller 25 personas
C16: 128-2024 | D16: 18000 | E16: =D16*1.0585 -> 19053 | N16: Río Negro | O16: El Peñol | P16: El Retiro → Medellín → El Peñol | Q16: 42000 | R16: =+Q16*25 -> 1050000
N17: Samaná Sur | O17: Nariño | P17: Samaná → Nariño | Q17: 53000 | R17: =+Q17*25 -> 1325000
C18: Nota: los valores de contratos de 2023 se multiplicaron por el IPC para 2025 según el Dane (5,58%) para traerlos a valor presente | H18: Nota: Se tomo de referencia el convenio 618-2025, en el cual se realizaron 3 cotizaciones y tiene un valor promedio del mercado | N18: Samaná Norte | O18: San Luis | P18: San Luis → Medellín / conexión → municipio de referencia | Q18: 55000 | R18: =+Q18*25 -> 1375000
N19: Río Nare | O19: Caracolí | P19: Caracolí → conexión Medellín → San Rafael | Q19: 70000 | R19: =+Q19*25 -> 1750000
N20: Río Arma | O20: Pensilvania | P20: Aguadas → Manizales → Pensilvania | Q20: 105000 | R20: =+Q20*25 -> 2625000
N21: Cocorná y directos al Magdalena Medio | O21: Puerto Triunfo | P21: Sonsón → Medellín → Puerto Triunfo | Q21: 68000 | R21: =+Q21*25 -> 1700000
N22: Valor promedio por sesión para las 6 Cuencas | R22: =AVERAGE(R16:R21) -> 1637500
H23: Convenio 816-2025
D28: Convenio 443-2023
D44: Convenio 128-2024
D55: Convenio 218-2024

Sheet 2. Vegencia 2027
C2: Resumen ejecución para la vigencia 2027
B4: ÍTEM | C4: Actividades a Desarrollar | D4: Valor Unitario | E4: Unidad | F4: Cantidad | G4: Valor Total
B6: 2.1 | C6: Fortalecimiento a los Consejos de Cuenca, en el marco de la implementación de los POMCAS a través del acompañamientos profesional y asesoría académica para el desempeño de las funciones definidas por la norma | D6: =+'2.1'!I10/11.5 -> 17600851 | E6: Meses | F6: 11.5 | G6: =+D6*F6 -> 2.0240978e+08 | H6: Nota: los valores de 2027, se les aumento el IPC proyectado de 6,03%
B7: 2.2 | C7: Consolidar el proceso Gobernanza Ambiental, a través de cinco sesiones para cada uno de los seis Consejos de Cuencas (5 liderados por Cornare y 1 liderado por otra CAR, en comisión conjunta) | D7: =+'2.2'!L10 -> 2821431.9 | E7: Sesión | F7: 30 | G7: =D7*F7 -> 84642956
B8: 2.3 | C8: Realizar un Encuentro Regional de Consejeros de Cuenca | D8: =+'2.3'!K11 -> 27853805 | E8: Sesión | F8: 1 | G8: =D8*F8 -> 27853805
B9: 2.4 | C9: Ejecutar seis (6) iniciativas de los Consejos de Cuenca que impacten cada uno de los POMCA, (5 liderados por Cornare y 1 liderado por otra CAR) de acuerdo a los lineamientos definidos. | D9: ='2.4'!H6 -> 12000000 | E9: Iniciativa | F9: 6 | G9: =D9*F9 -> 72000000
B10: 2.5 | C10: Realización de taller de capacitación en ecosistemas de datos | D10: =+'2.5'!I9 -> 2821431.9 | E10: Taller | F10: 6 | G10: =D10*F10 -> 16928591
B11: 2.6 | C11: Reconocimiento de la áreas estratégicas de la cuenca por parte de los Consejeros de Cuenca (5 liderados por Cornare y 1 liderado por otra CAR), con el objetivo de que conozcan el territorio de la cuenca a la que pertenecen y realicen una actividad especifica dentro de la misma, ya sea una jornada de siembra o de limpieza de microcuenca. | D11: =+'2.6'!J10 -> 3227987 | E11: Recorrido | F11: 6 | G11: =D11*F11 -> 19367922
C12: Total 2027 | G12: =SUM(G6:G11) -> 4.2320306e+08

Sheet 2.1
C2: 2.1 Fortalecimiento a los Consejos de Cuenca, en el marco de la implementación de los POMCAS a través del acompañamientos profesional y asesoría académica para el desempeño de las funciones definidas por la norma
B5: Ítem | C5: Actividad | D5: Descripción | E5: Unidad | F5: Cantidad | G5: Valor Unitario (valor de referencia por 6,03% ipc) | H5: % Dicación | I5: Sub total | J5: TOTAL | K5: Valor de referencia
B6: 1.1 | C6: Fortalecimiento a los Consejos de Cuenca, en el marco de la implementación de los POMCAS a través del acompañamientos profesional y asesoría académica para el desempeño de las funciones definidas por la norma | D6: Coordinación Perfil profesional:Profesional en sociología, con experiencia en coordinación, gestión de proyectos y articulación de equipos interdisciplinarios, preferiblemente con experiencia en procesos de participación comunitaria, gobernanza ambiental y acompañamiento a organizaciones sociales y Consejos de Cuenca. Dedicación: 50%. Actividades a desarrollar: Coordinar técnica y administrativamente las actividades previstas para el fortalecimiento y acompañamiento de los seis (6) Consejos de Cuenca liderados por CORNARE. Realizar seguimiento al cumplimiento del plan de trabajo, cronograma, productos y compromisos establecidos para el desarrollo del convenio. Articular y orientar el trabajo del equipo profesional y de apoyo, procurando una adecuada coordinación de las actividades de acompañamiento, asesoría y fortalecimiento de los Consejos de Cuenca. Coordinar la programación y desarrollo de las sesiones, espacios de trabajo, asesorías y demás actividades contempladas en el convenio. Hacer seguimiento a los compromisos adquiridos con los Consejos de Cuenca y promover las acciones necesarias para su cumplimiento. Revisar y validar los documentos, informes, actas, productos y demás soportes generados durante la ejecución de las actividades. Facilitar la articulación entre el equipo interdisciplinario y los representantes de los Consejos de Cuenca. Identificar oportunamente situaciones que puedan afectar el desarrollo de las actividades y proponer acciones de mejora o alternativas de solución. Coordinar el proceso de cierre de la ejecución de las actividades de los Consejos de Cuenca, promoviendo la consolidación de los resultados, aprendizajes, retos y recomendaciones para los nuevos Consejos. Apoyar la elaboración y consolidación de los informes técnicos y administrativos requeridos en el marco del convenio. | E6: Meses | F6: 11.5 | G6: =8005274*1.0603 -> 8487992 | H6: 0.5 | I6: =+F6*G6*H6 -> 48805954 | J6: =+I6+I7+I8+I9 -> 2.0240978e+08 | K6: Valor proyectado, se ajustará con propuesta por parte del ESAL, se multiplico por el IPC Proyectado para el 2027 de 6,03%
D7: Analista contable: Perfil profesional: Técnico, tecnólogo o estudiante de áreas administrativas, para apoyar procesos de organización, gestión documental, convocatoria y seguimiento de actividades con comunidades y organizaciones sociales Dedicación: 50% Actividades a desarrollar: Brindar apoyo administrativo y operativo en la ejecución del convenio. Organizar, revisar y mantener actualizada la documentación y los soportes de las actividades. Apoyar la convocatoria y comunicación con comunidades y organizaciones. Realizar seguimiento a la programación, asistencia y desarrollo de las actividades. Apoyar la elaboración de actas, registros, informes y demás documentos requeridos. Apoyar la organización y consolidación de la información para el seguimiento y cierre del convenio. | E7: Meses | F7: 11.5 | G7: =2779715*1.0603 -> 2947331.8 | H7: 0.5 | I7: =+F7*G7*H7 -> 16947158 | K7: Valor proyectado, se ajustará con propuesta por parte del ESAL, se multiplico por el IPC Proyectado para el 2027 de 6,03%
D8: Perfil profesional: Profesional en el area social con experiencia en temas psicosociales y trabajo con comunidades, dado el acompañamiento que se debe realizar a los 6 Consejos de Cuenca liderados por Cornare Dedicación: 100%. Actividades a desarrollar: Apoyar el fortalecimiento de cada uno de los Consejos de Cuenca a través del desarrollo de las siguientes actividades: -Gestionar y acompañar el ejercicio de Gobernanza(actividades señaladas en los ítems 1.2, 1.3, y 1.4 para lo cual deberá: -realizar convocatorias, contactar a los miembros de consejo para confirmar asistencias a las sesiones, liderar y coordinar la generación de documentos asociados con las sesiones. -Gestionar solicitudes, aclarar dudas e inquietudes que a través de canales de comunicación creados se puedan presentar por parte de cada uno de los miembros de los consejos. -Acompañar a los consejos en la definición, ejecución y seguimiento de la actividad seleccionada o propuesta comunitaria de los consejos de cuenca, definida en el presente convenio, relacionadas con las iniciativas comunitarias o de los Consejos de Cuenca, en el marco de la implementación de la LINEA ESTRATEGICA 1, denominada Información ambiental, planeación y ordenamiento ambiental del territorio, cambio climático y gestión del riesgo | E8: Mes | F8: 11.5 | G8: =8005274*1.0603 -> 8487992 | H8: 1 | I8: =+F8*G8*H8 -> 97611908 | K8: Valor proyectado, se ajustará con propuesta por parte del ESAL, se multiplico por el IPC Proyectado para el 2027 de 6,03%
D9: Perfil profesional asesor: Profesional en ciencias sociales con experiencia y conocimientos en gobernanza, participación ciudadana, gestión comunitaria y fortalecimiento de organizaciones sociales. Dedicación: 40%. Actividades a desarrollar: Brindar asesoría técnica y académica a los Consejos de Cuenca en materia de gobernanza, participación, organización y gestión colectiva, de acuerdo con las particularidades y necesidades de cada Consejo. Asesorar a los consejeros en la aplicación y apropiación de las actividades desarrolladas durante el proceso de acompañamiento, aportando desde la experticia profesional elementos conceptuales, metodológicos y prácticos para su adecuada implementación. Orientar a los Consejos de Cuenca en la revisión y valoración de las acciones desarrolladas en el marco de las actividades de gobernanza, identificando avances, resultados, dificultades y oportunidades de fortalecimiento. Acompañar técnicamente a los consejeros en el análisis de los procesos de participación, toma de decisiones, comunicación, articulación y relacionamiento desarrollados al interior de cada Consejo. Asesorar la identificación y documentación de buenas prácticas, aprendizajes y experiencias significativas derivadas del ejercicio de gobernanza de cada Consejo de Cuenca. Orientar a los consejeros en la identificación de aspectos susceptibles de mejora y en la formulación de recomendaciones para fortalecer la gestión y gobernanza de los futuros Consejos de Cuenca. | E9: Mes | F9: 11.5 | G9: =8005274*1.0603 -> 8487992 | H9: 0.4 | I9: =+F9*G9*H9 -> 39044763 | K9: Valor proyectado, se ajustará con propuesta por parte del ESAL, se multiplico por el IPC Proyectado para el 2027 de 6,03%
B10: Total | I10: =SUM(I6:I9) -> 2.0240978e+08

Sheet 2.2
B2: 2.2 Consolidar el proceso Gobernanza Ambienta, a través de tres sesiones para seis Consejos de Cuencas (5 liderados por Cornare y 1 liderado por otra CAR, en comisión conjunta)
A6: Ítem | B6: Actividades a Desarrollar | C6: Descripción | E6: Productos | F6: Unidad Global | G6: Detalle | H6: Unidad | I6: Cantidad | J6: Sesiones | K6: Valor Unitario | L6: valor Sesion | M6: TOTAL | N6: Nota: los valores de 2027, se les aumento el IPC proyectado de 6,03%
A7: 2.2 | B7: Consolidar el proceso Gobernanza Ambiental, a través de cinco sesiones para cada uno de los seis Consejos de Cuencas (5 liderados por Cornare y 1 liderado por otra CAR, en comisión conjunta) | C7: El afianzamiento de la Gobernanza se realizará a través del desarrollo de cinco (5) sesión para cada uno de los 6 consejos de cuenca, para un total gobal de la actividad de 30 sesiones, que tendrán el siguiente contenido: Sesión 1. Actualización, seguimiento y ajuste del Plan de Trabajo del Consejo de Cuenca para la vigencia 2027. Sesión 2. Presentación, análisis, priorización y selección de iniciativas comunitarias para la implementación de acciones de manejo ambiental sostenible en el marco del POMCA. Sesión 3. Fortalecimiento de capacidades y formación en la temática priorizada por el Consejo de Cuenca para el ejercicio de la gobernanza ambiental. Sesión 4. Evaluación de resultados, balance de gestión y formulación de acciones de mejora para el fortalecimiento del Consejo de Cuenca. Sesión 5. Seguimiento a compromisos, intercambio de experiencias y fortalecimiento de la participación para la consolidación de la gobernanza en la cuenca. Para el desarrollo de estas actividades, se deberá suministrar: refrigerios, almuerzos, el espacio donde se realiza la sesión, estación de café, equipos de cómputo y desplazamientos a los consejeros de su sede de residencia al sitio donde se va a llevar a cabo la sesión. Las actividades se realizarán en parques educativos y espacios institucionales de los cascos urbanos de los municipios vinculados al Consejo de Cuenca, que cuenten con la infraestructura tecnológica y logística requerida. Estos espacios serán facilitados a través de la articulación y acuerdos con los entes territoriales participantes. | E7: Documento con las transferencias y asesorias en temas de gobernanza del agua y evaluación del proceso participativo | F7: Sesión | G7: Refrigerio 25 Personas (Consejeros de cuenca e invitados) (Sándwich crudo de jamón, queso, lechuga, tomate; incluye bebida) Opción dos: Pastel de pollo con bebida | H7: Refrigerio | I7: 25 | J7: 30 | K7: =+F21 -> 16192.904 | L7: =K7*I7 -> 404822.61 | M7: =+SUM(L7:L9)*J7 -> 84642956
G8: Almuerzo 25personas (Consejeros de cuenca e invitados) (Almuerzo completo con proteína animal de 120 gr, harina, ensalada, sopa, sobremesa y energético) opción Fiambre completo con bebida. Tanto el empaque como el servicio debe ser en productos biodegradables o en losa | H8: Almuerzo | I8: 25 | K8: =+J22 -> 27214.72 | L8: =K8*I8 -> 680368
G9: Transporte intermunicipal de participantes para asistencia a talleres por cuenca(25 persomas), incluyendo desplazamientos de ida y regreso, transbordos y conexiones requeridas desde el municipio de referencia definido para cada cuenca hasta el lugar de realización del taller (en la Tabla 2 de la presente hoja de excel 2.2. se muestra la metodologia de calculo del valor) | H9: Sesion | I9: 1 | K9: =+T27 -> 1736241.2 | L9: =K9*I9 -> 1736241.2
A10: Total | J10: =J7 -> 30 | L10: =SUM(L7:L9) -> 2821431.9 | M10: =SUM(M7:M8) -> 84642956
B15: Tabla 1. Referencia de precios para servicio de alimentación como apoyo para la realización de las actividades del ítem 2.2 | N15: Tabla 2. Referencia de precios para servicio apoyo Logistico (Transpote) de las actividades del ítem 2.2
O18: Costeo preliminar por cuenca | U18: Metodología de cálculo: Se identifica, para cada cuenca, el municipio que representa el mayor desplazamiento desde el punto de referencia definido. Costo de transporte: Se toma la tarifa vigente del transporte público intermunicipal, incluyendo los transbordos necesarios, y se calcula ida + regreso. Costo total: Se suman los costos de ida y regreso de cada cuenca para obtener el valor total estimado de transporte.
C19: Refrigerios
C20: Contrato de referencia | D20: Valor de referenca | E20: Valor a 2027 | F20: Promedio | H20: Almuerzos | O20: Cuenca | P20: Municipio de mayor referencia | Q20: Ruta de transporte considerada | R20: Valor transporte | S20: Valor ida - regreso por IPC de 6,03% | T20: Total por taller 25 personas
C21: 229-2023 | D21: 12958.2 | E21: =D21*1.0585 -> 13716.255 | F21: =AVERAGE(E21:E23)*1.0603 -> 16192.904 | H21: Contrato de referencia | I21: Valor de referenca | J21: Valor a 2027 | O21: Río Negro | P21: El Peñol | Q21: El Retiro → Medellín → El Peñol | R21: 42000 | S21: =+R21*1.0603 -> 44532.6 | T21: =+S21*25 -> 1113315
C22: 443-2023 | D22: 12325.7 | E22: =D22*1.0585 -> 13046.753 | H22: 816-2025 | I22: 25667 | J22: =+I22*1.0603 -> 27214.72 | O22: Samaná Sur | P22: Nariño | Q22: Samaná → Nariño | R22: 53000 | S22: =+R22*1.0603 -> 56195.9 | T22: =+S22*25 -> 1404897.5
C23: 128-2024 | D23: 18000 | E23: =D23*1.0585 -> 19053 | O23: Samaná Norte | P23: San Luis | Q23: San Luis → Medellín / conexión → municipio de referencia | R23: 55000 | S23: =+R23*1.0603 -> 58316.5 | T23: =+S23*25 -> 1457912.5
O24: Río Nare | P24: Caracolí | Q24: Caracolí → conexión Medellín → San Rafael | R24: 70000 | S24: =+R24*1.0603 -> 74221 | T24: =+S24*25 -> 1855525
C25: Nota: los valores de contratos de 2023 se multiplicaron por el IPC para 2026 según el Dane (6,03%) para traerlos a valor presente | H25: Nota: Se tomo de referencia el convenio 618-2025, en el cual se realizaron 3 cotizaciones y tiene un valor promedio del mercado Y | O25: Río Arma | P25: Pensilvania | Q25: Aguadas → Manizales → Pensilvania | R25: 105000 | S25: =+R25*1.0603 -> 111331.5 | T25: =+S25*25 -> 2783287.5
O26: Cocorná y directos al Magdalena Medio | P26: Puerto Triunfo | Q26: Sonsón → Medellín → Puerto Triunfo | R26: 68000 | S26: =+R26*1.0603 -> 72100.4 | T26: =+S26*25 -> 1802510
O27: VALOR PROMEDIO | T27: =AVERAGE(T21:T26) -> 1736241.2
C28: Convenio 229-2023
H30: Convenio 816-2025
C39: Convenio 443-2023
C60: Convenio 128-2024

Sheet 2.4
B2: 2.6 Ejecutar seis (6) iniciativas de los Consejos de Cuenca que impacten cada uno de los POMCA, (5 liderados por Cornare y 1 liderado por otra CAR) de acuerdo a los lineamientos definidos.
K3: Nota: se adjuntan lineamientos para la presentación de iniciativas ENLACE:
A5: Ítem | B5: Actividades a Desarrollar | C5: Descripción | D5: Productos | E5: Unidad | F5: Cantidad | G5: Cantidad Global | H5: Valor Unitario | I5: TOTAL | K5: https://drive.google.com/file/d/1GqrezZIAnseBJ8MUTDWqo85KMXptcTEh/view?usp=sharing
A6: 2.6 | B6: Ejecutar seis (6) iniciativas de los Consejos de Cuenca que impacten cada uno de los POMCA, (5 liderados por Cornare y 1 liderado por otra CAR) de acuerdo a los lineamientos definidos. | C6: Ejecutar seis iniciativas comunitarios o de los Consejos de Cuenca que impacten de cada uno de los POMCA, los cuales deberán ser priorizados y elegidos por los Consejos de Cuenca (5 liderados por Cornare y 1 liderado por otra CAR). -Priorización y elección de iniciativas por POMCA, por parte de los Consejos de Cuenca. -Elaboración de los contratos de los proyectos. -Seguimiento a la implementación de los proyectos. Informe de cada proyecto (la ejecución total de cada proyecto y su recibo a satisfacción). -Criterios de selección: Pertinencia al contexto del POMCA, número de personas beneficiadas, inclusión de género, creatividad e innovación, el impacto social y ambiental, coherencia entre presupuesto y actividades, y viabilidad de ejecución.Cada criterio tiene un puntaje específico, sumando un total de 100 puntos, estos se especidican en los Lineamientos para la presentación de iniciativas -Tiempo ejecución: 10 meses, no debe ser superior a la vigencia del presente contrato -Temáticas: Turismo de Naturaleza y Científico, enfocado en señalización y senderos; Reciclaje y Usos Alternativos, que transforma materiales reciclables en productos; Agroecología, que promueve ingresos sostenibles como apicultura y plantas medicinales; Incentivo para la Restauración, ofreciendo incentivos por prácticas de restauración; Compostaje para convertir residuos orgánicos en abono; Conservación de Especies Amenazadas, enfocada en viveros y monitoreo; Rescate de Saberes Ancestrales para fortalecer el vínculo con la naturaleza; y Proyectos Educativos como foros y simposios. -Valor :El valor del proyecto se definió tomando como referencia la ejecución de iniciativas comunitarias desarrolladas en vigencias anteriores, considerando los montos requeridos para la implementación de proyectos de características similares en los diferentes POMCA. La asignación presupuestal busca garantizar la viabilidad técnica y financiera de las iniciativas priorizadas por los Consejos de Cuenca, promoviendo la participación incidente de los consejeros en la gestión ambiental del territorio y fortaleciendo su papel como actores clave en la implementación de los instrumentos de planificación de las cuencas. | D6: Informe consolidación y cartografía asociada a las iniciativas elegidas de acuerdo al documento de Lineamientos iniciativas comunitarias - Consejos de Cuenca | E6: Inicitivas | F6: 6 | G6: 6 | H6: 12000000 | I6: =SUM(G6)*H6 -> 72000000
A7: Total | I7: =SUM(I6:I6) -> 72000000

Sheet 2.3
B1: 2.3 Realizar un Encuentro Regional de Consejeros de Cuenca
A4: Ítem | B4: Actividades a Desarrollar | C4: Descripción | D4: Producto | E4: Detalle | F4: Unidad | G4: Cantidad | H4: Cantidad Global | I4: Valor Unitario | J4: Valo total por actividad | K4: TOTAL | L4: Nota: los valores de 2027, se les aumento el IPC proyectado de 6,03%
A5: 2.3 | B5: Realizar un Encuentro Regional de Consejeros de Cuenca | C5: El Encuentro Regional de Consejeros de Cuenca, se desarrollará en tres momentos clave para fomentar la colaboración y el aprendizaje entre los participantes. En el *Momento 1, se llevará a cabo un conversatorio donde consejeros y funcionarios de Cornare intercambiarán perspectivas y experiencias sobre la gestión del agua y los retos actuales. En el *Momento 2, se revisarán y discutirán las lecciones aprendidas de los informes de seguimiento a los Planes de Ordenación y Manejo de Cuencas (POMCA) en la jurisdicción, identificando áreas de mejora y buenas prácticas. *Momento 3, consistirá en una ponencia sobre un tema relevante y prioritario elegido por los consejeros, abordando aspectos críticos para la gestión efectiva de las cuencas. Este encuentro busca fortalecer la cooperación y optimizar la gestión del recurso hídrico en la región. El encuentro contara con la participación de 20 personas de cada uno de los 6 consejos de cuenca para un total de 120 personas | D5: Un (1) Documento Relatoría con las intervenciones de cada uno de los Consejos de Cuenca, que recopile las conclusiones de cada uno de los momentos del encuentro regional, y se logre visibilizar las lecciones aprendidas, logros y retos en el desempeño de las funciones del Consejo de Cuenca | E5: Conferencista con experiencia en tematicas de gobernanza del agua: la conferencia debe estar encaminadas hacia los desafíos regionales en la gestión del agua a nivel de cuencas hidrográficas. A través de un enfoque participativo, que aporte a la discución de la importancia de los Planes de Ordenación y Manejo de Cuencas (POMCA), destacando las lecciones aprendidas de los Consejos de cuenca de la región. | F5: Conferencia | G5: 1 | H5: 1 | I5: =+Q33 -> 1861445.9 | J5: =G5*I5 -> 1861445.9 | K5: =SUM(J5:J10)*H5 -> 27853805
E6: Refrigerio 150 Personas (Sándwich crudo de jamo, queso, lechuga, tomate; incluye bebida) Opción dos: Pastel de pollo con bebida | F6: Refrigerio Mañana | G6: 150 | I6: =+E19 -> 16192.904 | J6: =G6*I6 -> 2428935.7
E7: Almuerzo 150 personas (Almuerzo completo con proteína animal de 120 gr, harina, ensalada, sopa, sobremesa y energético) opción Fiambre completo con bebida. Tanto el empaque como el servicio debe ser en productos biodegradables o en losa | F7: Almuerzo | G7: 150 | I7: =+I20 -> 27214.72 | J7: =G7*I7 -> 4082208
E8: Refrigerio 150 personas (porción de 150 gramos de fruta de temporada con porción de helado, en empaque biodegradable o comestible) | F8: Refrigerio tarde | G8: 150 | I8: =+E19 -> 16192.904 | J8: =G8*I8 -> 2428935.7
E9: Alquiler de recinto para 150 personas: Se contará con un espacio ubicado en el Valle de San Nicolás, seleccionado por disponer de la infraestructura física y las condiciones logísticas necesarias para el desarrollo adecuado del taller. El recinto deberá contar con capacidad para 150 personas, buena iluminación, silletería, mesas de trabajo, suministro de energía eléctrica, acceso a baterías sanitarias, ventilación adecuada y condiciones de accesibilidad para los participantes. La ubicación en el Valle de San Nicolás garantiza facilidad de acceso y conectividad para la población objetivo del proyecto. | F9: Recinto | G9: 1 | I9: =+AB23 -> 6931056.3 | J9: =G9*I9 -> 6931056.3
E10: Transporte intermunicipal de participantes para asistencia a talleres por cuenca (25 personas), incluyendo desplazamientos de ida y regreso, transbordos y conexiones requeridas desde el municipio de referencia definido para cada cuenca hasta el lugar de realización del taller(en la tabla 2 de la presente hoja de excel 2.3 se muestra la metodologia de calculo del valor) | F10: Trasporte | G10: 1 | I10: =+S27 -> 10121224 | J10: =+G10*I10 -> 10121224
A11: Total | K11: =SUM(K5:K10) -> 27853805
B16: Tabla 1. Referencia de precios para servicio de alimentación como apoyo para la realización de las actividades del ítem 2.3 | L16: Tabla 2. Referencia de precios para servicio de trasporte consejeros como apoyo para la realización de las actividades del ítem 2.3 | V16: Tabla 3. Referencia de precios para servicio de recinto consejeros como apoyo para la realización de las actividades del ítem 2.3
B17: Refrigerios
B18: Contrato de referencia | C18: Valor de referenca | D18: Valor a 2026 | E18: Promedio + ipc 6,03% para 2027 | G18: Almuerzos | M18: Costeo preliminar por cuenca | T18: Metodología de cálculo: Se identifica, para cada cuenca, el municipio que representa el mayor desplazamiento desde el punto de referencia definido. Costo de transporte: Se toma la tarifa vigente del transporte público intermunicipal, incluyendo los transbordos necesarios, y se calcula ida + regreso. Costo total: Se suman los costos de ida y regreso de cada cuenca para obtener el valor total estimado de transporte.
B19: 229-2023 | C19: 12958.2 | D19: =C19*1.0585 -> 13716.255 | E19: =AVERAGE(D19:D21)*1.0603 -> 16192.904 | G19: Contrato de referencia | H19: Valor de referenca | I19: Valor2027 (aumento del 6,03%
B20: 443-2023 | C20: 12325.7 | D20: =C20*1.0585 -> 13046.753 | G20: 816-2025 | H20: 25667 | I20: =+H20*1.0603 -> 27214.72 | M20: Cuenca | N20: Municipio de mayor referencia | O20: Ruta de transporte considerada | P20: Valor | Q20: Valor rcon aumento del IPC del 2027 de 6,03% | R20: Costo transporte / visita | S20: Total por taller 25 personas | W20: Recinto | X20: Se realizó cotización telefónica con el Centro de Convenciones Recinto Quirama de Comfenalco Antioquia y con Corporación Club El Santuario, los cuales son establecimientos que cumplen con las especificaciones técnicas | Y20: Lugar | Z20: Valores cotizados recinto en 2025 | AA20: Valores cotizados recinto en 2026 | AB20: Valores cotizados recinto en 2027 IPC 6,03
B21: 128-2024 | C21: 18000 | D21: =C21*1.0585 -> 19053 | M21: Río Negro | N21: El Peñol | O21: El Retiro → Medellín → El Peñol | P21: 42000 | Q21: =+P21*1.0603 -> 44532.6 | R21: =AVERAGE(P21:Q21) -> 43266.3 | S21: =+R21*25 -> 1081657.5 | Y21: Recinto Quirama | Z21: 6172804.2 | AA21: 6517246.6 | AB21: =+AA21*1.0603 -> 6910236.6
M22: Samaná Sur | N22: Nariño | O22: Samaná → Nariño | P22: 53000 | Q22: =+P22*1.0603 -> 56195.9 | R22: =AVERAGE(P22:Q22) -> 54597.95 | S22: =+R22*25 -> 1364948.8 | Y22: Corporación Club El Santuario | Z22: 6210000 | AA22: 6556518 | AB22: =+AA22*1.0603 -> 6951876
B23: Nota: los valores de contratos de 2023 se multiplicaron por el IPC para 2025 según el Dane (5,58%) para traerlos a valor presente | G23: Nota: Se tomo de referencia el convenio816-2025, en el cual se realizaron 3 cotizaciones y tiene un valor promedio del mercado | M23: Samaná Norte | N23: San Luis | O23: San Luis → Medellín / conexión → municipio de referencia | P23: 55000 | Q23: =+P23*1.0603 -> 58316.5 | R23: =AVERAGE(P23:Q23) -> 56658.25 | S23: =+R23*25 -> 1416456.2 | Y23: Promedio | Z23: 6191402.1 | AA23: 6536882.3 | AB23: =AVERAGE(AB21:AB22) -> 6931056.3
M24: Río Nare | N24: Caracolí | O24: Caracolí → conexión Medellín → San Rafael | P24: 70000 | Q24: =+P24*1.0603 -> 74221 | R24: =AVERAGE(P24:Q24) -> 72110.5 | S24: =+R24*25 -> 1802762.5
M25: Río Arma | N25: Pensilvania | O25: Aguadas → Manizales → Pensilvania | P25: 105000 | Q25: =+P25*1.0603 -> 111331.5 | R25: =AVERAGE(P25:Q25) -> 108165.75 | S25: =+R25*25 -> 2704143.8
G26: Convenio 816-2025 | M26: Cocorná y directos al Magdalena Medio | N26: Puerto Triunfo | O26: Sonsón → Medellín → Puerto Triunfo | P26: 68000 | Q26: =+P26*1.0603 -> 72100.4 | R26: =AVERAGE(P26:Q26) -> 70050.2 | S26: =+R26*25 -> 1751255
M27: Total | R27: =SUM(R21:R26) -> 404848.95 | S27: =SUM(S21:S26) -> 10121224 | T27: Total para 150 pesonas. 25 personas x 6 Cuencas
L29: Tabla 3. Referencia de precios para servicio de conferencia para la realización de las actividades del ítem 2.3
M31: Conferencia
M32: Contrato de referencia | N32: Valor de referenca a 2026 | O32: Valor a 2026 | P32: Promedio | Q32: Aumento del IPC 6,03% PARA 2027
C33: Convenio 443-2023 | M33: 443-2023 | N33: 1701099.9 | O33: =N33*1.035 -> 1760638.4 | P33: =AVERAGE(O33:O35) -> 1755584.2 | Q33: =+P33*1.0603 -> 1861445.9
M34: 229-2023 | N34: 1701099.9 | O34: =N34*1.035 -> 1760638.4
M35: 128-2024 | N35: 1686450.1 | O35: =N35*1.035 -> 1745475.9
