Workbook

Sheet Contenido
A1: Datos para acuerdo Corporativo para reglamentación de Color.
A2: 1 | B2: Resultados históricos
A3: 2 | B3: Tabla dinámica de historicos de resultados
A4: 3 | B4: Interpretación de información para Río Negro en longitud de onda 436
A5: 4 | B5: Interpretación de información para Río Negro en longitud de onda 525
A6: 5 | B6: Interpretación de información para Río Negro en longitud de onda 620
A7: 6 | B7: Interpretación de información para Quebrada La Cimarrona en longitud de onda 436
A8: 7 | B8: Interpretación de información para Quebrada La Cimarrona en longitud de onda 525
A9: 8 | B9: Interpretación de información para Quebrada La Cimarrona en longitud de onda 620
A10: 9 | B10: Interpretación de información para Quebrada La Marinilla en longitud de onda 436
A11: 10 | B11: Interpretación de información para Quebrada La Marinilla en longitud de onda 525
A12: 11 | B12: Interpretación de información para Quebrada La Marinilla en longitud de onda 620
A13: 12 | B13: Interpretación de información para Quebrada La Mosca en longitud de onda 436
... A21: 20 | B21: Ejemplos de usuarios aplicando la normativa propuesta y los límites correspondientes.

Sheet Resultados historicos
A1: Año | B1: Codigo interno | C1: Orden Fuente | D1: Nombre de la fuente hidrica y Estacion | E1: Código de estación | F1: Municipio | G1: Referente Normativo y tiempo | H1: Fuente superficial | I1: Latitud | J1: Longitud | K1: Fecha de toma (AAAA-MM-DD) | L1: Mes | M1: Tiempo | N1: N | O1: Color real λ=436 nm (m⁻¹) | P1: Color real λ=525 nm (m⁻¹) | Q1: Color real λ=620 nm (m⁻¹) | R1: DBO₅ (mg/L O₂) | S1: DQO (mg/L O₂) | T1: Oxígeno disuelto (mg/L) | U1: Saturación Ox % | V1: Temperatura (°C) | W1: pH (U. de pH) | X1: Conductividad (us/cm) | Y1: Caudal (L/s)
A2: 2020 | B2: 2020-08-1106 | C2: 1 | D2: ESTACION EL HIERBAL | E2: LOT-061-RET-300-PANTANILLO | F2: El Retiro | G2: R. 112-5304-2016 - Río Negro - Tramo: 2 - Río Negro | H2: Rio Negro | I2: 06°04'50,05" | J2: 75°29'46,80" | K2: 44067 | L2: ago | M2: Lluvias | N2: 207 | O2: 1.2 | P2: 0.4 | Q2: 0.1 | R2: 2.5 | S2: 29.1 | T2: 7.41 | U2: 93.9 | V2: 14.6 | W2: 6.69 | X2: 37.2 | Y2: 3200
A3: 2020 | B3: 2020-11-1861 | C3: 1 | D3: ESTACION EL HIERBAL | E3: LOT-061-RET-300-PANTANILLO | F3: El Retiro | G3: R. 112-5304-2016 - Río Negro - Tramo: 2 - Río Negro | H3: Rio Negro | I3: 06°04'50,05" | J3: 75°29'46,80" | K3: 44158 | L3: nov | M3: Lluvias | N3: 228 | O3: 0.9 | P3: 0.4 | Q3: 0.3 | R3: 1.6 | S3: 10 | T3: 7.67 | U3: 99.1 | V3: 15.6 | W3: 6.63 | X3: 32.5 | Y3: 7350
A4: 2021 | B4: 2021-07-1202 | C4: 1 | D4: ESTACION EL HIERBAL | E4: LOT-061-RET-300-PANTANILLO | F4: El Retiro | G4: R. 112-5304-2016 - Río Negro - Tramo: 2 - Río Negro | H4: Rio Negro | I4: 06°04'50,05" | J4: 75°29'46,80" | K4: 44389 | L4: jul | M4: Lluvias | N4: 297 | O4: 0.7 | P4: 0.3 | Q4: 0.2 | R4: 5.5 | S4: 10 | T4: 7.38 | U4: 95.6 | V4: 15 | W4: 6.66 | X4: 37.6 | Y4: 2832.56
A5: 2021 | B5: 2021-07-1191 | C5: 1 | D5: ESTACION LA AMISTAD | E5: LOT-066-SAN-200-LA_MARINILLA | F5: El Santuario | G5: R. 112-5304-2016 - Río Negro - Tramo: 14 - Quebrada La Marinilla | H5: Quebrada La Marinilla | I5: 06°08'11,79" | J5: 75°16'09,54" | K5: 44389 | L5: jul | M5: Lluvias | N5: 311 | O5: 0.6 | P5: 0.2 | Q5: 0.1 | R5: 12 | S5: 17.7 | T5: 6.11 | U5: 88.5 | V5: 20.9 | W5: 6.99 | X5: 100.7 | Y5: 5524.21
A6: 2019 | B6: 2019-11-2790 | C6: 1 | D6: ESTACION EL HIERBAL | E6: LOT-061-RET-300-PANTANILLO | F6: El Retiro | G6: R. 112-5304-2016 - Río Negro - Tramo: 2 - Río Negro | H6: Rio Negro | I6: 06°04'50,05" | J6: 75°29'46,80" | K6: 43795 | L6: nov | M6: Lluvias | N6: 161 | O6: 0.3 | P6: 0.1 | Q6: 0.1 | R6: 2.1 | S6: 10 | T6: 7.35 | U6: 96.2 | V6: 16.2 | W6: 7.72 | X6: 31.6 | Y6: 10163.29
A7: 2020 | B7: 2020-02-0244 | C7: 1 | D7: ESTACION EL HIERBAL | E7: LOT-061-RET-300-PANTANILLO | F7: El Retiro | G7: R. 112-5304-2016 - Río Negro - Tramo: 2 - Río Negro | H7: Rio Negro | I7: 06°04'50,05" | J7: 75°29'46,80" | K7: 43886 | L7: feb | M7: Seco | N7: 184 | O7: 0.8 | P7: 0.3 | Q7: 0.2 | R7: 6.9 | S7: 111.2 | T7: 7.33 | U7: 98.4 | V7: 17.2 | W7: 7.34 | X7: 45.9 | Y7: 1565.49
A8: 2021 | B8: 2021-02-188 | C8: 1 | D8: ESTACION EL HIERBAL | E8: LOT-061-RET-300-PANTANILLO | F8: El Retiro | G8: R. 112-5304-2016 - Río Negro - Tramo: 2 - Río Negro | H8: Rio Negro | I8: 06°04'50,05" | J8: 75°29'46,80" | K8: 44228 | L8: feb | M8: Seco | N8: 251 | O8: 0.6 | P8: 0.26 | Q8: 0.18 | R8: 1.9 | S8: 10 | T8: 7.4 | U8: 96.9 | V8: 15.9 | W8: 6.97 | X8: 59.5 | Y8: 2963.78
A9: 2021 | B9: 2021-11-2215 | C9: 1 | D9: ESTACION EL HIERBAL | E9: LOT-061-RET-300-PANTANILLO | F9: El Retiro | G9: R. 112-5304-2016 - Río Negro - Tramo: 2 - Río Negro | H9: Rio Negro | I9: 06°04'50,05" | J9: 75°29'46,80" | K9: 44529 | L9: nov | M9: Lluvias | N9: 274 | O9: 0.7 | P9: 0.3 | Q9: 0.2 | R9: 0.2 | S9: 3.9 | T9: 7.32 | U9: 96.5 | V9: 16.1 | W9: 6.89 | X9: 26.6 | Y9: 1875.17
A10: 2022 | B10: 2022-02-0213 | C10: 1 | D10: ESTACION EL HIERBAL | E10: LOT-061-RET-300-PANTANILLO | F10: El Retiro | G10: R. 112-5304-2016 - Río Negro - Tramo: 2 - Río Negro | H10: Rio Negro | I10: 06°04'50,05" | J10: 75°29'46,80" | K10: 44614 | L10: feb | M10: Seco | N10: 131 | O10: 1.3 | P10: 0.4 | Q10: 0.2 | R10: 2 | S10: 10.6 | T10: 7.855 | U10: 98.7 | V10: 14 | W10: 6.84 | X10: 28.7 | Y10: 3017.3
A11: 2022 | B11: 2022-06-0901 | C11: 1 | D11: ESTACION EL HIERBAL | E11: LOT-061-RET-300-PANTANILLO | F11: El Retiro | G11: R. 112-5304-2016 - Río Negro - Tramo: 2 - Río Negro | H11: Rio Negro | I11: 06°04'50,05" | J11: 75°29'46,80" | K11: 44720 | L11: jun | M11: Lluvias | N11: 141 | O11: 0.8 | P11: 0.3 | Q11: 0.2 | R11: 4.9 | S11: 15.4 | T11: 7.535 | U11: 98.3 | V11: 15.6 | W11: 7.205 | X11: 57.55 | Y11: 6912
A12: 2019 | B12: 2019-11-2767 | C12: 1 | D12: ESTACION LA AMISTAD | E12: LOT-066-SAN-200-LA_MARINILLA | F12: El Santuario | G12: R. 112-5304-2016 - Río Negro - Tramo: 14 - Quebrada La Marinilla | H12: Quebrada La Marinilla | I12: 06°08'11,79" | J12: 75°16'09,54" | K12: 43794 | L12: nov | M12: Lluvias | N12: 175 | O12: 0.6 | P12: 0.3 | Q12: 0.1 | R12: 3.1 | S12: 25.5 | T12: 5.92 | U12: 85.5 | V12: 20.6 | W12: 7.27 | X12: 78.6 | Y12: 1849.32
A13: 2020 | B13: 2020-02-0233 | C13: 1 | D13: ESTACION LA AMISTAD | E13: LOT-066-SAN-200-LA_MARINILLA | F13: El Santuario | G13: R. 112-5304-2016 - Río Negro - Tramo: 14 - Quebrada La Marinilla | H13: Quebrada La Marinilla | I13: 06°08'11,79" | J13: 75°16'09,54" | K13: 43885 | L13: feb | M13: Seco | N13: 198 | O13: 0.4 | P13: 0.2 | Q13: 0.1 | R13: 3.5 | S13: 31.5 | T13: 6.2 | U13: 88.7 | V13: 20 | W13: 7.34 | X13: 100.2 | Y13: 878.08
... A20: 2023 | B20: 2023-11-2332 | C20: 1 | D20: ESTACION EL HIERBAL | E20: LOT-061-RET-300-PANTANILLO | F20: El Retiro | G20: R. 112-5304-2016 - Río Negro - Tramo: 2 - Río Negro | H20: Rio Negro | I20: 06°04'50,05" | J20: 75°29'46,80" | K20: 45252 | L20: nov | M20: Lluvias | N20: 123 | O20: 0.48 | P20: 0.18 | Q20: 0.08 | R20: 2.1 | S20: 11.1 | T20: 7.56 | U20: 98.65 | V20: 15.9 | W20: 6.185 | X20: 33.5 | Y20: 4975.7
A21: 2024 | B21: 2024-02-0183 | C21: 1 | D21: ESTACION EL HIERBAL | E21: LOT-061-RET-300-PANTANILLO | F21: El Retiro | G21: R. 112-5304-2016 - Río Negro - Tramo: 2 - Río Negro | H21: Rio Negro | I21: 06°04'50,05" | J21: 75°29'46,80" | K21: 45349 | L21: feb | M21: Seco | O21: 1.1 | P21: 0.54 | Q21: 0.3 | R21: 2.3 | S21: 9.3 | T21: 7.505 | U21: 98.25 | V21: 16.1 | W21: 7.125 | X21: 45.8 | Y21: N.D.
A22: 2024 | B22: 2024-06-0837 | C22: 1 | D22: ESTACION EL HIERBAL | E22: LOT-061-RET-300-PANTANILLO | F22: El Retiro | G22: R. 112-5304-2016 - Río Negro - Tramo: 2 - Río Negro | H22: Rio Negro | I22: 06°04'50,05" | J22: 75°29'46,80" | K22: 45461 | L22: jun | M22: Lluvias | O22: 0.84 | P22: 0.34 | Q22: 0.18 | R22: 1.1 | S22: 18.6 | T22: 7.61 | U22: 98.85 | V22: 16 | W22: 7.1 | X22: 34.65 | Y22: N.D.
A23: 2024 | B23: 2024-11-1985 | C23: 1 | D23: ESTACION EL HIERBAL | E23: LOT-061-RET-300-PANTANILLO | F23: El Retiro | G23: R. 112-5304-2016 - Río Negro - Tramo: 2 - Río Negro | H23: Rio Negro | I23: 06°04'50,05" | J23: 75°29'46,80" | K23: 45622 | L23: nov | M23: Lluvias | O23: 0.56 | P23: 0.32 | Q23: 0.2 | R23: 0.7 | S23: 12.32 | T23: 7.735 | U23: 100.2 | V23: 15.5 | W23: 7.33 | X23: 32.95 | Y23: N.D.
A24: 2021 | B24: 2021-07-1203 | C24: 2 | D24: ESTACION MONTENEVADO | E24: LOT-199-RIO-100-RIO_NEGRO | F24: Rionegro | G24: R. 112-5304-2016 - Río Negro - Tramo: 3 - Río Negro | H24: Rio Negro | I24: 06°05'42,34" | J24: 75°28'32,82" | K24: 44389 | L24: jul | M24: Lluvias | N24: 298 | O24: 0.4 | P24: 0.1 | Q24: 0.1 | R24: 4.4 | S24: 2.8 | T24: 7.49 | U24: 97.5 | V24: 15.6 | W24: 6.76 | X24: 43.6 | Y24: 2189.39
A25: 2024 | B25: 2024-06-0860 | C25: 1 | D25: ROMERAL | E25: LOT-085-GUA-100-LA_MOSCA | F25: Guarne | G25: R. 112-5304-2016 - Río Negro - Tramo: 12 - Quebrada La Mosca | H25: Quebrada La Mosca | I25: 06°18'32,19" | J25: 75°27'33,70" | K25: 45461 | L25: jun | M25: Lluvias | O25: 0.46 | P25: 0.16 | Q25: 0.08 | R25: 1.6 | S25: 14.3 | T25: 7.195 | U25: 99.2 | V25: 17.9 | W25: 7.48 | X25: 67.5 | Y25: 141.5
A26: 2024 | B26: 2024-11-2003 | C26: 1 | D26: ROMERAL | E26: LOT-085-GUA-100-LA_MOSCA | F26: Guarne | G26: R. 112-5304-2016 - Río Negro - Tramo: 12 - Quebrada La Mosca | H26: Quebrada La Mosca | I26: 06°18'32,19" | J26: 75°27'33,70" | K26: 45622 | L26: nov | M26: Lluvias | O26: 0.24 | P26: 0.16 | Q26: 0.16 | R26: 0.4 | S26: 11.6 | T26: 7.405 | U26: 101.15 | V26: 17.4 | W26: 7.53 | X26: 77.45 | Y26: 127.6
A27: 2024 | B27: 2024-02-0174 | C27: 1 | D27: ROMERAL | E27: LOT-085-GUA-100-LA_MOSCA | F27: Guarne | G27: R. 112-5304-2016 - Río Negro - Tramo: 12 - Quebrada La Mosca | H27: Quebrada La Mosca | I27: 06°18'32,19" | J27: 75°27'33,70" | K27: 45349 | L27: feb | M27: Seco | N27: 1 | O27: 0.64 | P27: 0.32 | Q27: 0.2 | R27: 1.1 | S27: 0 | T27: 7.085 | U27: 99.15 | V27: 18 | W27: 7.305 | X27: 115.75 | Y27: 41.9
A28: 2021 | B28: 2021-07-1217 | C28: 1 | D28: ROMERAL | E28: LOT-085-GUA-100-LA_MOSCA | F28: Guarne | G28: R. 112-5304-2016 - Río Negro - Tramo: 12 - Quebrada La Mosca | H28: Quebrada La Mosca | I28: 06°18'32,19" | J28: 75°27'33,70" | K28: 44390 | L28: jul | M28: Lluvias | N28: 315 | O28: 0.5 | P28: 0.2 | Q28: 0.2 | R28: 3.6 | S28: 10 | T28: 7.59 | U28: 101.9 | V28: 16.8 | W28: 7.54 | X28: 66.1 | Y28: 229.63
A29: 2019 | B29: 2019-11-2772 | C29: 1 | D29: ROMERAL | E29: LOT-085-GUA-100-LA_MOSCA | F29: Guarne | G29: R. 112-5304-2016 - Río Negro - Tramo: 12 - Quebrada La Mosca | H29: Quebrada La Mosca | I29: 06°18'32,19" | J29: 75°27'33,70" | K29: 43794 | L29: nov | M29: Lluvias | N29: 179 | O29: 0.3 | P29: 0.1 | Q29: 0.1 | R29: 1 | S29: 10 | T29: 7.47 | U29: 98.1 | V29: 15.8 | W29: 7.5 | X29: 62.8 | Y29: 136.47
A30: 2019 | B30: 2019-11-2791 | C30: 2 | D30: ESTACION MONTENEVADO | E30: LOT-199-RIO-100-RIO_NEGRO | F30: Rionegro | G30: R. 112-5304-2016 - Río Negro - Tramo: 3 - Río Negro | H30: Rio Negro | I30: 06°05'42,34" | J30: 75°28'32,82" | K30: 43795 | L30: nov | M30: Lluvias | N30: 162 | O30: 0.5 | P30: 0.1 | Q30: 0.1 | R30: 2.2 | S30: 18.1 | T30: 7.24 | U30: 97.7 | V30: 17.5 | W30: 7.23 | X30: 44.6 | Y30: 9631.39
A31: 2020 | B31: 2020-02-0245 | C31: 2 | D31: ESTACION MONTENEVADO | E31: LOT-199-RIO-100-RIO_NEGRO | F31: Rionegro | G31: R. 112-5304-2016 - Río Negro - Tramo: 3 - Río Negro | H31: Rio Negro | I31: 06°05'42,34" | J31: 75°28'32,82" | K31: 43886 | L31: feb | M31: Seco | N31: 185 | O31: 0.6 | P31: 0.3 | Q31: 0.2 | R31: 4.7 | S31: 10 | T31: 6.85 | U31: 92.1 | V31: 17.9 | W31: 6.75 | X31: 86.6 | Y31: 684.89
A32: 2020 | B32: 2020-08-1107 | C32: 2 | D32: ESTACION MONTENEVADO | E32: LOT-199-RIO-100-RIO_NEGRO | F32: Rionegro | G32: R. 112-5304-2016 - Río Negro - Tramo: 3 - Río Negro | H32: Rio Negro | I32: 06°05'42,34" | J32: 75°28'32,82" | K32: 44067 | L32: ago | M32: Lluvias | N32: 208 | O32: 1.4 | P32: 0.5 | Q32: 0.1 | R32: 1.3 | S32: 24.9 | T32: 7.66 | U32: 98 | V32: 15.2 | W32: 6.7 | X32: 38 | Y32: 4800
A33: 2020 | B33: 2020-11-1862 | C33: 2 | D33: ESTACION MONTENEVADO | E33: LOT-199-RIO-100-RIO_NEGRO | F33: Rionegro | G33: R. 112-5304-2016 - Río Negro - Tramo: 3 - Río Negro | H33: Rio Negro | I33: 06°05'42,34" | J33: 75°28'32,82" | K33: 44158 | L33: nov | M33: Lluvias | N33: 229 | O33: 0.8 | P33: 0.4 | Q33: 0.3 | R33: 1.1 | S33: 10.8 | T33: 7.78 | U33: 101.9 | V33: 16.2 | W33: 6.96 | X33: 43.9 | Y33: 11230
A34: 2021 | B34: 2021-02-189 | C34: 2 | D34: ESTACION MONTENEVADO | E34: LOT-199-RIO-100-RIO_NEGRO | F34: Rionegro | G34: R. 112-5304-2016 - Río Negro - Tramo: 3 - Río Negro | H34: Rio Negro | I34: 06°05'42,34" | J34: 75°28'32,82" | K34: 44228 | L34: feb | M34: Seco | N34: 252 | O34: 0.58 | P34: 0.34 | Q34: 0.24 | R34: 1.6 | S34: 10 | T34: 7.09 | U34: 96.6 | V34: 17.2 | W34: 6.92 | X34: 79.4 | Y34: 859.86
A35: 2021 | B35: 2021-11-2216 | C35: 2 | D35: ESTACION MONTENEVADO | E35: LOT-199-RIO-100-RIO_NEGRO | F35: Rionegro | G35: R. 112-5304-2016 - Río Negro - Tramo: 3 - Río Negro | H35: Rio Negro | I35: 06°05'42,34" | J35: 75°28'32,82" | K35: 44529 | L35: nov | M35: Lluvias | N35: 275 | O35: 0.6 | P35: 0.3 | Q35: 0.2 | R35: 1 | S35: 5.1 | T35: 7.38 | U35: 97.3 | V35: 16.5 | W35: 6.99 | X35: 34.4 | Y35: 3371.45
A36: 2019 | B36: 2019-11-2797 | C36: 1 | D36: ESTACION PUENTE LARGA | E36: LOT-044-CAR-200-LA_CIMARRONA | F36: El Carmen de Viboral | G36: R. 112-5304-2016 - Río Negro - Tramo: 10 - Quebrada La Cimarrona | H36: Quebrada La Cimarrona | I36: 06°04'05,00" | J36: 75°19'18,00" | K36: 43795 | L36: nov | M36: Lluvias | N36: 171 | O36: 0.3 | P36: 0.1 | Q36: 0.1 | R36: 1.4 | S36: 10 | T36: 6.82 | U36: 97.5 | V36: 19.3 | W36: 7.31 | X36: 76.7 | Y36: 287.08
A37: 2020 | B37: 2020-02-0251 | C37: 1 | D37: ESTACION PUENTE LARGA | E37: LOT-044-CAR-200-LA_CIMARRONA | F37: El Carmen de Viboral | G37: R. 112-5304-2016 - Río Negro - Tramo: 10 - Quebrada La Cimarrona | H37: Quebrada La Cimarrona | I37: 06°04'05,00" | J37: 75°19'18,00" | K37: 43886 | L37: feb | M37: Seco | N37: 194 | O37: 0.4 | P37: 0.2 | Q37: 0.1 | R37: 1.9 | S37: 10 | T37: 6.96 | U37: 104.5 | V37: 22.1 | W37: 7.68 | X37: 95.3 | Y37: 145.59
A38: 2020 | B38: 2020-02-0238 | C38: 1 | D38: ROMERAL | E38: LOT-085-GUA-100-LA_MOSCA | F38: Guarne | G38: R. 112-5304-2016 - Río Negro - Tramo: 12 - Quebrada La Mosca | H38: Quebrada La Mosca | I38: 06°18'32,19" | J38: 75°27'33,70" | K38: 43885 | L38: feb | M38: Seco | N38: 202 | O38: 0.5 | P38: 0.2 | Q38: 0.1 | R38: 1.4 | S38: 18.6 | T38: 7.37 | U38: 99.5 | V38: 17.3 | W38: 7.43 | X38: 91 | Y38: 51.97
... A40: 2020 | B40: 2020-11-1878 | C40: 1 | D40: ROMERAL | E40: LOT-085-GUA-100-LA_MOSCA | F40: Guarne | G40: R. 112-5304-2016 - Río Negro - Tramo: 12 - Quebrada La Mosca | H40: Quebrada La Mosca | I40: 06°18'32,19" | J40: 75°27'33,70" | K40: 44159 | L40: nov | M40: Lluvias | N40: 246 | O40: 0.7 | P40: 0.4 | Q40: 0.2 | R40: 1 | S40: 10 | T40: 8.04 | U40: 104.6 | V40: 15.5 | W40: 7.51 | X40: 61.6 | Y40: 220.42
A41: 2021 | B41: 2021-11-2204 | C41: 1 | D41: ESTACION LA AMISTAD | E41: LOT-066-SAN-200-LA_MARINILLA | F41: El Santuario | G41: R. 112-5304-2016 - Río Negro - Tramo: 14 - Quebrada La Marinilla | H41: Quebrada La Marinilla | I41: 06°08'11,79" | J41: 75°16'09,54" | K41: 44529 | L41: nov | M41: Lluvias | N41: 288 | O41: 0.94 | P41: 0.5 | Q41: 0.32 | R41: 4.9 | S41: 54.2 | T41: 6.18 | U41: 179.7 | V41: 21 | W41: 6.9 | X41: 91.15 | Y41: N.D.
A42: 2022 | B42: 2022-03-0248 | C42: 1 | D42: ESTACION LA AMISTAD | E42: LOT-066-SAN-200-LA_MARINILLA | F42: El Santuario | G42: R. 112-5304-2016 - Río Negro - Tramo: 14 - Quebrada La Marinilla | H42: Quebrada La Marinilla | I42: 06°08'11,79" | J42: 75°16'09,54" | K42: 44621 | L42: mar | M42: Seco | N42: 58 | O42: 0.98 | P42: 0.4 | Q42: 0.24 | R42: 7 | S42: 18.1 | T42: 6.06 | U42: 87.45 | V42: 19.7 | W42: 7.21 | X42: 102.5 | Y42: 1065.7
A43: 2022 | B43: 2022-06-0951 | C43: 1 | D43: ESTACION LA AMISTAD | E43: LOT-066-SAN-200-LA_MARINILLA | F43: El Santuario | G43: R. 112-5304-2016 - Río Negro - Tramo: 14 - Quebrada La Marinilla | H43: Quebrada La Marinilla | I43: 06°08'11,79" | J43: 75°16'09,54" | K43: 44727 | L43: jun | M43: Lluvias | N43: 75 | O43: 0.34 | P43: 0.1 | Q43: 0.04 | R43: 4 | S43: 36 | T43: 6.155 | U43: 89 | V43: 20.8 | W43: 7.06 | X43: 87.15 | Y43: 1627.3
A44: 2022 | B44: 2022-11-2253 | C44: 1 | D44: ESTACION LA AMISTAD | E44: LOT-066-SAN-200-LA_MARINILLA | F44: El Santuario | G44: R. 112-5304-2016 - Río Negro - Tramo: 14 - Quebrada La Marinilla | H44: Quebrada La Marinilla | I44: 06°08'11,79" | J44: 75°16'09,54" | K44: 44894 | L44: nov | M44: Lluvias | N44: 88 | O44: 0.38 | P44: 0.14 | Q44: 0.04 | R44: 2.3 | S44: 13.3 | T44: 6.135 | U44: 90.35 | V44: 20.7 | W44: 6.875 | X44: 84.4 | Y44: N.D.
A45: 2021 | B45: 2021-02-208 | C45: 1 | D45: ROMERAL | E45: LOT-085-GUA-100-LA_MOSCA | F45: Guarne | G45: R. 112-5304-2016 - Río Negro - Tramo: 12 - Quebrada La Mosca | H45: Quebrada La Mosca | I45: 06°18'32,19" | J45: 75°27'33,70" | K45: 44229 | L45: feb | M45: Seco | N45: 269 | O45: 0.38 | P45: 0.14 | Q45: 0.06 | R45: 0.7 | S45: 10 | T45: 7.5 | U45: 98.3 | V45: 15.7 | W45: 7.24 | X45: 85.6 | Y45: 74.32
A46: 2021 | B46: 2021-11-2228 | C46: 1 | D46: ROMERAL | E46: LOT-085-GUA-100-LA_MOSCA | F46: Guarne | G46: R. 112-5304-2016 - Río Negro - Tramo: 12 - Quebrada La Mosca | H46: Quebrada La Mosca | I46: 06°18'32,19" | J46: 75°27'33,70" | K46: 44529 | L46: nov | M46: Lluvias | N46: 292 | O46: 0.8 | P46: 0.38 | Q46: 0.22 | R46: 0.1 | S46: 0 | T46: 7.43 | U46: 100.4 | V46: 17 | W46: 7.22 | X46: 50.45 | Y46: 355.31
A47: 2022 | B47: 2022-02-0214 | C47: 2 | D47: ESTACION MONTENEVADO | E47: LOT-199-RIO-100-RIO_NEGRO | F47: Rionegro | G47: R. 112-5304-2016 - Río Negro - Tramo: 3 - Río Negro | H47: Rio Negro | I47: 06°05'42,34" | J47: 75°28'32,82" | K47: 44614 | L47: feb | M47: Seco | N47: 132 | O47: 1.2 | P47: 0.4 | Q47: 0.2 | R47: 3.6 | S47: 20.7 | T47: 7.92 | U47: 99.3 | V47: 14.4 | W47: 6.885 | X47: 40.5 | Y47: 4735.5
A48: 2022 | B48: 2022-06-0902 | C48: 2 | D48: ESTACION MONTENEVADO | E48: LOT-199-RIO-100-RIO_NEGRO | F48: Rionegro | G48: R. 112-5304-2016 - Río Negro - Tramo: 3 - Río Negro | H48: Rio Negro | I48: 06°05'42,34" | J48: 75°28'32,82" | K48: 44720 | L48: jun | M48: Lluvias | N48: 142 | O48: 0.6 | P48: 0.3 | Q48: 0.2 | R48: 3 | S48: 18.4 | T48: 7.58 | U48: 98.5 | V48: 15.9 | W48: 7.14 | X48: 39.85 | Y48: 11226.3
A49: 2022 | B49: 2022-11-2182 | C49: 2 | D49: ESTACION MONTENEVADO | E49: LOT-199-RIO-100-RIO_NEGRO | F49: Rionegro | G49: R. 112-5304-2016 - Río Negro - Tramo: 3 - Río Negro | H49: Rio Negro | I49: 06°05'42,34" | J49: 75°28'32,82" | K49: 44888 | L49: nov | M49: Lluvias | N49: 152 | O49: 0.54 | P49: 0.22 | Q49: 0.1 | R49: 4.8 | S49: 35.8 | T49: 7.68 | U49: 101.65 | V49: 17.1 | W49: 7.015 | X49: 38.3 | Y49: 10114.5
A50: 2023 | B50: 2023-02-0221 | C50: 2 | D50: ESTACION MONTENEVADO | E50: LOT-199-RIO-100-RIO_NEGRO | F50: Rionegro | G50: R. 112-5304-2016 - Río Negro - Tramo: 3 - Río Negro | H50: Rio Negro | I50: 06°05'42,34" | J50: 75°28'32,82" | K50: 44985 | L50: feb | M50: Seco | N50: 102 | O50: 0.4 | P50: 0.14 | Q50: 0.06 | R50: 1.6 | S50: 16.4 | T50: 6.77 | U50: 89.3 | V50: 15.6 | W50: 6.645 | X50: 70.4 | Y50: 1470.1
A51: 2023 | B51: 2023-05-0706 | C51: 2 | D51: ESTACION MONTENEVADO | E51: LOT-199-RIO-100-RIO_NEGRO | F51: Rionegro | G51: R. 112-5304-2016 - Río Negro - Tramo: 3 - Río Negro | H51: Rio Negro | I51: 06°05'42,34" | J51: 75°28'32,82" | K51: 45056 | L51: may | M51: Lluvias | N51: 112 | O51: 0.36 | P51: 0.1 | Q51: 0.04 | R51: 2 | S51: 11.1 | T51: 6.825 | U51: 91.4 | V51: 17 | W51: 6.695 | X51: 74.6 | Y51: 901.6
A52: 2023 | B52: 2023-11-2333 | C52: 2 | D52: ESTACION MONTENEVADO | E52: LOT-199-RIO-100-RIO_NEGRO | F52: Rionegro | G52: R. 112-5304-2016 - Río Negro - Tramo: 3 - Río Negro | H52: Rio Negro | I52: 06°05'42,34" | J52: 75°28'32,82" | K52: 45252 | L52: nov | M52: Lluvias | N52: 124 | O52: 0.34 | P52: 0.16 | Q52: 0.1 | R52: 1.4 | S52: 13.6 | T52: 7.275 | U52: 96.15 | V52: 16.7 | W52: 6.36 | X52: 58.15 | Y52: 1706.8
A53: 2020 | B53: 2020-08-1095 | C53: 1 | D53: ESTACION PUENTE LARGA | E53: LOT-044-CAR-200-LA_CIMARRONA | F53: El Carmen de Viboral | G53: R. 112-5304-2016 - Río Negro - Tramo: 10 - Quebrada La Cimarrona | H53: Quebrada La Cimarrona | I53: 06°04'05,00" | J53: 75°19'18,00" | K53: 44067 | L53: ago | M53: Lluvias | N53: 215 | O53: 0.3 | P53: 0.1 | Q53: 0.1 | R53: 3.1 | S53: 29.6 | T53: 7.24 | U53: 99.8 | V53: 18.1 | W53: 7.46 | X53: 55.6 | Y53: 1850.58
A54: 2020 | B54: 2020-11-1849 | C54: 1 | D54: ESTACION PUENTE LARGA | E54: LOT-044-CAR-200-LA_CIMARRONA | F54: El Carmen de Viboral | G54: R. 112-5304-2016 - Río Negro - Tramo: 10 - Quebrada La Cimarrona | H54: Quebrada La Cimarrona | I54: 06°04'05,00" | J54: 75°19'18,00" | K54: 44158 | L54: nov | M54: Lluvias | N54: 238 | O54: 0.5 | P54: 0.2 | Q54: 0.1 | R54: 1.6 | S54: 10 | T54: 7.46 | U54: 104.4 | V54: 18.5 | W54: 7.19 | X54: 69.6 | Y54: 431.17
A55: 2024 | B55: 2024-02-0184 | C55: 2 | D55: ESTACION MONTENEVADO | E55: LOT-199-RIO-100-RIO_NEGRO | F55: Rionegro | G55: R. 112-5304-2016 - Río Negro - Tramo: 3 - Río Negro | H55: Rio Negro | I55: 06°05'42,34" | J55: 75°28'32,82" | K55: 45349 | L55: feb | M55: Seco | O55: 0.56 | P55: 0.22 | Q55: 0.12 | R55: 0.9 | S55: 2.6 | T55: 6.88 | U55: 90.2 | V55: 16.4 | W55: 6.99 | X55: 83.3 | Y55: 657.5
A56: 2024 | B56: 2024-06-0838 | C56: 2 | D56: ESTACION MONTENEVADO | E56: LOT-199-RIO-100-RIO_NEGRO | F56: Rionegro | G56: R. 112-5304-2016 - Río Negro - Tramo: 3 - Río Negro | H56: Rio Negro | I56: 06°05'42,34" | J56: 75°28'32,82" | K56: 45461 | L56: jun | M56: Lluvias | O56: 0.62 | P56: 0.26 | Q56: 0.12 | R56: 0.1 | S56: 15.4 | T56: 7.735 | U56: 101.2 | V56: 16.6 | W56: 7.575 | X56: 40.35 | Y56: N.D.
A57: 2024 | B57: 2024-11-1986 | C57: 2 | D57: ESTACION MONTENEVADO | E57: LOT-199-RIO-100-RIO_NEGRO | F57: Rionegro | G57: R. 112-5304-2016 - Río Negro - Tramo: 3 - Río Negro | H57: Rio Negro | I57: 06°05'42,34" | J57: 75°28'32,82" | K57: 45622 | L57: nov | M57: Lluvias | O57: 2.12 | P57: 1.78 | Q57: 1.7 | R57: 0.8 | S57: 9.8 | T57: 7.685 | U57: 100.55 | V57: 16.1 | W57: 7.005 | X57: 72.4 | Y57: N.D.
A58: 2024 | B58: 2024-02-0185 | C58: 4 | D58: ESTACION CHARCOMANSO | E58: LOT-200-RIO-200-RIO_NEGRO | F58: Rionegro | G58: R. 112-5304-2016 - Río Negro - Tramo: 3 - Río Negro | H58: Rio Negro | I58: 06°08'19,36" | J58: 75°25'52,78" | K58: 45349 | L58: feb | M58: Seco | O58: 1.06 | P58: 0.4 | Q58: 0.18 | R58: 1.5 | S58: 13.6 | T58: 6.64 | U58: 90.2 | V58: 18 | W58: 6.925 | X58: 135.15 | Y58: N.D.
A59: 2021 | B59: 2021-02-177 | C59: 1 | D59: ESTACION PUENTE LARGA | E59: LOT-044-CAR-200-LA_CIMARRONA | F59: El Carmen de Viboral | G59: R. 112-5304-2016 - Río Negro - Tramo: 10 - Quebrada La Cimarrona | H59: Quebrada La Cimarrona | I59: 06°04'05,00" | J59: 75°19'18,00" | K59: 44228 | L59: feb | M59: Seco | N59: 261 | O59: 0.54 | P59: 0.3 | Q59: 0.2 | R59: 2 | S59: 19.7 | T59: 6.73 | U59: 99.4 | V59: 19.8 | W59: 7.02 | X59: 79.2 | Y59: 240.54
A60: 2021 | B60: 2021-07-1213 | C60: 1 | D60: ESTACION PUENTE LARGA | E60: LOT-044-CAR-200-LA_CIMARRONA | F60: El Carmen de Viboral | G60: R. 112-5304-2016 - Río Negro - Tramo: 10 - Quebrada La Cimarrona | H60: Quebrada La Cimarrona | I60: 06°04'05,00" | J60: 75°19'18,00" | K60: 44390 | L60: jul | M60: Lluvias | N60: 307 | O60: 0.5 | P60: 0.3 | Q60: 0.1 | R60: 1 | S60: 10 | T60: 7.87 | U60: 101.9 | V60: 15.5 | W60: 7.02 | X60: 59.2 | Y60: 1053.64
A61: 2022 | B61: 2022-03-0240 | C61: 1 | D61: ROMERAL | E61: LOT-085-GUA-100-LA_MOSCA | F61: Guarne | G61: R. 112-5304-2016 - Río Negro - Tramo: 12 - Quebrada La Mosca | H61: Quebrada La Mosca | I61: 06°18'32,19" | J61: 75°27'33,70" | K61: 44621 | L61: mar | M61: Seco | N61: 53 | O61: 0.36 | P61: 0.1 | Q61: 0.04 | R61: 1.8 | S61: 9.7 | T61: 7.37 | U61: 96.85 | V61: 16 | W61: 7.19 | X61: 73.45 | Y61: 225.5
A62: 2022 | B62: 2022-06-0924 | C62: 1 | D62: ROMERAL | E62: LOT-085-GUA-100-LA_MOSCA | F62: Guarne | G62: R. 112-5304-2016 - Río Negro - Tramo: 12 - Quebrada La Mosca | H62: Quebrada La Mosca | I62: 06°18'32,19" | J62: 75°27'33,70" | K62: 44720 | L62: jun | M62: Lluvias | N62: 66 | O62: 0.32 | P62: 0.1 | Q62: 0.08 | R62: 4.6 | S62: 11 | T62: 7.175 | U62: 95.5 | V62: 16.7 | W62: 7.245 | X62: 61 | Y62: 209.3
A63: 2022 | B63: 2022-11-2205 | C63: 1 | D63: ROMERAL | E63: LOT-085-GUA-100-LA_MOSCA | F63: Guarne | G63: R. 112-5304-2016 - Río Negro - Tramo: 12 - Quebrada La Mosca | H63: Quebrada La Mosca | I63: 06°18'32,19" | J63: 75°27'33,70" | K63: 44888 | L63: nov | M63: Lluvias | N63: 79 | O63: 0.46 | P63: 0.16 | Q63: 0.06 | R63: 3.1 | S63: 0 | T63: 7.375 | U63: 100.65 | V63: 17.4 | W63: 6.985 | X63: 60.1 | Y63: 958.1
A64: 2023 | B64: 2023-03-0256 | C64: 1 | D64: ESTACION LA AMISTAD | E64: LOT-066-SAN-200-LA_MARINILLA | F64: El Santuario | G64: R. 112-5304-2016 - Río Negro - Tramo: 14 - Quebrada La Marinilla | H64: Quebrada La Marinilla | I64: 06°08'11,79" | J64: 75°16'09,54" | K64: 44986 | L64: mar | M64: Seco | N64: 23 | O64: 0.68 | P64: 0.22 | Q64: 0.08 | R64: 3 | S64: 13 | T64: 5.74 | U64: 85.4 | V64: 21.8 | W64: 7.06 | X64: 81.6 | Y64: N.D.
A65: 2023 | B65: 2023-05-0713 | C65: 1 | D65: ESTACION LA AMISTAD | E65: LOT-066-SAN-200-LA_MARINILLA | F65: El Santuario | G65: R. 112-5304-2016 - Río Negro - Tramo: 14 - Quebrada La Marinilla | H65: Quebrada La Marinilla | I65: 06°08'11,79" | J65: 75°16'09,54" | K65: 45056 | L65: may | M65: Lluvias | N65: 27 | O65: 0.52 | P65: 0.18 | Q65: 0.06 | R65: 2.4 | S65: 7.6 | T65: 5.365 | U65: 78.2 | V65: 21.9 | W65: 6.975 | X65: 195.5 | Y65: N.D.
A66: 2023 | B66: 2023-11-2340 | C66: 1 | D66: ESTACION LA AMISTAD | E66: LOT-066-SAN-200-LA_MARINILLA | F66: El Santuario | G66: R. 112-5304-2016 - Río Negro - Tramo: 14 - Quebrada La Marinilla | H66: Quebrada La Marinilla | I66: 06°08'11,79" | J66: 75°16'09,54" | K66: 45252 | L66: nov | M66: Lluvias | N66: 45 | O66: 0.34 | P66: 0.18 | Q66: 0.08 | R66: 2.4 | S66: 12.1 | T66: 6.23 | U66: 87.9 | V66: 19.5 | W66: 7.025 | X66: 101.75 | Y66: N.D.
A67: 2024 | B67: 2024-02-0191 | C67: 1 | D67: ESTACION LA AMISTAD | E67: LOT-066-SAN-200-LA_MARINILLA | F67: El Santuario | G67: R. 112-5304-2016 - Río Negro - Tramo: 14 - Quebrada La Marinilla | H67: Quebrada La Marinilla | I67: 06°08'11,79" | J67: 75°16'09,54" | K67: 45349 | L67: feb | M67: Seco | O67: 0.5 | P67: 0.22 | Q67: 0.14 | R67: 3.4 | S67: 15.9 | T67: 6.295 | U67: 95.35 | V67: 22.3 | W67: 7.395 | X67: 115.9 | Y67: N.D.
A68: 2023 | B68: 2023-03-0245 | C68: 1 | D68: ROMERAL | E68: LOT-085-GUA-100-LA_MOSCA | F68: Guarne | G68: R. 112-5304-2016 - Río Negro - Tramo: 12 - Quebrada La Mosca | H68: Quebrada La Mosca | I68: 06°18'32,19" | J68: 75°27'33,70" | K68: 44986 | L68: mar | M68: Seco | N68: 18 | O68: 0.32 | P68: 0.12 | Q68: 0.06 | R68: 2.9 | S68: 14.2 | T68: 7.105 | U68: 93.9 | V68: 16.1 | W68: 7.115 | X68: 86.65 | Y68: 54.1
A69: 2023 | B69: 2023-05-0725 | C69: 1 | D69: ROMERAL | E69: LOT-085-GUA-100-LA_MOSCA | F69: Guarne | G69: R. 112-5304-2016 - Río Negro - Tramo: 12 - Quebrada La Mosca | H69: Quebrada La Mosca | I69: 06°18'32,19" | J69: 75°27'33,70" | K69: 45056 | L69: may | M69: Lluvias | N69: 31 | O69: 0.3 | P69: 0.08 | Q69: 0.02 | R69: 2 | S69: 9.1 | T69: 7.365 | U69: 98.35 | V69: 16.4 | W69: 6.905 | X69: 74.35 | Y69: 116.5
A70: 2024 | B70: 2024-06-0839 | C70: 4 | D70: ESTACION CHARCOMANSO | E70: LOT-200-RIO-200-RIO_NEGRO | F70: Rionegro | G70: R. 112-5304-2016 - Río Negro - Tramo: 3 - Río Negro | H70: Rio Negro | I70: 06°08'19,36" | J70: 75°25'52,78" | K70: 45461 | L70: jun | M70: Lluvias | O70: 0.6 | P70: 0.3 | Q70: 0.18 | R70: 0.2 | S70: 13.5 | T70: 6.78 | U70: 90.8 | V70: 17.8 | W70: 7.43 | X70: 67.05 | Y70: N.D.
A71: 2024 | B71: 2024-11-1987 | C71: 4 | D71: ESTACION CHARCOMANSO | E71: LOT-200-RIO-200-RIO_NEGRO | F71: Rionegro | G71: R. 112-5304-2016 - Río Negro - Tramo: 3 - Río Negro | H71: Rio Negro | I71: 06°08'19,36" | J71: 75°25'52,78" | K71: 45622 | L71: nov | M71: Lluvias | O71: 1.82 | P71: 1.38 | Q71: 1.18 | R71: 0.7 | S71: 11.5 | T71: 7.095 | U71: 93.55 | V71: 16.6 | W71: 6.62 | X71: 54.3 | Y71: N.D.
A72: 2021 | B72: 2021-07-1204 | C72: 4 | D72: ESTACION CHARCOMANSO | E72: LOT-200-RIO-200-RIO_NEGRO | F72: Rionegro | G72: R. 112-5304-2016 - Río Negro - Tramo: 3 - Río Negro | H72: Rio Negro | I72: 06°08'19,36" | J72: 75°25'52,78" | K72: 44389 | L72: jul | M72: Lluvias | N72: 299 | O72: 0.9 | P72: 0.5 | Q72: 0.3 | R72: 4 | S72: 0 | T72: 6.75 | U72: 84.5 | V72: 16.4 | W72: 6.5 | X72: 53.8 | Y72: N.D.
A73: 2019 | B73: 2019-11-2792 | C73: 4 | D73: ESTACION CHARCOMANSO | E73: LOT-200-RIO-200-RIO_NEGRO | F73: Rionegro | G73: R. 112-5304-2016 - Río Negro - Tramo: 3 - Río Negro | H73: Rio Negro | I73: 06°08'19,36" | J73: 75°25'52,78" | K73: 43795 | L73: nov | M73: Lluvias | N73: 163 | O73: 0.6 | P73: 0.1 | Q73: 0.1 | R73: 1.1 | S73: 10 | T73: 6.68 | U73: 91.1 | V73: 18.4 | W73: 7.06 | X73: 49.9 | Y73: 8916.9
A74: 2020 | B74: 2020-02-0246 | C74: 4 | D74: ESTACION CHARCOMANSO | E74: LOT-200-RIO-200-RIO_NEGRO | F74: Rionegro | G74: R. 112-5304-2016 - Río Negro - Tramo: 3 - Río Negro | H74: Rio Negro | I74: 06°08'19,36" | J74: 75°25'52,78" | K74: 43886 | L74: feb | M74: Seco | N74: 186 | O74: 0.5 | P74: 0.2 | Q74: 0.1 | R74: 4.1 | S74: 34.7 | T74: 7.13 | U74: 100.4 | V74: 20.1 | W74: 7.19 | X74: 106.4 | Y74: 1006.93
A75: 2020 | B75: 2020-08-1108 | C75: 4 | D75: ESTACION CHARCOMANSO | E75: LOT-200-RIO-200-RIO_NEGRO | F75: Rionegro | G75: R. 112-5304-2016 - Río Negro - Tramo: 3 - Río Negro | H75: Rio Negro | I75: 06°08'19,36" | J75: 75°25'52,78" | K75: 44067 | L75: ago | M75: Lluvias | N75: 209 | O75: 1.1 | P75: 0.3 | Q75: 0.1 | R75: 2 | S75: 25.9 | T75: 6.35 | U75: 84.8 | V75: 17.7 | W75: 6.46 | X75: 59.8 | Y75: 9090
A76: 2021 | B76: 2021-11-2224 | C76: 1 | D76: ESTACION PUENTE LARGA | E76: LOT-044-CAR-200-LA_CIMARRONA | F76: El Carmen de Viboral | G76: R. 112-5304-2016 - Río Negro - Tramo: 10 - Quebrada La Cimarrona | H76: Quebrada La Cimarrona | I76: 06°04'05,00" | J76: 75°19'18,00" | K76: 44529 | L76: nov | M76: Lluvias | N76: 284 | O76: 0.5 | P76: 0.22 | Q76: 0.12 | R76: 0 | S76: 1.7 | T76: 6.99 | U76: 96.9 | V76: 18.4 | W76: 6.94 | X76: 62.95 | Y76: 547.82
A77: 2022 | B77: 2022-03-0260 | C77: 1 | D77: ESTACION PUENTE LARGA | E77: LOT-044-CAR-200-LA_CIMARRONA | F77: El Carmen de Viboral | G77: R. 112-5304-2016 - Río Negro - Tramo: 10 - Quebrada La Cimarrona | H77: Quebrada La Cimarrona | I77: 06°04'05,00" | J77: 75°19'18,00" | K77: 44621 | L77: mar | M77: Seco | N77: 62 | O77: 0.98 | P77: 0.4 | Q77: 0.2 | R77: 2 | S77: 7 | T77: 7.36 | U77: 98.6 | V77: 16.9 | W77: 7.36 | X77: 67.1 | Y77: 556.6
A78: 2022 | B78: 2022-06-0947 | C78: 1 | D78: ESTACION PUENTE LARGA | E78: LOT-044-CAR-200-LA_CIMARRONA | F78: El Carmen de Viboral | G78: R. 112-5304-2016 - Río Negro - Tramo: 10 - Quebrada La Cimarrona | H78: Quebrada La Cimarrona | I78: 06°04'05,00" | J78: 75°19'18,00" | K78: 44727 | L78: jun | M78: Lluvias | N78: 71 | O78: 0.38 | P78: 0.14 | Q78: 0.06 | R78: 1 | S78: 4.3 | T78: 7.14 | U78: 99.55 | V78: 187 | W78: 7.33 | X78: 65.85 | Y78: 397.9
A79: 2022 | B79: 2022-11-2249 | C79: 1 | D79: ESTACION PUENTE LARGA | E79: LOT-044-CAR-200-LA_CIMARRONA | F79: El Carmen de Viboral | G79: R. 112-5304-2016 - Río Negro - Tramo: 10 - Quebrada La Cimarrona | H79: Quebrada La Cimarrona | I79: 06°04'05,00" | J79: 75°19'18,00" | K79: 44894 | L79: nov | M79: Lluvias | N79: 84 | O79: 0.4 | P79: 0.16 | Q79: 0.06 | R79: 1.3 | S79: 8 | T79: 7.4 | U79: 102.95 | V79: 18.2 | W79: 6.775 | X79: 67.15 | Y79: 522.4
A80: 2023 | B80: 2023-03-0239 | C80: 1 | D80: ESTACION PUENTE LARGA | E80: LOT-044-CAR-200-LA_CIMARRONA | F80: El Carmen de Viboral | G80: R. 112-5304-2016 - Río Negro - Tramo: 10 - Quebrada La Cimarrona | H80: Quebrada La Cimarrona | I80: 06°04'05,00" | J80: 75°19'18,00" | K80: 44986 | L80: mar | M80: Seco | N80: 14 | O80: 0.56 | P80: 0.22 | Q80: 0.1 | R80: >24,2 | S80: 22.1 | T80: 6.26 | U80: 95.6 | V80: 22.7 | W80: 7.215 | X80: 87.25 | Y80: 238.4
A81: 2023 | B81: 2023-05-0791 | C81: 1 | D81: ESTACION PUENTE LARGA | E81: LOT-044-CAR-200-LA_CIMARRONA | F81: El Carmen de Viboral | G81: R. 112-5304-2016 - Río Negro - Tramo: 10 - Quebrada La Cimarrona | H81: Quebrada La Cimarrona | I81: 06°04'05,00" | J81: 75°19'18,00" | K81: 45062 | L81: may | M81: Lluvias | N81: 38 | O81: 0.34 | P81: 0.14 | Q81: 0.08 | R81: 3.2 | S81: 10 | T81: 7.195 | U81: 101 | V81: 19 | W81: 6.955 | X81: 80.8 | Y81: 238.2
A82: 2020 | B82: 2020-11-1863 | C82: 4 | D82: ESTACION CHARCOMANSO | E82: LOT-200-RIO-200-RIO_NEGRO | F82: Rionegro | G82: R. 112-5304-2016 - Río Negro - Tramo: 3 - Río Negro | H82: Rio Negro | I82: 06°08'19,36" | J82: 75°25'52,78" | K82: 44158 | L82: nov | M82: Lluvias | N82: 230 | O82: 0.6 | P82: 0.3 | Q82: 0.2 | R82: 1.3 | S82: 12.1 | T82: 6.89 | U82: 91.7 | V82: 17.1 | W82: 6.82 | X82: 57.2 | Y82: 13380
A83: 2021 | B83: 2021-02-190 | C83: 4 | D83: ESTACION CHARCOMANSO | E83: LOT-200-RIO-200-RIO_NEGRO | F83: Rionegro | G83: R. 112-5304-2016 - Río Negro - Tramo: 3 - Río Negro | H83: Rio Negro | I83: 06°08'19,36" | J83: 75°25'52,78" | K83: 44228 | L83: feb | M83: Seco | N83: 253 | O83: 0.48 | P83: 0.18 | Q83: 0.08 | R83: 1.1 | S83: 10 | T83: 7.11 | U83: 97.9 | V83: 18.3 | W83: 7.11 | X83: 79.1 | Y83: 1297.23
A84: 2021 | B84: 2021-11-2217 | C84: 4 | D84: ESTACION CHARCOMANSO | E84: LOT-200-RIO-200-RIO_NEGRO | F84: Rionegro | G84: R. 112-5304-2016 - Río Negro - Tramo: 3 - Río Negro | H84: Rio Negro | I84: 06°08'19,36" | J84: 75°25'52,78" | K84: 44529 | L84: nov | M84: Lluvias | N84: 276 | O84: 0.6 | P84: 0.3 | Q84: 0.2 | R84: 0.1 | S84: 0 | T84: 6.72 | U84: 92.2 | V84: 18 | W84: 6.86 | X84: 45.3 | Y84: N.D.
A85: 2022 | B85: 2022-02-0215 | C85: 4 | D85: ESTACION CHARCOMANSO | E85: LOT-200-RIO-200-RIO_NEGRO | F85: Rionegro | G85: R. 112-5304-2016 - Río Negro - Tramo: 3 - Río Negro | H85: Rio Negro | I85: 06°08'19,36" | J85: 75°25'52,78" | K85: 44614 | L85: feb | M85: Seco | N85: 133 | O85: 1.4 | P85: 0.5 | Q85: 0.2 | R85: 5 | S85: 39.8 | T85: 7.295 | U85: 94.1 | V85: 15.8 | W85: 6.655 | X85: 54.7 | Y85: 5861.8
A86: 2023 | B86: 2023-11-2323 | C86: 1 | D86: ROMERAL | E86: LOT-085-GUA-100-LA_MOSCA | F86: Guarne | G86: R. 112-5304-2016 - Río Negro - Tramo: 12 - Quebrada La Mosca | H86: Quebrada La Mosca | I86: 06°18'32,19" | J86: 75°27'33,70" | K86: 45251 | L86: nov | M86: Lluvias | N86: 40 | O86: 0.24 | P86: 0.12 | Q86: 0.08 | R86: 13.2 | S86: 12.2 | T86: 7.45 | U86: 99.5 | V86: 16.7 | W86: 7.57 | X86: 52.3 | Y86: 177.3
A87: 2021 | B87: 2021-07-1218 | C87: 2 | D87: ESTACION PUENTE MOLINO | E87: LOT-086-GUA-200-LA_MOSCA | F87: Guarne | G87: R. 112-5304-2016 - Río Negro - Tramo: 13 - Quebrada La Mosca | H87: Quebrada La Mosca | I87: 06°18'14,20" | J87: 75°27'23,60" | K87: 44390 | L87: jul | M87: Lluvias | N87: 316 | O87: 0.6 | P87: 0.3 | Q87: 0.2 | R87: 3.8 | S87: 10 | T87: 7.61 | U87: 101.9 | V87: 17.1 | W87: 7.34 | X87: 68 | Y87: 498.52
A88: 2019 | B88: 2019-11-2764 | C88: 2 | D88: ESTACION PUENTE MOLINO | E88: LOT-086-GUA-200-LA_MOSCA | F88: Guarne | G88: R. 112-5304-2016 - Río Negro - Tramo: 13 - Quebrada La Mosca | H88: Quebrada La Mosca | I88: 06°18'14,20" | J88: 75°27'23,60" | K88: 43794 | L88: nov | M88: Lluvias | N88: 180 | O88: 0.4 | P88: 0.1 | Q88: 0.1 | R88: 1.5 | S88: 10 | T88: 7.45 | U88: 97.8 | V88: 16 | W88: 7.38 | X88: 61.9 | Y88: 292.73
A89: 2020 | B89: 2020-02-0230 | C89: 2 | D89: ESTACION PUENTE MOLINO | E89: LOT-086-GUA-200-LA_MOSCA | F89: Guarne | G89: R. 112-5304-2016 - Río Negro - Tramo: 13 - Quebrada La Mosca | H89: Quebrada La Mosca | I89: 06°18'14,20" | J89: 75°27'23,60" | K89: 43885 | L89: feb | M89: Seco | N89: 203 | O89: 0.5 | P89: 0.2 | Q89: 0.1 | R89: 2.4 | S89: 13.8 | T89: 7.38 | U89: 99.9 | V89: 17.5 | W89: 7.31 | X89: 80.8 | Y89: 185.89
A90: 2020 | B90: 2020-08-1116 | C90: 2 | D90: ESTACION PUENTE MOLINO | E90: LOT-086-GUA-200-LA_MOSCA | F90: Guarne | G90: R. 112-5304-2016 - Río Negro - Tramo: 13 - Quebrada La Mosca | H90: Quebrada La Mosca | I90: 06°18'14,20" | J90: 75°27'23,60" | K90: 44068 | L90: ago | M90: Lluvias | N90: 224 | O90: 0.5 | P90: 0.1 | Q90: 0.1 | R90: 0.8 | S90: 10.02 | T90: 7.49 | U90: 99 | V90: 16.4 | W90: 7.33 | X90: 68.4 | Y90: 314.04
A91: 2024 | B91: 2024-06-0845 | C91: 1 | D91: ESTACION LA AMISTAD | E91: LOT-066-SAN-200-LA_MARINILLA | F91: El Santuario | G91: R. 112-5304-2016 - Río Negro - Tramo: 14 - Quebrada La Marinilla | H91: Quebrada La Marinilla | I91: 06°08'11,79" | J91: 75°16'09,54" | K91: 45461 | L91: jun | M91: Lluvias | O91: 0.46 | P91: 0.24 | Q91: 0.16 | R91: 3.7 | S91: 22.8 | T91: 6.095 | U91: 89.2 | V91: 21.3 | W91: 7.205 | X91: 106.9 | Y91: N.D.
A92: 2024 | B92: 2024-11-1993 | C92: 1 | D92: ESTACION LA AMISTAD | E92: LOT-066-SAN-200-LA_MARINILLA | F92: El Santuario | G92: R. 112-5304-2016 - Río Negro - Tramo: 14 - Quebrada La Marinilla | H92: Quebrada La Marinilla | I92: 06°08'11,79" | J92: 75°16'09,54" | K92: 45622 | L92: nov | M92: Lluvias | O92: 1.1 | P92: 0.5 | Q92: 0.4 | R92: 5.2 | S92: 32 | T92: 6.585 | U92: 94.5 | V92: 20.8 | W92: 7.1 | X92: 94.1 | Y92: N.D.
A93: 2020 | B93: 2020-08-1121 | C93: 2 | D93: ESTACION EL CHAGUALO | E93: LOT-138-MAR-500-LA_MARINILLA | F93: Marinilla | G93: R. 112-5304-2016 - Río Negro - Tramo: 14 - Quebrada La Marinilla | H93: Quebrada La Marinilla | I93: 06°09'11,79" | J93: 75°18'36,47" | K93: 44068 | L93: ago | M93: Lluvias | N93: 220 | O93: 0.9 | P93: 0.2 | Q93: 0.1 | R93: 1.1 | S93: 16.6 | T93: 6.27 | U93: 86.9 | V93: 18.7 | W93: 7.19 | X93: 80.5 | Y93: 3920
A94: 2023 | B94: 2023-11-2390 | C94: 1 | D94: ESTACION PUENTE LARGA | E94: LOT-044-CAR-200-LA_CIMARRONA | F94: El Carmen de Viboral | G94: R. 112-5304-2016 - Río Negro - Tramo: 10 - Quebrada La Cimarrona | H94: Quebrada La Cimarrona | I94: 06°04'05,00" | J94: 75°19'18,00" | K94: 45259 | L94: nov | M94: Lluvias | N94: 51 | O94: 0.76 | P94: 0.46 | Q94: 0.32 | R94: 2.7 | S94: 22.9 | T94: 6.885 | U94: 100.5 | V94: 20.5 | W94: 7.435 | X94: 88.2 | Y94: 322.9
A95: 2024 | B95: 2024-03-0233 | C95: 1 | D95: ESTACION PUENTE LARGA | E95: LOT-044-CAR-200-LA_CIMARRONA | F95: El Carmen de Viboral | G95: R. 112-5304-2016 - Río Negro - Tramo: 10 - Quebrada La Cimarrona | H95: Quebrada La Cimarrona | I95: 06°04'05,00" | J95: 75°19'18,00" | K95: 45356 | L95: mar | M95: Seco | O95: 0.62 | P95: 0.26 | Q95: 0.14 | R95: 2.2 | S95: 24.4 | T95: 6.855 | U95: 101.45 | V95: 21.1 | W95: 7.095 | X95: 120.8 | Y95: 158.9
A96: 2024 | B96: 2024-06-0909 | C96: 1 | D96: ESTACION PUENTE LARGA | E96: LOT-044-CAR-200-LA_CIMARRONA | F96: El Carmen de Viboral | G96: R. 112-5304-2016 - Río Negro - Tramo: 10 - Quebrada La Cimarrona | H96: Quebrada La Cimarrona | I96: 06°04'05,00" | J96: 75°19'18,00" | K96: 45468 | L96: jun | M96: Lluvias | O96: 0.52 | P96: 0.18 | Q96: 0.08 | R96: 1.3 | S96: 9.29 | T96: 7.27 | U96: 101.95 | V96: 18 | W96: 7.15 | X96: 69.15 | Y96: 1346.5
A97: 2024 | B97: 2024-12-2091 | C97: 1 | D97: ESTACION PUENTE LARGA | E97: LOT-044-CAR-200-LA_CIMARRONA | F97: El Carmen de Viboral | G97: R. 112-5304-2016 - Río Negro - Tramo: 10 - Quebrada La Cimarrona | H97: Quebrada La Cimarrona | I97: 06°04'05,00" | J97: 75°19'18,00" | K97: 45629 | L97: dic | M97: Lluvias | O97: 0.32 | P97: 0.1 | Q97: 0.1 | R97: 1.5 | S97: 18.3 | T97: 7.705 | U97: 106.7 | V97: 18.6 | W97: 7.155 | X97: 80.3 | Y97: N.D.
A98: 2022 | B98: 2022-06-0903 | C98: 4 | D98: ESTACION CHARCOMANSO | E98: LOT-200-RIO-200-RIO_NEGRO | F98: Rionegro | G98: R. 112-5304-2016 - Río Negro - Tramo: 3 - Río Negro | H98: Rio Negro | I98: 06°08'19,36" | J98: 75°25'52,78" | K98: 44720 | L98: jun | M98: Lluvias | N98: 143 | O98: 0.7 | P98: 0.3 | Q98: 0.1 | R98: 2 | S98: 16.6 | T98: 7.14 | U98: 93.1 | V98: 16.3 | W98: 6.925 | X98: 48.95 | Y98: 12205.4
A99: 2022 | B99: 2022-11-2183 | C99: 4 | D99: ESTACION CHARCOMANSO | E99: LOT-200-RIO-200-RIO_NEGRO | F99: Rionegro | G99: R. 112-5304-2016 - Río Negro - Tramo: 3 - Río Negro | H99: Rio Negro | I99: 06°08'19,36" | J99: 75°25'52,78" | K99: 44888 | L99: nov | M99: Lluvias | N99: 153 | O99: 0.6 | P99: 0.24 | Q99: 0.1 | R99: 7.5 | S99: 46.5 | T99: 7.065 | U99: 95.85 | V99: 19 | W99: 6.98 | X99: 45.45 | Y99: 11449.5
A100: 2023 | B100: 2023-02-0222 | C100: 4 | D100: ESTACION CHARCOMANSO | E100: LOT-200-RIO-200-RIO_NEGRO | F100: Rionegro | G100: R. 112-5304-2016 - Río Negro - Tramo: 3 - Río Negro | H100: Rio Negro | I100: 06°08'19,36" | J100: 75°25'52,78" | K100: 44985 | L100: feb | M100: Seco | N100: 103 | O100: 0.52 | P100: 0.16 | Q100: 0.06 | R100: 1.9 | S100: 23.6 | T100: 6.67 | U100: 90.9 | V100: 18.1 | W100: 6.71 | X100: 116.65 | Y100: 1318.7
A101: 2023 | B101: 2023-05-0707 | C101: 4 | D101: ESTACION CHARCOMANSO | E101: LOT-200-RIO-200-RIO_NEGRO | F101: Rionegro | G101: R. 112-5304-2016 - Río Negro - Tramo: 3 - Río Negro | H101: Rio Negro | I101: 06°08'19,36" | J101: 75°25'52,78" | K101: 45056 | L101: may | M101: Lluvias | N101: 113 | O101: 0.48 | P101: 0.18 | Q101: 0.08 | R101: 2 | S101: 7.5 | T101: 6.545 | U101: 90.55 | V101: 18.7 | W101: 6.66 | X101: 113.35 | Y101: 1202.3
A102: 2023 | B102: 2023-11-2334 | C102: 4 | D102: ESTACION CHARCOMANSO | E102: LOT-200-RIO-200-RIO_NEGRO | F102: Rionegro | G102: R. 112-5304-2016 - Río Negro - Tramo: 3 - Río Negro | H102: Rio Negro | I102: 06°08'19,36" | J102: 75°25'52,78" | K102: 45252 | L102: nov | M102: Lluvias | N102: 125 | O102: 0.44 | P102: 0.16 | Q102: 0.08 | R102: 1.5 | S102: 7.2 | T102: 6.37 | U102: 86 | V102: 17.8 | W102: 6.19 | X102: 88.75 | Y102: N.D.
A103: 2020 | B103: 2020-11-1879 | C103: 2 | D103: ESTACION PUENTE MOLINO | E103: LOT-086-GUA-200-LA_MOSCA | F103: Guarne | G103: R. 112-5304-2016 - Río Negro - Tramo: 13 - Quebrada La Mosca | H103: Quebrada La Mosca | I103: 06°18'14,20" | J103: 75°27'23,60" | K103: 44159 | L103: nov | M103: Lluvias | N103: 247 | O103: 0.6 | P103: 0.3 | Q103: 0.2 | R103: 1 | S103: 10 | T103: 7.91 | U103: 103.7 | V103: 16.1 | W103: 7.28 | X103: 65.6 | Y103: 495.38
A104: 2021 | B104: 2021-02-209 | C104: 2 | D104: ESTACION PUENTE MOLINO | E104: LOT-086-GUA-200-LA_MOSCA | F104: Guarne | G104: R. 112-5304-2016 - Río Negro - Tramo: 13 - Quebrada La Mosca | H104: Quebrada La Mosca | I104: 06°18'14,20" | J104: 75°27'23,60" | K104: 44229 | L104: feb | M104: Seco | N104: 270 | O104: 0.32 | P104: 0.1 | Q104: 0.06 | R104: 1.3 | S104: 10 | T104: 7.38 | U104: 97.3 | V104: 16.4 | W104: 7.11 | X104: 78.9 | Y104: 225.47
A105: 2021 | B105: 2021-11-2229 | C105: 2 | D105: ESTACION PUENTE MOLINO | E105: LOT-086-GUA-200-LA_MOSCA | F105: Guarne | G105: R. 112-5304-2016 - Río Negro - Tramo: 13 - Quebrada La Mosca | H105: Quebrada La Mosca | I105: 06°18'14,20" | J105: 75°27'23,60" | K105: 44529 | L105: nov | M105: Lluvias | N105: 293 | O105: 0.68 | P105: 0.32 | Q105: 0.18 | R105: 0.1 | S105: 0 | T105: 7.2 | U105: 98.7 | V105: 17.3 | W105: 7.8 | X105: 58.1 | Y105: 798.84
A106: 2022 | B106: 2022-03-0241 | C106: 2 | D106: ESTACION PUENTE MOLINO | E106: LOT-086-GUA-200-LA_MOSCA | F106: Guarne | G106: R. 112-5304-2016 - Río Negro - Tramo: 13 - Quebrada La Mosca | H106: Quebrada La Mosca | I106: 06°18'14,20" | J106: 75°27'23,60" | K106: 44621 | L106: mar | M106: Seco | N106: 54 | O106: 0.42 | P106: 0.14 | Q106: 0.04 | R106: 1.7 | S106: 7 | T106: 7.275 | U106: 95.7 | V106: 16.1 | W106: 6.97 | X106: 67.4 | Y106: 413
A107: 2022 | B107: 2022-06-0925 | C107: 2 | D107: ESTACION PUENTE MOLINO | E107: LOT-086-GUA-200-LA_MOSCA | F107: Guarne | G107: R. 112-5304-2016 - Río Negro - Tramo: 13 - Quebrada La Mosca | H107: Quebrada La Mosca | I107: 06°18'14,20" | J107: 75°27'23,60" | K107: 44720 | L107: jun | M107: Lluvias | N107: 67 | O107: 0.78 | P107: 0.46 | Q107: 0.22 | R107: 7.8 | S107: 22.6 | T107: 7.12 | U107: 95.8 | V107: 17.1 | W107: 7.045 | X107: 57 | Y107: 582.4
...

Sheet TD historicos
A1: Tiempo | B1: Seco
A2: Fuente superficial | B2: Rio Negro
A4: Promedio de Color real λ=436 nm (m⁻¹) | B4: Etiquetas de columna
A5: Etiquetas de fila | B5: 2020 | C5: 2021 | D5: 2022 | E5: 2023 | F5: 2024 | G5: Total general
A6: 1 | B6: 0.8 | C6: 0.6 | D6: 1.3 | E6: 0.42 | F6: 1.1 | G6: 0.844
A7: 2 | B7: 0.6 | C7: 0.58 | D7: 1.2 | E7: 0.4 | F7: 0.56 | G7: 0.668
A8: 4 | B8: 0.5 | C8: 0.48 | D8: 1.4 | E8: 0.52 | F8: 1.06 | G8: 0.792
A9: 6 | B9: 0.3 | C9: 0.7 | D9: 1.1 | E9: 0.62 | F9: 0.66 | G9: 0.676
A10: 7 | B10: 0.4 | C10: 0.8 | D10: 1.1 | E10: 0.76 | F10: 1.1 | G10: 0.832
A11: 8 | B11: 0.4 | C11: 0.72 | D11: 1 | E11: 1.02 | F11: 0.82 | G11: 0.792
A12: 9 | B12: 1.4 | C12: 0.68 | D12: 1 | E12: 1.54 | F12: 2.34 | G12: 1.392
A13: 10 | B13: 1.1 | C13: 1.42 | D13: 1.1 | E13: 1.46 | F13: 1.82 | G13: 1.38
A14: 11 | B14: 1.3 | C14: 0.94 | D14: 0.9 | E14: 1.32 | F14: 1.28 | G14: 1.1133333
A15: 12 | B15: 1.1 | C15: 0.84 | D15: 0.9 | E15: 1 | F15: 1.4 | G15: 1.0133333
A16: Total general | B16: 0.79 | C16: 0.795 | D16: 1.1 | E16: 0.906 | F16: 1.214 | G16: 0.95461538

Sheet RN436
A2: Rio Negro | H2: Comportamiento estadistico por estación según historicos | O2: Mediciones por año en color para todos los tramos | U2: Todas las estaciones y mediciones
A3: Orden | B3: Estaciones | C3: =H30 -> λ=436 (m⁻¹) | D3: Año | E3: Año | F3: λ=436 (m⁻¹)
A4: {=_xlfn._xlws.FILTER(CHOOSE(1,'Resultados historicos'!C:C,'Resultados historicos'!D:D,'Resultados historicos'!O:O,'Resultados historicos'!A:A),'Resultados historicos'!H:H=A2)} -> 1 | B4: {=_xlfn._xlws.FILTER(CHOOSE(2,'Resultados historicos'!C:C,'Resultados historicos'!D:D,'Resultados historicos'!O:O,'Resultados historicos'!A:A),'Resultados historicos'!H:H=A2)} -> ESTACION EL HIERBAL | C4: {=_xlfn._xlws.FILTER(CHOOSE(3,'Resultados historicos'!C:C,'Resultados historicos'!D:D,'Resultados historicos'!O:O,'Resultados historicos'!A:A),'Resultados historicos'!H:H=A2)} -> 1.2 | D4: {=_xlfn._xlws.FILTER(CHOOSE(4,'Resultados historicos'!C:C,'Resultados historicos'!D:D,'Resultados historicos'!O:O,'Resultados historicos'!A:A),'Resultados historicos'!H:H=A2)} -> 2020 | E4: 2019 | F4: 0.3
A5: 1 | B5: ESTACION EL HIERBAL | C5: 0.9 | D5: 2020 | E5: 2019 | F5: 0.5
A6: 1 | B6: ESTACION EL HIERBAL | C6: 0.7 | D6: 2021 | E6: 2019 | F6: 0.6
A7: 1 | B7: ESTACION EL HIERBAL | C7: 0.3 | D7: 2019 | E7: 2019 | F7: 0.3
A8: 1 | B8: ESTACION EL HIERBAL | C8: 0.8 | D8: 2020 | E8: 2019 | F8: 0.4
A9: 1 | B9: ESTACION EL HIERBAL | C9: 0.6 | D9: 2021 | E9: 2019 | F9: 0.4
A10: 1 | B10: ESTACION EL HIERBAL | C10: 0.7 | D10: 2021 | E10: 2019 | F10: 0.4
A11: 1 | B11: ESTACION EL HIERBAL | C11: 1.3 | D11: 2022 | E11: 2019 | F11: 0.6
A12: 1 | B12: ESTACION EL HIERBAL | C12: 0.8 | D12: 2022 | E12: 2019 | F12: 0.8
A13: 1 | B13: ESTACION EL HIERBAL | C13: 0.5 | D13: 2022 | E13: 2019 | F13: 0.4
A14: 1 | B14: ESTACION EL HIERBAL | C14: 0.42 | D14: 2023 | E14: 2020 | F14: 1.2
A15: 1 | B15: ESTACION EL HIERBAL | C15: 0.32 | D15: 2023 | E15: 2020 | F15: 0.9
A16: 1 | B16: ESTACION EL HIERBAL | C16: 0.48 | D16: 2023 | E16: 2020 | F16: 0.8
... A20: 2 | B20: ESTACION MONTENEVADO | C20: 0.4 | D20: 2021 | E20: 2020 | F20: 0.5
A21: 2 | B21: ESTACION MONTENEVADO | C21: 0.5 | D21: 2019 | E21: 2020 | F21: 1.1 | O21: =H30 -> λ=436 (m⁻¹) | W21: =O21 -> λ=436 (m⁻¹)
A22: 2 | B22: ESTACION MONTENEVADO | C22: 0.6 | D22: 2020 | E22: 2020 | F22: 0.6 | O22: Año | P22: =J31 -> n | Q22: =K31 -> Mín | R22: =L31 -> Media | S22: =M31 -> Max | T22: =N31 -> DS | V22: Intervalo de confianza para n>30 | W22: Alerta | X22: Revisión | Y22: Aceptado
A23: 2 | B23: ESTACION MONTENEVADO | C23: 1.4 | D23: 2020 | E23: 2020 | F23: 0.3 | O23: {=_xlfn._xlws.SORT(_xlfn.UNIQUE(_xlfn.ANCHORARRAY(D4)))} -> 2019 | P23: =COUNTIF(_xlfn.ANCHORARRAY($D$4),O23) -> 10 | Q23: =_xlfn.MINIFS(_xlfn.ANCHORARRAY($C$4),_xlfn.ANCHORARRAY($D$4),O23) -> 0.3 | R23: =SUMIFS(_xlfn.ANCHORARRAY($C$4),_xlfn.ANCHORARRAY($D$4),O23)/P23 -> 0.47 | S23: =_xlfn.MAXIFS(_xlfn.ANCHORARRAY($C$4),_xlfn.ANCHORARRAY($D$4),O23) -> 0.8 | T23: {=_xlfn.STDEV.S(_xlfn._xlws.FILTER(_xlfn.ANCHORARRAY($C$4),_xlfn.ANCHORARRAY($D$4)=O23))} -> 0.15670212 | V23: Nivel de confianza | W23: 0.9 | X23: 0.95 | Y23: 0.99
A24: 2 | B24: ESTACION MONTENEVADO | C24: 0.8 | D24: 2020 | E24: 2020 | F24: 0.8 | O24: 2020 | P24: =COUNTIF(_xlfn.ANCHORARRAY($D$4),O24) -> 28 | Q24: =_xlfn.MINIFS(_xlfn.ANCHORARRAY($C$4),_xlfn.ANCHORARRAY($D$4),O24) -> 0.3 | R24: =SUMIFS(_xlfn.ANCHORARRAY($C$4),_xlfn.ANCHORARRAY($D$4),O24)/P24 -> 0.86785714 | S24: =_xlfn.MAXIFS(_xlfn.ANCHORARRAY($C$4),_xlfn.ANCHORARRAY($D$4),O24) -> 1.4 | T24: {=_xlfn.STDEV.S(_xlfn._xlws.FILTER(_xlfn.ANCHORARRAY($C$4),_xlfn.ANCHORARRAY($D$4)=O24))} -> 0.2881018 | V24: Nivel de significancia | W24: =1-W23 -> 0.1 | X24: =1-X23 -> 0.05 | Y24: =1-Y23 -> 0.01
A25: 2 | B25: ESTACION MONTENEVADO | C25: 0.58 | D25: 2021 | E25: 2020 | F25: 0.7 | O25: 2021 | P25: =COUNTIF(_xlfn.ANCHORARRAY($D$4),O25) -> 30 | Q25: =_xlfn.MINIFS(_xlfn.ANCHORARRAY($C$4),_xlfn.ANCHORARRAY($D$4),O25) -> 0.08 | R25: =SUMIFS(_xlfn.ANCHORARRAY($C$4),_xlfn.ANCHORARRAY($D$4),O25)/P25 -> 0.724 | S25: =_xlfn.MAXIFS(_xlfn.ANCHORARRAY($C$4),_xlfn.ANCHORARRAY($D$4),O25) -> 1.48 | T25: {=_xlfn.STDEV.S(_xlfn._xlws.FILTER(_xlfn.ANCHORARRAY($C$4),_xlfn.ANCHORARRAY($D$4)=O25))} -> 0.29629436 | V25: Z(1-a/2) | W25: =_xlfn.NORM.S.INV(1-(W24/2)) -> 1.6448536 | X25: =_xlfn.NORM.S.INV(1-(X24/2)) -> 1.959964 | Y25: =_xlfn.NORM.S.INV(1-(Y24/2)) -> 2.5758293
A26: 2 | B26: ESTACION MONTENEVADO | C26: 0.6 | D26: 2021 | E26: 2020 | F26: 0.9 | O26: 2022 | P26: =COUNTIF(_xlfn.ANCHORARRAY($D$4),O26) -> 30 | Q26: =_xlfn.MINIFS(_xlfn.ANCHORARRAY($C$4),_xlfn.ANCHORARRAY($D$4),O26) -> 0.5 | R26: =SUMIFS(_xlfn.ANCHORARRAY($C$4),_xlfn.ANCHORARRAY($D$4),O26)/P26 -> 0.855 | S26: =_xlfn.MAXIFS(_xlfn.ANCHORARRAY($C$4),_xlfn.ANCHORARRAY($D$4),O26) -> 1.68 | T26: {=_xlfn.STDEV.S(_xlfn._xlws.FILTER(_xlfn.ANCHORARRAY($C$4),_xlfn.ANCHORARRAY($D$4)=O26))} -> 0.28491681 | V26: Intervalo de confianza | W26: =TEXT(R29,"0,00")&" ± "&TEXT((W25*T29/SQRT(P29)),"0,00") -> 0,82 ± 0,06 | X26: =TEXT(R29,"0,00")&" ± "&TEXT((X25*T29/SQRT(P29)),"0,00") -> 0,82 ± 0,07 | Y26: =TEXT(R29,"0,00")&" ± "&TEXT((Y25*T29/SQRT(P29)),"0,00") -> 0,82 ± 0,09
A27: 2 | B27: ESTACION MONTENEVADO | C27: 1.2 | D27: 2022 | E27: 2020 | F27: 0.9 | O27: 2023 | P27: =COUNTIF(_xlfn.ANCHORARRAY($D$4),O27) -> 30 | Q27: =_xlfn.MINIFS(_xlfn.ANCHORARRAY($C$4),_xlfn.ANCHORARRAY($D$4),O27) -> 0.24 | R27: =SUMIFS(_xlfn.ANCHORARRAY($C$4),_xlfn.ANCHORARRAY($D$4),O27)/P27 -> 0.60566667 | S27: =_xlfn.MAXIFS(_xlfn.ANCHORARRAY($C$4),_xlfn.ANCHORARRAY($D$4),O27) -> 1.54 | T27: {=_xlfn.STDEV.S(_xlfn._xlws.FILTER(_xlfn.ANCHORARRAY($C$4),_xlfn.ANCHORARRAY($D$4)=O27))} -> 0.36102998 | V27: L inf | W27: =R29-(W25*T29/SQRT(P29)) -> 0.76744277 | X27: =R29-(X25*T29/SQRT(P29)) -> 0.75686496 | Y27: =R29-(Y25*T29/SQRT(P29)) -> 0.73619121
A28: 2 | B28: ESTACION MONTENEVADO | C28: 0.6 | D28: 2022 | E28: 2020 | F28: 0.4 | O28: 2024 | P28: =COUNTIF(_xlfn.ANCHORARRAY($D$4),O28) -> 30 | Q28: =_xlfn.MINIFS(_xlfn.ANCHORARRAY($C$4),_xlfn.ANCHORARRAY($D$4),O28) -> 0.56 | R28: =SUMIFS(_xlfn.ANCHORARRAY($C$4),_xlfn.ANCHORARRAY($D$4),O28)/P28 -> 1.1813333 | S28: =_xlfn.MAXIFS(_xlfn.ANCHORARRAY($C$4),_xlfn.ANCHORARRAY($D$4),O28) -> 2.34 | T28: {=_xlfn.STDEV.S(_xlfn._xlws.FILTER(_xlfn.ANCHORARRAY($C$4),_xlfn.ANCHORARRAY($D$4)=O28))} -> 0.58469994 | V28: L sup | W28: =R29+(W25*T29/SQRT(P29)) -> 0.87787368 | X28: =R29+(X25*T29/SQRT(P29)) -> 0.8884515 | Y28: =R29+(Y25*T29/SQRT(P29)) -> 0.90912524
A29: 2 | B29: ESTACION MONTENEVADO | C29: 0.54 | D29: 2022 | E29: 2020 | F29: 0.8 | O29: Todos | P29: =SUM(P23:P28) -> 158 | R29: =AVERAGE(_xlfn.ANCHORARRAY(C4)) -> 0.82265823 | T29: =_xlfn.STDEV.S(_xlfn.ANCHORARRAY(C4)) -> 0.42195091
A30: 2 | B30: ESTACION MONTENEVADO | C30: 0.4 | D30: 2023 | E30: 2020 | F30: 1.2 | H30: ='Estadistico resumen'!$G$1 -> λ=436 (m⁻¹)
A31: 2 | B31: ESTACION MONTENEVADO | C31: 0.36 | D31: 2023 | E31: 2020 | F31: 0.4 | H31: Orden | I31: Estaciones | J31: ='Estadistico resumen'!$D$2 -> n | K31: Mín | L31: Media | M31: Max | N31: DS
A32: 2 | B32: ESTACION MONTENEVADO | C32: 0.34 | D32: 2023 | E32: 2020 | F32: 1.4 | H32: {=_xlfn._xlws.SORT(_xlfn.UNIQUE(_xlfn.ANCHORARRAY(A4)))} -> 1 | I32: =VLOOKUP(H32,$A$4:$B$161,2) -> ESTACION EL HIERBAL | J32: =COUNTIF(_xlfn.ANCHORARRAY($B$4),I32) -> 16 | K32: =_xlfn.MINIFS(_xlfn.ANCHORARRAY($C$4),_xlfn.ANCHORARRAY($B$4),I32) -> 0.3 | L32: =SUMIFS(_xlfn.ANCHORARRAY($C$4),_xlfn.ANCHORARRAY($B$4),I32)/J32 -> 0.72 | M32: =_xlfn.MAXIFS(_xlfn.ANCHORARRAY($C$4),_xlfn.ANCHORARRAY($B$4),I32) -> 1.3 | N32: {=_xlfn.STDEV.S(_xlfn._xlws.FILTER(_xlfn.ANCHORARRAY($C$4),_xlfn.ANCHORARRAY($B$4)=I32))} -> 0.29933259
A33: 2 | B33: ESTACION MONTENEVADO | C33: 0.56 | D33: 2024 | E33: 2020 | F33: 0.9 | H33: 2 | I33: =VLOOKUP(H33,$A$4:$B$161,2) -> ESTACION MONTENEVADO | J33: =COUNTIF(_xlfn.ANCHORARRAY($B$4),I33) -> 16 | K33: =_xlfn.MINIFS(_xlfn.ANCHORARRAY($C$4),_xlfn.ANCHORARRAY($B$4),I33) -> 0.34 | L33: =SUMIFS(_xlfn.ANCHORARRAY($C$4),_xlfn.ANCHORARRAY($B$4),I33)/J33 -> 0.72625 | M33: =_xlfn.MAXIFS(_xlfn.ANCHORARRAY($C$4),_xlfn.ANCHORARRAY($B$4),I33) -> 2.12 | N33: {=_xlfn.STDEV.S(_xlfn._xlws.FILTER(_xlfn.ANCHORARRAY($C$4),_xlfn.ANCHORARRAY($B$4)=I33))} -> 0.47021803
A34: 2 | B34: ESTACION MONTENEVADO | C34: 0.62 | D34: 2024 | E34: 2020 | F34: 1.1 | H34: 4 | I34: =VLOOKUP(H34,$A$4:$B$161,2) -> ESTACION CHARCOMANSO | J34: =COUNTIF(_xlfn.ANCHORARRAY($B$4),I34) -> 16 | K34: =_xlfn.MINIFS(_xlfn.ANCHORARRAY($C$4),_xlfn.ANCHORARRAY($B$4),I34) -> 0.44 | L34: =SUMIFS(_xlfn.ANCHORARRAY($C$4),_xlfn.ANCHORARRAY($B$4),I34)/J34 -> 0.775 | M34: =_xlfn.MAXIFS(_xlfn.ANCHORARRAY($C$4),_xlfn.ANCHORARRAY($B$4),I34) -> 1.82 | N34: {=_xlfn.STDEV.S(_xlfn._xlws.FILTER(_xlfn.ANCHORARRAY($C$4),_xlfn.ANCHORARRAY($B$4)=I34))} -> 0.3890844
A35: 2 | B35: ESTACION MONTENEVADO | C35: 2.12 | D35: 2024 | E35: 2020 | F35: 0.8 | H35: 6 | I35: =VLOOKUP(H35,$A$4:$B$161,2) -> ESTACION BOCATOMA MUNICIPIO DE RIONEGRO | J35: =COUNTIF(_xlfn.ANCHORARRAY($B$4),I35) -> 16 | K35: =_xlfn.MINIFS(_xlfn.ANCHORARRAY($C$4),_xlfn.ANCHORARRAY($B$4),I35) -> 0.3 | L35: =SUMIFS(_xlfn.ANCHORARRAY($C$4),_xlfn.ANCHORARRAY($B$4),I35)/J35 -> 0.6975 | M35: =_xlfn.MAXIFS(_xlfn.ANCHORARRAY($C$4),_xlfn.ANCHORARRAY($B$4),I35) -> 2.2 | N35: {=_xlfn.STDEV.S(_xlfn._xlws.FILTER(_xlfn.ANCHORARRAY($C$4),_xlfn.ANCHORARRAY($B$4)=I35))} -> 0.4541292
A36: 4 | B36: ESTACION CHARCOMANSO | C36: 1.06 | D36: 2024 | E36: 2020 | F36: 0.9 | H36: 7 | I36: =VLOOKUP(H36,$A$4:$B$161,2) -> ESTACION PUENTE REAL | J36: =COUNTIF(_xlfn.ANCHORARRAY($B$4),I36) -> 16 | K36: =_xlfn.MINIFS(_xlfn.ANCHORARRAY($C$4),_xlfn.ANCHORARRAY($B$4),I36) -> 0.3 | L36: =SUMIFS(_xlfn.ANCHORARRAY($C$4),_xlfn.ANCHORARRAY($B$4),I36)/J36 -> 0.755625 | M36: =_xlfn.MAXIFS(_xlfn.ANCHORARRAY($C$4),_xlfn.ANCHORARRAY($B$4),I36) -> 1.6 | N36: {=_xlfn.STDEV.S(_xlfn._xlws.FILTER(_xlfn.ANCHORARRAY($C$4),_xlfn.ANCHORARRAY($B$4)=I36))} -> 0.34134965
A37: 4 | B37: ESTACION CHARCOMANSO | C37: 0.6 | D37: 2024 | E37: 2020 | F37: 0.9 | H37: 8 | I37: =VLOOKUP(H37,$A$4:$B$161,2) -> ESTACION PUENTE ANTES DE LA EBAR EPRIO | J37: =COUNTIF(_xlfn.ANCHORARRAY($B$4),I37) -> 16 | K37: =_xlfn.MINIFS(_xlfn.ANCHORARRAY($C$4),_xlfn.ANCHORARRAY($B$4),I37) -> 0.24 | L37: =SUMIFS(_xlfn.ANCHORARRAY($C$4),_xlfn.ANCHORARRAY($B$4),I37)/J37 -> 0.8025 | M37: =_xlfn.MAXIFS(_xlfn.ANCHORARRAY($C$4),_xlfn.ANCHORARRAY($B$4),I37) -> 2.2 | N37: {=_xlfn.STDEV.S(_xlfn._xlws.FILTER(_xlfn.ANCHORARRAY($C$4),_xlfn.ANCHORARRAY($B$4)=I37))} -> 0.44547353
A38: 4 | B38: ESTACION CHARCOMANSO | C38: 1.82 | D38: 2024 | E38: 2020 | F38: 0.8 | H38: 9 | I38: =VLOOKUP(H38,$A$4:$B$161,2) -> ESTACION DESPUES DE LA DESCARGA DE LA PTARD MUNICIPIO DE RIONEGRO | J38: =COUNTIF(_xlfn.ANCHORARRAY($B$4),I38) -> 15 | K38: =_xlfn.MINIFS(_xlfn.ANCHORARRAY($C$4),_xlfn.ANCHORARRAY($B$4),I38) -> 0.28 | L38: =SUMIFS(_xlfn.ANCHORARRAY($C$4),_xlfn.ANCHORARRAY($B$4),I38)/J38 -> 1.0293333 | M38: =_xlfn.MAXIFS(_xlfn.ANCHORARRAY($C$4),_xlfn.ANCHORARRAY($B$4),I38) -> 2.34 | N38: {=_xlfn.STDEV.S(_xlfn._xlws.FILTER(_xlfn.ANCHORARRAY($C$4),_xlfn.ANCHORARRAY($B$4)=I38))} -> 0.55192477
A39: 4 | B39: ESTACION CHARCOMANSO | C39: 0.9 | D39: 2021 | E39: 2020 | F39: 1.3 | H39: 10 | I39: =VLOOKUP(H39,$A$4:$B$161,2) -> ESTACION PUENTE AUTOPISTA | J39: =COUNTIF(_xlfn.ANCHORARRAY($B$4),I39) -> 16 | K39: =_xlfn.MINIFS(_xlfn.ANCHORARRAY($C$4),_xlfn.ANCHORARRAY($B$4),I39) -> 0.08 | L39: =SUMIFS(_xlfn.ANCHORARRAY($C$4),_xlfn.ANCHORARRAY($B$4),I39)/J39 -> 0.965 | M39: =_xlfn.MAXIFS(_xlfn.ANCHORARRAY($C$4),_xlfn.ANCHORARRAY($B$4),I39) -> 1.82 | N39: {=_xlfn.STDEV.S(_xlfn._xlws.FILTER(_xlfn.ANCHORARRAY($C$4),_xlfn.ANCHORARRAY($B$4)=I39))} -> 0.47924941
A40: 4 | B40: ESTACION CHARCOMANSO | C40: 0.6 | D40: 2019 | E40: 2020 | F40: 0.8 | H40: 11 | I40: =VLOOKUP(H40,$A$4:$B$161,2) -> ESTACION LA FRESERA | J40: =COUNTIF(_xlfn.ANCHORARRAY($B$4),I40) -> 16 | K40: =_xlfn.MINIFS(_xlfn.ANCHORARRAY($C$4),_xlfn.ANCHORARRAY($B$4),I40) -> 0.3 | L40: =SUMIFS(_xlfn.ANCHORARRAY($C$4),_xlfn.ANCHORARRAY($B$4),I40)/J40 -> 0.93 | M40: =_xlfn.MAXIFS(_xlfn.ANCHORARRAY($C$4),_xlfn.ANCHORARRAY($B$4),I40) -> 1.86 | N40: {=_xlfn.STDEV.S(_xlfn._xlws.FILTER(_xlfn.ANCHORARRAY($C$4),_xlfn.ANCHORARRAY($B$4)=I40))} -> 0.41773995
A41: 4 | B41: ESTACION CHARCOMANSO | C41: 0.5 | D41: 2020 | E41: 2020 | F41: 1.1 | H41: 12 | I41: =VLOOKUP(H41,$A$4:$B$161,2) -> ESTACION RIO ABAJO | J41: =COUNTIF(_xlfn.ANCHORARRAY($B$4),I41) -> 15 | K41: =_xlfn.MINIFS(_xlfn.ANCHORARRAY($C$4),_xlfn.ANCHORARRAY($B$4),I41) -> 0.25 | L41: =SUMIFS(_xlfn.ANCHORARRAY($C$4),_xlfn.ANCHORARRAY($B$4),I41)/J41 -> 0.83933333 | M41: =_xlfn.MAXIFS(_xlfn.ANCHORARRAY($C$4),_xlfn.ANCHORARRAY($B$4),I41) -> 1.4 | N41: {=_xlfn.STDEV.S(_xlfn._xlws.FILTER(_xlfn.ANCHORARRAY($C$4),_xlfn.ANCHORARRAY($B$4)=I41))} -> 0.27251387
A42: 4 | B42: ESTACION CHARCOMANSO | C42: 1.1 | D42: 2020 | E42: 2021 | F42: 0.7
A43: 4 | B43: ESTACION CHARCOMANSO | C43: 0.6 | D43: 2020 | E43: 2021 | F43: 0.6
A44: 4 | B44: ESTACION CHARCOMANSO | C44: 0.48 | D44: 2021 | E44: 2021 | F44: 0.7
A45: 4 | B45: ESTACION CHARCOMANSO | C45: 0.6 | D45: 2021 | E45: 2021 | F45: 0.4
A46: 4 | B46: ESTACION CHARCOMANSO | C46: 1.4 | D46: 2022 | E46: 2021 | F46: 0.58
A47: 4 | B47: ESTACION CHARCOMANSO | C47: 0.7 | D47: 2022 | E47: 2021 | F47: 0.6
A48: 4 | B48: ESTACION CHARCOMANSO | C48: 0.6 | D48: 2022 | E48: 2021 | F48: 0.9
A49: 4 | B49: ESTACION CHARCOMANSO | C49: 0.52 | D49: 2023 | E49: 2021 | F49: 0.48
A50: 4 | B50: ESTACION CHARCOMANSO | C50: 0.48 | D50: 2023 | E50: 2021 | F50: 0.6
A51: 4 | B51: ESTACION CHARCOMANSO | C51: 0.44 | D51: 2023 | E51: 2021 | F51: 0.4
A52: 6 | B52: ESTACION BOCATOMA MUNICIPIO DE RIONEGRO | C52: 0.66 | D52: 2024 | E52: 2021 | F52: 0.7
A53: 6 | B53: ESTACION BOCATOMA MUNICIPIO DE RIONEGRO | C53: 0.62 | D53: 2024 | E53: 2021 | F53: 0.8
... A161: 12 | B161: ESTACION RIO ABAJO | C161: 0.25 | D161: 2023 | E161: 2024 | F161: 1.4

Sheet RN525
A2: Rio Negro | H2: Comportamiento estadistico por estación según historicos | O2: Mediciones por año en color para todos los tramos | U2: Todas las estaciones y mediciones
A3: Orden | B3: Estaciones | C3: =H30 -> λ=525 (m⁻¹) | D3: Año | E3: Año | F3: λ=436 (m⁻¹)
A4: {=_xlfn._xlws.FILTER(CHOOSE(1,'Resultados historicos'!C:C,'Resultados historicos'!D:D,'Resultados historicos'!O:O,'Resultados historicos'!A:A),'Resultados historicos'!H:H=A2)} -> 1 | B4: {=_xlfn._xlws.FILTER(CHOOSE(2,'Resultados historicos'!C:C,'Resultados historicos'!D:D,'Resultados historicos'!O:O,'Resultados historicos'!A:A),'Resultados historicos'!H:H=A2)} -> ESTACION EL HIERBAL | C4: {=_xlfn._xlws.FILTER(CHOOSE(3,'Resultados historicos'!C:C,'Resultados historicos'!D:D,'Resultados historicos'!P:P,'Resultados historicos'!A:A),'Resultados historicos'!H:H=A2)} -> 0.4 | D4: {=_xlfn._xlws.FILTER(CHOOSE(4,'Resultados historicos'!C:C,'Resultados historicos'!D:D,'Resultados historicos'!O:O,'Resultados historicos'!A:A),'Resultados historicos'!H:H=A2)} -> 2020 | E4: 2019 | F4: 0.1
A5: 1 | B5: ESTACION EL HIERBAL | C5: 0.4 | D5: 2020 | E5: 2019 | F5: 0.1
A6: 1 | B6: ESTACION EL HIERBAL | C6: 0.3 | D6: 2021 | E6: 2019 | F6: 0.1
A7: 1 | B7: ESTACION EL HIERBAL | C7: 0.1 | D7: 2019 | E7: 2019 | F7: 0.1
A8: 1 | B8: ESTACION EL HIERBAL | C8: 0.3 | D8: 2020 | E8: 2019 | F8: 0.1
A9: 1 | B9: ESTACION EL HIERBAL | C9: 0.26 | D9: 2021 | E9: 2019 | F9: 0.1
A10: 1 | B10: ESTACION EL HIERBAL | C10: 0.3 | D10: 2021 | E10: 2019 | F10: 0.1
A11: 1 | B11: ESTACION EL HIERBAL | C11: 0.4 | D11: 2022 | E11: 2019 | F11: 0.2
A12: 1 | B12: ESTACION EL HIERBAL | C12: 0.3 | D12: 2022 | E12: 2019 | F12: 0.3
A13: 1 | B13: ESTACION EL HIERBAL | C13: 0.18 | D13: 2022 | E13: 2019 | F13: 0.1
A14: 1 | B14: ESTACION EL HIERBAL | C14: 0.16 | D14: 2023 | E14: 2020 | F14: 0.4
A15: 1 | B15: ESTACION EL HIERBAL | C15: 0.1 | D15: 2023 | E15: 2020 | F15: 0.4
A16: 1 | B16: ESTACION EL HIERBAL | C16: 0.18 | D16: 2023 | E16: 2020 | F16: 0.3
... A20: 2 | B20: ESTACION MONTENEVADO | C20: 0.1 | D20: 2021 | E20: 2020 | F20: 0.2
A21: 2 | B21: ESTACION MONTENEVADO | C21: 0.1 | D21: 2019 | E21: 2020 | F21: 0.3 | O21: =H30 -> λ=525 (m⁻¹) | W21: =O21 -> λ=525 (m⁻¹)
A22: 2 | B22: ESTACION MONTENEVADO | C22: 0.3 | D22: 2020 | E22: 2020 | F22: 0.3 | O22: Año | P22: =J31 -> n | Q22: =K31 -> Mín | R22: =L31 -> Media | S22: =M31 -> Max | T22: =N31 -> DS | V22: Intervalo de confianza para n>30 | W22: Alerta | X22: Revisión | Y22: Aceptado
A23: 2 | B23: ESTACION MONTENEVADO | C23: 0.5 | D23: 2020 | E23: 2020 | F23: 0.1 | O23: {=_xlfn._xlws.SORT(_xlfn.UNIQUE(_xlfn.ANCHORARRAY(D4)))} -> 2019 | P23: =COUNTIF(_xlfn.ANCHORARRAY($D$4),O23) -> 10 | Q23: =_xlfn.MINIFS(_xlfn.ANCHORARRAY($C$4),_xlfn.ANCHORARRAY($D$4),O23) -> 0.1 | R23: =SUMIFS(_xlfn.ANCHORARRAY($C$4),_xlfn.ANCHORARRAY($D$4),O23)/P23 -> 0.13 | S23: =_xlfn.MAXIFS(_xlfn.ANCHORARRAY($C$4),_xlfn.ANCHORARRAY($D$4),O23) -> 0.3 | T23: {=_xlfn.STDEV.S(_xlfn._xlws.FILTER(_xlfn.ANCHORARRAY($C$4),_xlfn.ANCHORARRAY($D$4)=O23))} -> 0.067494856 | V23: Nivel de confianza | W23: 0.9 | X23: 0.95 | Y23: 0.99
A24: 2 | B24: ESTACION MONTENEVADO | C24: 0.4 | D24: 2020 | E24: 2020 | F24: 0.2 | O24: 2020 | P24: =COUNTIF(_xlfn.ANCHORARRAY($D$4),O24) -> 28 | Q24: =_xlfn.MINIFS(_xlfn.ANCHORARRAY($C$4),_xlfn.ANCHORARRAY($D$4),O24) -> 0.1 | R24: =SUMIFS(_xlfn.ANCHORARRAY($C$4),_xlfn.ANCHORARRAY($D$4),O24)/P24 -> 0.375 | S24: =_xlfn.MAXIFS(_xlfn.ANCHORARRAY($C$4),_xlfn.ANCHORARRAY($D$4),O24) -> 0.8 | T24: {=_xlfn.STDEV.S(_xlfn._xlws.FILTER(_xlfn.ANCHORARRAY($C$4),_xlfn.ANCHORARRAY($D$4)=O24))} -> 0.18584143 | V24: Nivel de significancia | W24: =1-W23 -> 0.1 | X24: =1-X23 -> 0.05 | Y24: =1-Y23 -> 0.01
A25: 2 | B25: ESTACION MONTENEVADO | C25: 0.34 | D25: 2021 | E25: 2020 | F25: 0.3 | O25: 2021 | P25: =COUNTIF(_xlfn.ANCHORARRAY($D$4),O25) -> 30 | Q25: =_xlfn.MINIFS(_xlfn.ANCHORARRAY($C$4),_xlfn.ANCHORARRAY($D$4),O25) -> 0.1 | R25: =SUMIFS(_xlfn.ANCHORARRAY($C$4),_xlfn.ANCHORARRAY($D$4),O25)/P25 -> 0.396 | S25: =_xlfn.MAXIFS(_xlfn.ANCHORARRAY($C$4),_xlfn.ANCHORARRAY($D$4),O25) -> 1.06 | T25: {=_xlfn.STDEV.S(_xlfn._xlws.FILTER(_xlfn.ANCHORARRAY($C$4),_xlfn.ANCHORARRAY($D$4)=O25))} -> 0.20998522 | V25: Z(1-a/2) | W25: =_xlfn.NORM.S.INV(1-(W24/2)) -> 1.6448536 | X25: =_xlfn.NORM.S.INV(1-(X24/2)) -> 1.959964 | Y25: =_xlfn.NORM.S.INV(1-(Y24/2)) -> 2.5758293
A26: 2 | B26: ESTACION MONTENEVADO | C26: 0.3 | D26: 2021 | E26: 2020 | F26: 0.2 | O26: 2022 | P26: =COUNTIF(_xlfn.ANCHORARRAY($D$4),O26) -> 30 | Q26: =_xlfn.MINIFS(_xlfn.ANCHORARRAY($C$4),_xlfn.ANCHORARRAY($D$4),O26) -> 0.18 | R26: =SUMIFS(_xlfn.ANCHORARRAY($C$4),_xlfn.ANCHORARRAY($D$4),O26)/P26 -> 0.35733333 | S26: =_xlfn.MAXIFS(_xlfn.ANCHORARRAY($C$4),_xlfn.ANCHORARRAY($D$4),O26) -> 0.98 | T26: {=_xlfn.STDEV.S(_xlfn._xlws.FILTER(_xlfn.ANCHORARRAY($C$4),_xlfn.ANCHORARRAY($D$4)=O26))} -> 0.14304408 | V26: Intervalo de confianza | W26: =TEXT(R29,"0,00")&" ± "&TEXT((W25*T29/SQRT(P29)),"0,00") -> 0,40 ± 0,04 | X26: =TEXT(R29,"0,00")&" ± "&TEXT((X25*T29/SQRT(P29)),"0,00") -> 0,40 ± 0,05 | Y26: =TEXT(R29,"0,00")&" ± "&TEXT((Y25*T29/SQRT(P29)),"0,00") -> 0,40 ± 0,06
A27: 2 | B27: ESTACION MONTENEVADO | C27: 0.4 | D27: 2022 | E27: 2020 | F27: 0.4 | O27: 2023 | P27: =COUNTIF(_xlfn.ANCHORARRAY($D$4),O27) -> 30 | Q27: =_xlfn.MINIFS(_xlfn.ANCHORARRAY($C$4),_xlfn.ANCHORARRAY($D$4),O27) -> 0.08 | R27: =SUMIFS(_xlfn.ANCHORARRAY($C$4),_xlfn.ANCHORARRAY($D$4),O27)/P27 -> 0.26733333 | S27: =_xlfn.MAXIFS(_xlfn.ANCHORARRAY($C$4),_xlfn.ANCHORARRAY($D$4),O27) -> 0.94 | T27: {=_xlfn.STDEV.S(_xlfn._xlws.FILTER(_xlfn.ANCHORARRAY($C$4),_xlfn.ANCHORARRAY($D$4)=O27))} -> 0.22544872 | V27: L inf | W27: =R29-(W25*T29/SQRT(P29)) -> 0.35934101 | X27: =R29-(X25*T29/SQRT(P29)) -> 0.35152758 | Y27: =R29-(Y25*T29/SQRT(P29)) -> 0.33625666
A28: 2 | B28: ESTACION MONTENEVADO | C28: 0.3 | D28: 2022 | E28: 2020 | F28: 0.2 | O28: 2024 | P28: =COUNTIF(_xlfn.ANCHORARRAY($D$4),O28) -> 30 | Q28: =_xlfn.MINIFS(_xlfn.ANCHORARRAY($C$4),_xlfn.ANCHORARRAY($D$4),O28) -> 0.22 | R28: =SUMIFS(_xlfn.ANCHORARRAY($C$4),_xlfn.ANCHORARRAY($D$4),O28)/P28 -> 0.69333333 | S28: =_xlfn.MAXIFS(_xlfn.ANCHORARRAY($C$4),_xlfn.ANCHORARRAY($D$4),O28) -> 1.78 | T28: {=_xlfn.STDEV.S(_xlfn._xlws.FILTER(_xlfn.ANCHORARRAY($C$4),_xlfn.ANCHORARRAY($D$4)=O28))} -> 0.49204242 | V28: L sup | W28: =R29+(W25*T29/SQRT(P29)) -> 0.44091215 | X28: =R29+(X25*T29/SQRT(P29)) -> 0.44872559 | Y28: =R29+(Y25*T29/SQRT(P29)) -> 0.4639965
A29: 2 | B29: ESTACION MONTENEVADO | C29: 0.22 | D29: 2022 | E29: 2020 | F29: 0.2 | O29: Todos | P29: =SUM(P23:P28) -> 158 | R29: =AVERAGE(_xlfn.ANCHORARRAY(C4)) -> 0.40012658 | T29: =_xlfn.STDEV.S(_xlfn.ANCHORARRAY(C4)) -> 0.31167921
A30: 2 | B30: ESTACION MONTENEVADO | C30: 0.14 | D30: 2023 | E30: 2020 | F30: 0.6 | H30: ='Estadistico resumen'!K1 -> λ=525 (m⁻¹)
A31: 2 | B31: ESTACION MONTENEVADO | C31: 0.1 | D31: 2023 | E31: 2020 | F31: 0.1 | H31: Orden | I31: Estaciones | J31: ='Estadistico resumen'!$D$2 -> n | K31: Mín | L31: Media | M31: Max | N31: DS
A32: 2 | B32: ESTACION MONTENEVADO | C32: 0.16 | D32: 2023 | E32: 2020 | F32: 0.8 | H32: {=_xlfn._xlws.SORT(_xlfn.UNIQUE(_xlfn.ANCHORARRAY(A4)))} -> 1 | I32: =VLOOKUP(H32,$A$4:$B$161,2) -> ESTACION EL HIERBAL | J32: =COUNTIF(_xlfn.ANCHORARRAY($B$4),I32) -> 16 | K32: =_xlfn.MINIFS(_xlfn.ANCHORARRAY($C$4),_xlfn.ANCHORARRAY($B$4),I32) -> 0.1 | L32: =SUMIFS(_xlfn.ANCHORARRAY($C$4),_xlfn.ANCHORARRAY($B$4),I32)/J32 -> 0.28625 | M32: =_xlfn.MAXIFS(_xlfn.ANCHORARRAY($C$4),_xlfn.ANCHORARRAY($B$4),I32) -> 0.54 | N32: {=_xlfn.STDEV.S(_xlfn._xlws.FILTER(_xlfn.ANCHORARRAY($C$4),_xlfn.ANCHORARRAY($B$4)=I32))} -> 0.12015962
A33: 2 | B33: ESTACION MONTENEVADO | C33: 0.22 | D33: 2024 | E33: 2020 | F33: 0.4 | H33: 2 | I33: =VLOOKUP(H33,$A$4:$B$161,2) -> ESTACION MONTENEVADO | J33: =COUNTIF(_xlfn.ANCHORARRAY($B$4),I33) -> 16 | K33: =_xlfn.MINIFS(_xlfn.ANCHORARRAY($C$4),_xlfn.ANCHORARRAY($B$4),I33) -> 0.1 | L33: =SUMIFS(_xlfn.ANCHORARRAY($C$4),_xlfn.ANCHORARRAY($B$4),I33)/J33 -> 0.35125 | M33: =_xlfn.MAXIFS(_xlfn.ANCHORARRAY($C$4),_xlfn.ANCHORARRAY($B$4),I33) -> 1.78 | N33: {=_xlfn.STDEV.S(_xlfn._xlws.FILTER(_xlfn.ANCHORARRAY($C$4),_xlfn.ANCHORARRAY($B$4)=I33))} -> 0.3991303
A34: 2 | B34: ESTACION MONTENEVADO | C34: 0.26 | D34: 2024 | E34: 2020 | F34: 0.7 | H34: 4 | I34: =VLOOKUP(H34,$A$4:$B$161,2) -> ESTACION CHARCOMANSO | J34: =COUNTIF(_xlfn.ANCHORARRAY($B$4),I34) -> 16 | K34: =_xlfn.MINIFS(_xlfn.ANCHORARRAY($C$4),_xlfn.ANCHORARRAY($B$4),I34) -> 0.1 | L34: =SUMIFS(_xlfn.ANCHORARRAY($C$4),_xlfn.ANCHORARRAY($B$4),I34)/J34 -> 0.34375 | M34: =_xlfn.MAXIFS(_xlfn.ANCHORARRAY($C$4),_xlfn.ANCHORARRAY($B$4),I34) -> 1.38 | N34: {=_xlfn.STDEV.S(_xlfn._xlws.FILTER(_xlfn.ANCHORARRAY($C$4),_xlfn.ANCHORARRAY($B$4)=I34))} -> 0.29970819
A35: 2 | B35: ESTACION MONTENEVADO | C35: 1.78 | D35: 2024 | E35: 2020 | F35: 0.3 | H35: 6 | I35: =VLOOKUP(H35,$A$4:$B$161,2) -> ESTACION BOCATOMA MUNICIPIO DE RIONEGRO | J35: =COUNTIF(_xlfn.ANCHORARRAY($B$4),I35) -> 16 | K35: =_xlfn.MINIFS(_xlfn.ANCHORARRAY($C$4),_xlfn.ANCHORARRAY($B$4),I35) -> 0.1 | L35: =SUMIFS(_xlfn.ANCHORARRAY($C$4),_xlfn.ANCHORARRAY($B$4),I35)/J35 -> 0.32 | M35: =_xlfn.MAXIFS(_xlfn.ANCHORARRAY($C$4),_xlfn.ANCHORARRAY($B$4),I35) -> 1.7 | N35: {=_xlfn.STDEV.S(_xlfn._xlws.FILTER(_xlfn.ANCHORARRAY($C$4),_xlfn.ANCHORARRAY($B$4)=I35))} -> 0.38045587
A36: 4 | B36: ESTACION CHARCOMANSO | C36: 0.4 | D36: 2024 | E36: 2020 | F36: 0.4 | H36: 7 | I36: =VLOOKUP(H36,$A$4:$B$161,2) -> ESTACION PUENTE REAL | J36: =COUNTIF(_xlfn.ANCHORARRAY($B$4),I36) -> 16 | K36: =_xlfn.MINIFS(_xlfn.ANCHORARRAY($C$4),_xlfn.ANCHORARRAY($B$4),I36) -> 0.08 | L36: =SUMIFS(_xlfn.ANCHORARRAY($C$4),_xlfn.ANCHORARRAY($B$4),I36)/J36 -> 0.345 | M36: =_xlfn.MAXIFS(_xlfn.ANCHORARRAY($C$4),_xlfn.ANCHORARRAY($B$4),I36) -> 1.26 | N36: {=_xlfn.STDEV.S(_xlfn._xlws.FILTER(_xlfn.ANCHORARRAY($C$4),_xlfn.ANCHORARRAY($B$4)=I36))} -> 0.2810931
A37: 4 | B37: ESTACION CHARCOMANSO | C37: 0.3 | D37: 2024 | E37: 2020 | F37: 0.3 | H37: 8 | I37: =VLOOKUP(H37,$A$4:$B$161,2) -> ESTACION PUENTE ANTES DE LA EBAR EPRIO | J37: =COUNTIF(_xlfn.ANCHORARRAY($B$4),I37) -> 16 | K37: =_xlfn.MINIFS(_xlfn.ANCHORARRAY($C$4),_xlfn.ANCHORARRAY($B$4),I37) -> 0.08 | L37: =SUMIFS(_xlfn.ANCHORARRAY($C$4),_xlfn.ANCHORARRAY($B$4),I37)/J37 -> 0.3625 | M37: =_xlfn.MAXIFS(_xlfn.ANCHORARRAY($C$4),_xlfn.ANCHORARRAY($B$4),I37) -> 1.46 | N37: {=_xlfn.STDEV.S(_xlfn._xlws.FILTER(_xlfn.ANCHORARRAY($C$4),_xlfn.ANCHORARRAY($B$4)=I37))} -> 0.32247997
A38: 4 | B38: ESTACION CHARCOMANSO | C38: 1.38 | D38: 2024 | E38: 2020 | F38: 0.4 | H38: 9 | I38: =VLOOKUP(H38,$A$4:$B$161,2) -> ESTACION DESPUES DE LA DESCARGA DE LA PTARD MUNICIPIO DE RIONEGRO | J38: =COUNTIF(_xlfn.ANCHORARRAY($B$4),I38) -> 15 | K38: =_xlfn.MINIFS(_xlfn.ANCHORARRAY($C$4),_xlfn.ANCHORARRAY($B$4),I38) -> 0.1 | L38: =SUMIFS(_xlfn.ANCHORARRAY($C$4),_xlfn.ANCHORARRAY($B$4),I38)/J38 -> 0.53466667 | M38: =_xlfn.MAXIFS(_xlfn.ANCHORARRAY($C$4),_xlfn.ANCHORARRAY($B$4),I38) -> 1.38 | N38: {=_xlfn.STDEV.S(_xlfn._xlws.FILTER(_xlfn.ANCHORARRAY($C$4),_xlfn.ANCHORARRAY($B$4)=I38))} -> 0.37747028
A39: 4 | B39: ESTACION CHARCOMANSO | C39: 0.5 | D39: 2021 | E39: 2020 | F39: 0.8 | H39: 10 | I39: =VLOOKUP(H39,$A$4:$B$161,2) -> ESTACION PUENTE AUTOPISTA | J39: =COUNTIF(_xlfn.ANCHORARRAY($B$4),I39) -> 16 | K39: =_xlfn.MINIFS(_xlfn.ANCHORARRAY($C$4),_xlfn.ANCHORARRAY($B$4),I39) -> 0.16 | L39: =SUMIFS(_xlfn.ANCHORARRAY($C$4),_xlfn.ANCHORARRAY($B$4),I39)/J39 -> 0.54375 | M39: =_xlfn.MAXIFS(_xlfn.ANCHORARRAY($C$4),_xlfn.ANCHORARRAY($B$4),I39) -> 1.02 | N39: {=_xlfn.STDEV.S(_xlfn._xlws.FILTER(_xlfn.ANCHORARRAY($C$4),_xlfn.ANCHORARRAY($B$4)=I39))} -> 0.29386788
A40: 4 | B40: ESTACION CHARCOMANSO | C40: 0.1 | D40: 2019 | E40: 2020 | F40: 0.4 | H40: 11 | I40: =VLOOKUP(H40,$A$4:$B$161,2) -> ESTACION LA FRESERA | J40: =COUNTIF(_xlfn.ANCHORARRAY($B$4),I40) -> 16 | K40: =_xlfn.MINIFS(_xlfn.ANCHORARRAY($C$4),_xlfn.ANCHORARRAY($B$4),I40) -> 0.12 | L40: =SUMIFS(_xlfn.ANCHORARRAY($C$4),_xlfn.ANCHORARRAY($B$4),I40)/J40 -> 0.505 | M40: =_xlfn.MAXIFS(_xlfn.ANCHORARRAY($C$4),_xlfn.ANCHORARRAY($B$4),I40) -> 1.22 | N40: {=_xlfn.STDEV.S(_xlfn._xlws.FILTER(_xlfn.ANCHORARRAY($C$4),_xlfn.ANCHORARRAY($B$4)=I40))} -> 0.30519939
A41: 4 | B41: ESTACION CHARCOMANSO | C41: 0.2 | D41: 2020 | E41: 2020 | F41: 0.6 | H41: 12 | I41: =VLOOKUP(H41,$A$4:$B$161,2) -> ESTACION RIO ABAJO | J41: =COUNTIF(_xlfn.ANCHORARRAY($B$4),I41) -> 15 | K41: =_xlfn.MINIFS(_xlfn.ANCHORARRAY($C$4),_xlfn.ANCHORARRAY($B$4),I41) -> 0.08 | L41: =SUMIFS(_xlfn.ANCHORARRAY($C$4),_xlfn.ANCHORARRAY($B$4),I41)/J41 -> 0.41866667 | M41: =_xlfn.MAXIFS(_xlfn.ANCHORARRAY($C$4),_xlfn.ANCHORARRAY($B$4),I41) -> 0.74 | N41: {=_xlfn.STDEV.S(_xlfn._xlws.FILTER(_xlfn.ANCHORARRAY($C$4),_xlfn.ANCHORARRAY($B$4)=I41))} -> 0.17751727
A42: 4 | B42: ESTACION CHARCOMANSO | C42: 0.3 | D42: 2020 | E42: 2021 | F42: 0.3
A43: 4 | B43: ESTACION CHARCOMANSO | C43: 0.3 | D43: 2020 | E43: 2021 | F43: 0.26
A44: 4 | B44: ESTACION CHARCOMANSO | C44: 0.18 | D44: 2021 | E44: 2021 | F44: 0.3
A45: 4 | B45: ESTACION CHARCOMANSO | C45: 0.3 | D45: 2021 | E45: 2021 | F45: 0.1
A46: 4 | B46: ESTACION CHARCOMANSO | C46: 0.5 | D46: 2022 | E46: 2021 | F46: 0.34
A47: 4 | B47: ESTACION CHARCOMANSO | C47: 0.3 | D47: 2022 | E47: 2021 | F47: 0.3
A48: 4 | B48: ESTACION CHARCOMANSO | C48: 0.24 | D48: 2022 | E48: 2021 | F48: 0.5
A49: 4 | B49: ESTACION CHARCOMANSO | C49: 0.16 | D49: 2023 | E49: 2021 | F49: 0.18
A50: 4 | B50: ESTACION CHARCOMANSO | C50: 0.18 | D50: 2023 | E50: 2021 | F50: 0.3
A51: 4 | B51: ESTACION CHARCOMANSO | C51: 0.16 | D51: 2023 | E51: 2021 | F51: 0.2
A52: 6 | B52: ESTACION BOCATOMA MUNICIPIO DE RIONEGRO | C52: 0.26 | D52: 2024 | E52: 2021 | F52: 0.3
A53: 6 | B53: ESTACION BOCATOMA MUNICIPIO DE RIONEGRO | C53: 0.3 | D53: 2024 | E53: 2021 | F53: 0.4
... A161: 12 | B161: ESTACION RIO ABAJO | C161: 0.08 | D161: 2023 | E161: 2024 | F161: 0.74

Sheet RN620
A2: Rio Negro | H2: Comportamiento estadistico por estación según historicos | O2: Mediciones por año en color para todos los tramos | U2: Todas las estaciones y mediciones
A3: Orden | B3: Estaciones | C3: =H30 -> λ=620 (m⁻¹) | D3: Año | E3: Año | F3: λ=436 (m⁻¹)
A4: {=_xlfn._xlws.FILTER(CHOOSE(1,'Resultados historicos'!C:C,'Resultados historicos'!D:D,'Resultados historicos'!O:O,'Resultados historicos'!A:A),'Resultados historicos'!H:H=A2)} -> 1 | B4: {=_xlfn._xlws.FILTER(CHOOSE(2,'Resultados historicos'!C:C,'Resultados historicos'!D:D,'Resultados historicos'!O:O,'Resultados historicos'!A:A),'Resultados historicos'!H:H=A2)} -> ESTACION EL HIERBAL | C4: {=_xlfn._xlws.FILTER(CHOOSE(3,'Resultados historicos'!C:C,'Resultados historicos'!D:D,'Resultados historicos'!Q:Q,'Resultados historicos'!A:A),'Resultados historicos'!H:H=A2)} -> 0.1 | D4: {=_xlfn._xlws.FILTER(CHOOSE(4,'Resultados historicos'!C:C,'Resultados historicos'!D:D,'Resultados historicos'!O:O,'Resultados historicos'!A:A),'Resultados historicos'!H:H=A2)} -> 2020 | E4: 2019 | F4: 0.1
A5: 1 | B5: ESTACION EL HIERBAL | C5: 0.3 | D5: 2020 | E5: 2019 | F5: 0.1
A6: 1 | B6: ESTACION EL HIERBAL | C6: 0.2 | D6: 2021 | E6: 2019 | F6: 0.1
A7: 1 | B7: ESTACION EL HIERBAL | C7: 0.1 | D7: 2019 | E7: 2019 | F7: 0.1
A8: 1 | B8: ESTACION EL HIERBAL | C8: 0.2 | D8: 2020 | E8: 2019 | F8: 0.1
A9: 1 | B9: ESTACION EL HIERBAL | C9: 0.18 | D9: 2021 | E9: 2019 | F9: 0.1
A10: 1 | B10: ESTACION EL HIERBAL | C10: 0.2 | D10: 2021 | E10: 2019 | F10: 0.1
A11: 1 | B11: ESTACION EL HIERBAL | C11: 0.2 | D11: 2022 | E11: 2019 | F11: 0.1
A12: 1 | B12: ESTACION EL HIERBAL | C12: 0.2 | D12: 2022 | E12: 2019 | F12: 0.1
A13: 1 | B13: ESTACION EL HIERBAL | C13: 0.06 | D13: 2022 | E13: 2019 | F13: 0.1
A14: 1 | B14: ESTACION EL HIERBAL | C14: 0.08 | D14: 2023 | E14: 2020 | F14: 0.1
A15: 1 | B15: ESTACION EL HIERBAL | C15: 0.04 | D15: 2023 | E15: 2020 | F15: 0.3
A16: 1 | B16: ESTACION EL HIERBAL | C16: 0.08 | D16: 2023 | E16: 2020 | F16: 0.2
... A20: 2 | B20: ESTACION MONTENEVADO | C20: 0.1 | D20: 2021 | E20: 2020 | F20: 0.1
A21: 2 | B21: ESTACION MONTENEVADO | C21: 0.1 | D21: 2019 | E21: 2020 | F21: 0.1 | O21: =H30 -> λ=620 (m⁻¹) | W21: =O21 -> λ=620 (m⁻¹)
A22: 2 | B22: ESTACION MONTENEVADO | C22: 0.2 | D22: 2020 | E22: 2020 | F22: 0.2 | O22: Año | P22: =J31 -> n | Q22: =K31 -> Mín | R22: =L31 -> Media | S22: =M31 -> Max | T22: =N31 -> DS | V22: Intervalo de confianza para n>30 | W22: Alerta | X22: Revisión | Y22: Aceptado
A23: 2 | B23: ESTACION MONTENEVADO | C23: 0.1 | D23: 2020 | E23: 2020 | F23: 0.1 | O23: {=_xlfn._xlws.SORT(_xlfn.UNIQUE(_xlfn.ANCHORARRAY(D4)))} -> 2019 | P23: =COUNTIF(_xlfn.ANCHORARRAY($D$4),O23) -> 10 | Q23: =_xlfn.MINIFS(_xlfn.ANCHORARRAY($C$4),_xlfn.ANCHORARRAY($D$4),O23) -> 0.1 | R23: =SUMIFS(_xlfn.ANCHORARRAY($C$4),_xlfn.ANCHORARRAY($D$4),O23)/P23 -> 0.1 | S23: =_xlfn.MAXIFS(_xlfn.ANCHORARRAY($C$4),_xlfn.ANCHORARRAY($D$4),O23) -> 0.1 | T23: {=_xlfn.STDEV.S(_xlfn._xlws.FILTER(_xlfn.ANCHORARRAY($C$4),_xlfn.ANCHORARRAY($D$4)=O23))} -> 1.4628473e-17 | V23: Nivel de confianza | W23: 0.9 | X23: 0.95 | Y23: 0.99
A24: 2 | B24: ESTACION MONTENEVADO | C24: 0.3 | D24: 2020 | E24: 2020 | F24: 0.1 | O24: 2020 | P24: =COUNTIF(_xlfn.ANCHORARRAY($D$4),O24) -> 28 | Q24: =_xlfn.MINIFS(_xlfn.ANCHORARRAY($C$4),_xlfn.ANCHORARRAY($D$4),O24) -> 0.1 | R24: =SUMIFS(_xlfn.ANCHORARRAY($C$4),_xlfn.ANCHORARRAY($D$4),O24)/P24 -> 0.19285714 | S24: =_xlfn.MAXIFS(_xlfn.ANCHORARRAY($C$4),_xlfn.ANCHORARRAY($D$4),O24) -> 0.5 | T24: {=_xlfn.STDEV.S(_xlfn._xlws.FILTER(_xlfn.ANCHORARRAY($C$4),_xlfn.ANCHORARRAY($D$4)=O24))} -> 0.10862293 | V24: Nivel de significancia | W24: =1-W23 -> 0.1 | X24: =1-X23 -> 0.05 | Y24: =1-Y23 -> 0.01
A25: 2 | B25: ESTACION MONTENEVADO | C25: 0.24 | D25: 2021 | E25: 2020 | F25: 0.2 | O25: 2021 | P25: =COUNTIF(_xlfn.ANCHORARRAY($D$4),O25) -> 30 | Q25: =_xlfn.MINIFS(_xlfn.ANCHORARRAY($C$4),_xlfn.ANCHORARRAY($D$4),O25) -> 0.08 | R25: =SUMIFS(_xlfn.ANCHORARRAY($C$4),_xlfn.ANCHORARRAY($D$4),O25)/P25 -> 0.22466667 | S25: =_xlfn.MAXIFS(_xlfn.ANCHORARRAY($C$4),_xlfn.ANCHORARRAY($D$4),O25) -> 0.7 | T25: {=_xlfn.STDEV.S(_xlfn._xlws.FILTER(_xlfn.ANCHORARRAY($C$4),_xlfn.ANCHORARRAY($D$4)=O25))} -> 0.12700077 | V25: Z(1-a/2) | W25: =_xlfn.NORM.S.INV(1-(W24/2)) -> 1.6448536 | X25: =_xlfn.NORM.S.INV(1-(X24/2)) -> 1.959964 | Y25: =_xlfn.NORM.S.INV(1-(Y24/2)) -> 2.5758293
A26: 2 | B26: ESTACION MONTENEVADO | C26: 0.2 | D26: 2021 | E26: 2020 | F26: 0.1 | O26: 2022 | P26: =COUNTIF(_xlfn.ANCHORARRAY($D$4),O26) -> 30 | Q26: =_xlfn.MINIFS(_xlfn.ANCHORARRAY($C$4),_xlfn.ANCHORARRAY($D$4),O26) -> 0.06 | R26: =SUMIFS(_xlfn.ANCHORARRAY($C$4),_xlfn.ANCHORARRAY($D$4),O26)/P26 -> 0.20166667 | S26: =_xlfn.MAXIFS(_xlfn.ANCHORARRAY($C$4),_xlfn.ANCHORARRAY($D$4),O26) -> 0.64 | T26: {=_xlfn.STDEV.S(_xlfn._xlws.FILTER(_xlfn.ANCHORARRAY($C$4),_xlfn.ANCHORARRAY($D$4)=O26))} -> 0.10550644 | V26: Intervalo de confianza | W26: =TEXT(R29,"0,00")&" ± "&TEXT((W25*T29/SQRT(P29)),"0,00") -> 0,25 ± 0,03 | X26: =TEXT(R29,"0,00")&" ± "&TEXT((X25*T29/SQRT(P29)),"0,00") -> 0,25 ± 0,04 | Y26: =TEXT(R29,"0,00")&" ± "&TEXT((Y25*T29/SQRT(P29)),"0,00") -> 0,25 ± 0,05
A27: 2 | B27: ESTACION MONTENEVADO | C27: 0.2 | D27: 2022 | E27: 2020 | F27: 0.2 | O27: 2023 | P27: =COUNTIF(_xlfn.ANCHORARRAY($D$4),O27) -> 30 | Q27: =_xlfn.MINIFS(_xlfn.ANCHORARRAY($C$4),_xlfn.ANCHORARRAY($D$4),O27) -> 0.02 | R27: =SUMIFS(_xlfn.ANCHORARRAY($C$4),_xlfn.ANCHORARRAY($D$4),O27)/P27 -> 0.14933333 | S27: =_xlfn.MAXIFS(_xlfn.ANCHORARRAY($C$4),_xlfn.ANCHORARRAY($D$4),O27) -> 0.7 | T27: {=_xlfn.STDEV.S(_xlfn._xlws.FILTER(_xlfn.ANCHORARRAY($C$4),_xlfn.ANCHORARRAY($D$4)=O27))} -> 0.16254301 | V27: L inf | W27: =R29-(W25*T29/SQRT(P29)) -> 0.21266336 | X27: =R29-(X25*T29/SQRT(P29)) -> 0.20598352 | Y27: =R29-(Y25*T29/SQRT(P29)) -> 0.19292816
A28: 2 | B28: ESTACION MONTENEVADO | C28: 0.2 | D28: 2022 | E28: 2020 | F28: 0.1 | O28: 2024 | P28: =COUNTIF(_xlfn.ANCHORARRAY($D$4),O28) -> 30 | Q28: =_xlfn.MINIFS(_xlfn.ANCHORARRAY($C$4),_xlfn.ANCHORARRAY($D$4),O28) -> 0.12 | R28: =SUMIFS(_xlfn.ANCHORARRAY($C$4),_xlfn.ANCHORARRAY($D$4),O28)/P28 -> 0.51466667 | S28: =_xlfn.MAXIFS(_xlfn.ANCHORARRAY($C$4),_xlfn.ANCHORARRAY($D$4),O28) -> 1.7 | T28: {=_xlfn.STDEV.S(_xlfn._xlws.FILTER(_xlfn.ANCHORARRAY($C$4),_xlfn.ANCHORARRAY($D$4)=O28))} -> 0.47202961 | V28: L sup | W28: =R29+(W25*T29/SQRT(P29)) -> 0.28239993 | X28: =R29+(X25*T29/SQRT(P29)) -> 0.28907977 | Y28: =R29+(Y25*T29/SQRT(P29)) -> 0.30213513
A29: 2 | B29: ESTACION MONTENEVADO | C29: 0.1 | D29: 2022 | E29: 2020 | F29: 0.1 | O29: Todos | P29: =SUM(P23:P28) -> 158 | R29: =AVERAGE(_xlfn.ANCHORARRAY(C4)) -> 0.24753165 | T29: =_xlfn.STDEV.S(_xlfn.ANCHORARRAY(C4)) -> 0.26645989
A30: 2 | B30: ESTACION MONTENEVADO | C30: 0.06 | D30: 2023 | E30: 2020 | F30: 0.4 | H30: ='Estadistico resumen'!O1 -> λ=620 (m⁻¹)
A31: 2 | B31: ESTACION MONTENEVADO | C31: 0.04 | D31: 2023 | E31: 2020 | F31: 0.1 | H31: Orden | I31: Estaciones | J31: ='Estadistico resumen'!$D$2 -> n | K31: Mín | L31: Media | M31: Max | N31: DS
A32: 2 | B32: ESTACION MONTENEVADO | C32: 0.1 | D32: 2023 | E32: 2020 | F32: 0.5 | H32: {=_xlfn._xlws.SORT(_xlfn.UNIQUE(_xlfn.ANCHORARRAY(A4)))} -> 1 | I32: =VLOOKUP(H32,$A$4:$B$161,2) -> ESTACION EL HIERBAL | J32: =COUNTIF(_xlfn.ANCHORARRAY($B$4),I32) -> 16 | K32: =_xlfn.MINIFS(_xlfn.ANCHORARRAY($C$4),_xlfn.ANCHORARRAY($B$4),I32) -> 0.04 | L32: =SUMIFS(_xlfn.ANCHORARRAY($C$4),_xlfn.ANCHORARRAY($B$4),I32)/J32 -> 0.16375 | M32: =_xlfn.MAXIFS(_xlfn.ANCHORARRAY($C$4),_xlfn.ANCHORARRAY($B$4),I32) -> 0.3 | N32: {=_xlfn.STDEV.S(_xlfn._xlws.FILTER(_xlfn.ANCHORARRAY($C$4),_xlfn.ANCHORARRAY($B$4)=I32))} -> 0.079067482
A33: 2 | B33: ESTACION MONTENEVADO | C33: 0.12 | D33: 2024 | E33: 2020 | F33: 0.2 | H33: 2 | I33: =VLOOKUP(H33,$A$4:$B$161,2) -> ESTACION MONTENEVADO | J33: =COUNTIF(_xlfn.ANCHORARRAY($B$4),I33) -> 16 | K33: =_xlfn.MINIFS(_xlfn.ANCHORARRAY($C$4),_xlfn.ANCHORARRAY($B$4),I33) -> 0.04 | L33: =SUMIFS(_xlfn.ANCHORARRAY($C$4),_xlfn.ANCHORARRAY($B$4),I33)/J33 -> 0.2425 | M33: =_xlfn.MAXIFS(_xlfn.ANCHORARRAY($C$4),_xlfn.ANCHORARRAY($B$4),I33) -> 1.7 | N33: {=_xlfn.STDEV.S(_xlfn._xlws.FILTER(_xlfn.ANCHORARRAY($C$4),_xlfn.ANCHORARRAY($B$4)=I33))} -> 0.39502743
A34: 2 | B34: ESTACION MONTENEVADO | C34: 0.12 | D34: 2024 | E34: 2020 | F34: 0.2 | H34: 4 | I34: =VLOOKUP(H34,$A$4:$B$161,2) -> ESTACION CHARCOMANSO | J34: =COUNTIF(_xlfn.ANCHORARRAY($B$4),I34) -> 16 | K34: =_xlfn.MINIFS(_xlfn.ANCHORARRAY($C$4),_xlfn.ANCHORARRAY($B$4),I34) -> 0.06 | L34: =SUMIFS(_xlfn.ANCHORARRAY($C$4),_xlfn.ANCHORARRAY($B$4),I34)/J34 -> 0.2025 | M34: =_xlfn.MAXIFS(_xlfn.ANCHORARRAY($C$4),_xlfn.ANCHORARRAY($B$4),I34) -> 1.18 | N34: {=_xlfn.STDEV.S(_xlfn._xlws.FILTER(_xlfn.ANCHORARRAY($C$4),_xlfn.ANCHORARRAY($B$4)=I34))} -> 0.2688122
A35: 2 | B35: ESTACION MONTENEVADO | C35: 1.7 | D35: 2024 | E35: 2020 | F35: 0.1 | H35: 6 | I35: =VLOOKUP(H35,$A$4:$B$161,2) -> ESTACION BOCATOMA MUNICIPIO DE RIONEGRO | J35: =COUNTIF(_xlfn.ANCHORARRAY($B$4),I35) -> 16 | K35: =_xlfn.MINIFS(_xlfn.ANCHORARRAY($C$4),_xlfn.ANCHORARRAY($B$4),I35) -> 0.04 | L35: =SUMIFS(_xlfn.ANCHORARRAY($C$4),_xlfn.ANCHORARRAY($B$4),I35)/J35 -> 0.21625 | M35: =_xlfn.MAXIFS(_xlfn.ANCHORARRAY($C$4),_xlfn.ANCHORARRAY($B$4),I35) -> 1.6 | N35: {=_xlfn.STDEV.S(_xlfn._xlws.FILTER(_xlfn.ANCHORARRAY($C$4),_xlfn.ANCHORARRAY($B$4)=I35))} -> 0.37289632
A36: 4 | B36: ESTACION CHARCOMANSO | C36: 0.18 | D36: 2024 | E36: 2020 | F36: 0.2 | H36: 7 | I36: =VLOOKUP(H36,$A$4:$B$161,2) -> ESTACION PUENTE REAL | J36: =COUNTIF(_xlfn.ANCHORARRAY($B$4),I36) -> 16 | K36: =_xlfn.MINIFS(_xlfn.ANCHORARRAY($C$4),_xlfn.ANCHORARRAY($B$4),I36) -> 0.02 | L36: =SUMIFS(_xlfn.ANCHORARRAY($C$4),_xlfn.ANCHORARRAY($B$4),I36)/J36 -> 0.216875 | M36: =_xlfn.MAXIFS(_xlfn.ANCHORARRAY($C$4),_xlfn.ANCHORARRAY($B$4),I36) -> 1.12 | N36: {=_xlfn.STDEV.S(_xlfn._xlws.FILTER(_xlfn.ANCHORARRAY($C$4),_xlfn.ANCHORARRAY($B$4)=I36))} -> 0.25502206
A37: 4 | B37: ESTACION CHARCOMANSO | C37: 0.18 | D37: 2024 | E37: 2020 | F37: 0.1 | H37: 8 | I37: =VLOOKUP(H37,$A$4:$B$161,2) -> ESTACION PUENTE ANTES DE LA EBAR EPRIO | J37: =COUNTIF(_xlfn.ANCHORARRAY($B$4),I37) -> 16 | K37: =_xlfn.MINIFS(_xlfn.ANCHORARRAY($C$4),_xlfn.ANCHORARRAY($B$4),I37) -> 0.04 | L37: =SUMIFS(_xlfn.ANCHORARRAY($C$4),_xlfn.ANCHORARRAY($B$4),I37)/J37 -> 0.24 | M37: =_xlfn.MAXIFS(_xlfn.ANCHORARRAY($C$4),_xlfn.ANCHORARRAY($B$4),I37) -> 1.3 | N37: {=_xlfn.STDEV.S(_xlfn._xlws.FILTER(_xlfn.ANCHORARRAY($C$4),_xlfn.ANCHORARRAY($B$4)=I37))} -> 0.29574764
A38: 4 | B38: ESTACION CHARCOMANSO | C38: 1.18 | D38: 2024 | E38: 2020 | F38: 0.2 | H38: 9 | I38: =VLOOKUP(H38,$A$4:$B$161,2) -> ESTACION DESPUES DE LA DESCARGA DE LA PTARD MUNICIPIO DE RIONEGRO | J38: =COUNTIF(_xlfn.ANCHORARRAY($B$4),I38) -> 15 | K38: =_xlfn.MINIFS(_xlfn.ANCHORARRAY($C$4),_xlfn.ANCHORARRAY($B$4),I38) -> 0.08 | L38: =SUMIFS(_xlfn.ANCHORARRAY($C$4),_xlfn.ANCHORARRAY($B$4),I38)/J38 -> 0.332 | M38: =_xlfn.MAXIFS(_xlfn.ANCHORARRAY($C$4),_xlfn.ANCHORARRAY($B$4),I38) -> 0.9 | N38: {=_xlfn.STDEV.S(_xlfn._xlws.FILTER(_xlfn.ANCHORARRAY($C$4),_xlfn.ANCHORARRAY($B$4)=I38))} -> 0.25843485
A39: 4 | B39: ESTACION CHARCOMANSO | C39: 0.3 | D39: 2021 | E39: 2020 | F39: 0.4 | H39: 10 | I39: =VLOOKUP(H39,$A$4:$B$161,2) -> ESTACION PUENTE AUTOPISTA | J39: =COUNTIF(_xlfn.ANCHORARRAY($B$4),I39) -> 16 | K39: =_xlfn.MINIFS(_xlfn.ANCHORARRAY($C$4),_xlfn.ANCHORARRAY($B$4),I39) -> 0.04 | L39: =SUMIFS(_xlfn.ANCHORARRAY($C$4),_xlfn.ANCHORARRAY($B$4),I39)/J39 -> 0.2975 | M39: =_xlfn.MAXIFS(_xlfn.ANCHORARRAY($C$4),_xlfn.ANCHORARRAY($B$4),I39) -> 0.7 | N39: {=_xlfn.STDEV.S(_xlfn._xlws.FILTER(_xlfn.ANCHORARRAY($C$4),_xlfn.ANCHORARRAY($B$4)=I39))} -> 0.20770171
A40: 4 | B40: ESTACION CHARCOMANSO | C40: 0.1 | D40: 2019 | E40: 2020 | F40: 0.2 | H40: 11 | I40: =VLOOKUP(H40,$A$4:$B$161,2) -> ESTACION LA FRESERA | J40: =COUNTIF(_xlfn.ANCHORARRAY($B$4),I40) -> 16 | K40: =_xlfn.MINIFS(_xlfn.ANCHORARRAY($C$4),_xlfn.ANCHORARRAY($B$4),I40) -> 0.04 | L40: =SUMIFS(_xlfn.ANCHORARRAY($C$4),_xlfn.ANCHORARRAY($B$4),I40)/J40 -> 0.3125 | M40: =_xlfn.MAXIFS(_xlfn.ANCHORARRAY($C$4),_xlfn.ANCHORARRAY($B$4),I40) -> 1.1 | N40: {=_xlfn.STDEV.S(_xlfn._xlws.FILTER(_xlfn.ANCHORARRAY($C$4),_xlfn.ANCHORARRAY($B$4)=I40))} -> 0.2733374
A41: 4 | B41: ESTACION CHARCOMANSO | C41: 0.1 | D41: 2020 | E41: 2020 | F41: 0.3 | H41: 12 | I41: =VLOOKUP(H41,$A$4:$B$161,2) -> ESTACION RIO ABAJO | J41: =COUNTIF(_xlfn.ANCHORARRAY($B$4),I41) -> 15 | K41: =_xlfn.MINIFS(_xlfn.ANCHORARRAY($C$4),_xlfn.ANCHORARRAY($B$4),I41) -> 0.06 | L41: =SUMIFS(_xlfn.ANCHORARRAY($C$4),_xlfn.ANCHORARRAY($B$4),I41)/J41 -> 0.25733333 | M41: =_xlfn.MAXIFS(_xlfn.ANCHORARRAY($C$4),_xlfn.ANCHORARRAY($B$4),I41) -> 0.48 | N41: {=_xlfn.STDEV.S(_xlfn._xlws.FILTER(_xlfn.ANCHORARRAY($C$4),_xlfn.ANCHORARRAY($B$4)=I41))} -> 0.10686886
A42: 4 | B42: ESTACION CHARCOMANSO | C42: 0.1 | D42: 2020 | E42: 2021 | F42: 0.2
A43: 4 | B43: ESTACION CHARCOMANSO | C43: 0.2 | D43: 2020 | E43: 2021 | F43: 0.18
A44: 4 | B44: ESTACION CHARCOMANSO | C44: 0.08 | D44: 2021 | E44: 2021 | F44: 0.2
A45: 4 | B45: ESTACION CHARCOMANSO | C45: 0.2 | D45: 2021 | E45: 2021 | F45: 0.1
A46: 4 | B46: ESTACION CHARCOMANSO | C46: 0.2 | D46: 2022 | E46: 2021 | F46: 0.24
A47: 4 | B47: ESTACION CHARCOMANSO | C47: 0.1 | D47: 2022 | E47: 2021 | F47: 0.2
A48: 4 | B48: ESTACION CHARCOMANSO | C48: 0.1 | D48: 2022 | E48: 2021 | F48: 0.3
A49: 4 | B49: ESTACION CHARCOMANSO | C49: 0.06 | D49: 2023 | E49: 2021 | F49: 0.08
A50: 4 | B50: ESTACION CHARCOMANSO | C50: 0.08 | D50: 2023 | E50: 2021 | F50: 0.2
A51: 4 | B51: ESTACION CHARCOMANSO | C51: 0.08 | D51: 2023 | E51: 2021 | F51: 0.1
A52: 6 | B52: ESTACION BOCATOMA MUNICIPIO DE RIONEGRO | C52: 0.14 | D52: 2024 | E52: 2021 | F52: 0.18
A53: 6 | B53: ESTACION BOCATOMA MUNICIPIO DE RIONEGRO | C53: 0.18 | D53: 2024 | E53: 2021 | F53: 0.2
... A161: 12 | B161: ESTACION RIO ABAJO | C161: 0.06 | D161: 2023 | E161: 2024 | F161: 0.48

Sheet CM436
A2: Quebrada La Cimarrona | H2: Comportamiento estadistico por estación según historicos | O2: Mediciones por año en color para todos los tramos | U2: Todas las estaciones y mediciones
A3: Orden | B3: Estaciones | C3: =H30 -> λ=436 (m⁻¹) | D3: Año | E3: Año | F3: λ=436 (m⁻¹)
A4: {=_xlfn._xlws.FILTER(CHOOSE(1,'Resultados historicos'!C:C,'Resultados historicos'!D:D,'Resultados historicos'!O:O,'Resultados historicos'!A:A),'Resultados historicos'!H:H=A2)} -> 1 | B4: {=_xlfn._xlws.FILTER(CHOOSE(2,'Resultados historicos'!C:C,'Resultados historicos'!D:D,'Resultados historicos'!O:O,'Resultados historicos'!A:A),'Resultados historicos'!H:H=A2)} -> ESTACION PUENTE LARGA | C4: {=_xlfn._xlws.FILTER(CHOOSE(3,'Resultados historicos'!C:C,'Resultados historicos'!D:D,'Resultados historicos'!O:O,'Resultados historicos'!A:A),'Resultados historicos'!H:H=A2)} -> 0.3 | D4: {=_xlfn._xlws.FILTER(CHOOSE(4,'Resultados historicos'!C:C,'Resultados historicos'!D:D,'Resultados historicos'!O:O,'Resultados historicos'!A:A),'Resultados historicos'!H:H=A2)} -> 2019 | E4: 2019 | F4: 0.3
A5: 1 | B5: ESTACION PUENTE LARGA | C5: 0.4 | D5: 2020 | E5: 2019 | F5: 0.9
A6: 1 | B6: ESTACION PUENTE LARGA | C6: 0.3 | D6: 2020 | E6: 2019 | F6: 0.5
A7: 1 | B7: ESTACION PUENTE LARGA | C7: 0.5 | D7: 2020 | E7: 2019 | F7: 1.8
A8: 1 | B8: ESTACION PUENTE LARGA | C8: 0.54 | D8: 2021 | E8: 2020 | F8: 0.4
A9: 1 | B9: ESTACION PUENTE LARGA | C9: 0.5 | D9: 2021 | E9: 2020 | F9: 0.3
A10: 1 | B10: ESTACION PUENTE LARGA | C10: 0.5 | D10: 2021 | E10: 2020 | F10: 0.5
A11: 1 | B11: ESTACION PUENTE LARGA | C11: 0.98 | D11: 2022 | E11: 2020 | F11: 1.1
A12: 1 | B12: ESTACION PUENTE LARGA | C12: 0.38 | D12: 2022 | E12: 2020 | F12: 0.4
A13: 1 | B13: ESTACION PUENTE LARGA | C13: 0.4 | D13: 2022 | E13: 2020 | F13: 0.7
A14: 1 | B14: ESTACION PUENTE LARGA | C14: 0.56 | D14: 2023 | E14: 2020 | F14: 1.1
A15: 1 | B15: ESTACION PUENTE LARGA | C15: 0.34 | D15: 2023 | E15: 2020 | F15: 0.6
A16: 1 | B16: ESTACION PUENTE LARGA | C16: 0.76 | D16: 2023 | E16: 2020 | F16: 0.8
... A20: 2 | B20: ESTACION FLOR SILVESTRE | C20: 0.9 | D20: 2019 | E20: 2021 | F20: 0.54
A21: 2 | B21: ESTACION FLOR SILVESTRE | C21: 1.1 | D21: 2020 | E21: 2021 | F21: 0.5 | O21: =H30 -> λ=436 (m⁻¹) | W21: =O21 -> λ=436 (m⁻¹)
A22: 2 | B22: ESTACION FLOR SILVESTRE | C22: 0.4 | D22: 2020 | E22: 2021 | F22: 0.5 | O22: Año | P22: =J31 -> n | Q22: =K31 -> Mín | R22: =L31 -> Media | S22: =M31 -> Max | T22: =N31 -> DS | V22: Intervalo de confianza para n>30 | W22: Alerta | X22: Revisión | Y22: Aceptado
A23: 2 | B23: ESTACION FLOR SILVESTRE | C23: 0.7 | D23: 2020 | E23: 2021 | F23: 2.22 | O23: {=_xlfn._xlws.SORT(_xlfn.UNIQUE(_xlfn.ANCHORARRAY(D4)))} -> 2019 | P23: =COUNTIF(_xlfn.ANCHORARRAY($D$4),O23) -> 4 | Q23: =_xlfn.MINIFS(_xlfn.ANCHORARRAY($C$4),_xlfn.ANCHORARRAY($D$4),O23) -> 0.3 | R23: =SUMIFS(_xlfn.ANCHORARRAY($C$4),_xlfn.ANCHORARRAY($D$4),O23)/P23 -> 0.875 | S23: =_xlfn.MAXIFS(_xlfn.ANCHORARRAY($C$4),_xlfn.ANCHORARRAY($D$4),O23) -> 1.8 | T23: {=_xlfn.STDEV.S(_xlfn._xlws.FILTER(_xlfn.ANCHORARRAY($C$4),_xlfn.ANCHORARRAY($D$4)=O23))} -> 0.66520673 | V23: Nivel de confianza | W23: 0.9 | X23: 0.95 | Y23: 0.99
A24: 2 | B24: ESTACION FLOR SILVESTRE | C24: 2.22 | D24: 2021 | E24: 2021 | F24: 0.5 | O24: 2020 | P24: =COUNTIF(_xlfn.ANCHORARRAY($D$4),O24) -> 12 | Q24: =_xlfn.MINIFS(_xlfn.ANCHORARRAY($C$4),_xlfn.ANCHORARRAY($D$4),O24) -> 0.3 | R24: =SUMIFS(_xlfn.ANCHORARRAY($C$4),_xlfn.ANCHORARRAY($D$4),O24)/P24 -> 1.0833333 | S24: =_xlfn.MAXIFS(_xlfn.ANCHORARRAY($C$4),_xlfn.ANCHORARRAY($D$4),O24) -> 4.3 | T24: {=_xlfn.STDEV.S(_xlfn._xlws.FILTER(_xlfn.ANCHORARRAY($C$4),_xlfn.ANCHORARRAY($D$4)=O24))} -> 1.1035755 | V24: Nivel de significancia | W24: =1-W23 -> 0.1 | X24: =1-X23 -> 0.05 | Y24: =1-Y23 -> 0.01
A25: 2 | B25: ESTACION FLOR SILVESTRE | C25: 0.5 | D25: 2021 | E25: 2021 | F25: 1.04 | O25: 2021 | P25: =COUNTIF(_xlfn.ANCHORARRAY($D$4),O25) -> 12 | Q25: =_xlfn.MINIFS(_xlfn.ANCHORARRAY($C$4),_xlfn.ANCHORARRAY($D$4),O25) -> 0.5 | R25: =SUMIFS(_xlfn.ANCHORARRAY($C$4),_xlfn.ANCHORARRAY($D$4),O25)/P25 -> 1.2208333 | S25: =_xlfn.MAXIFS(_xlfn.ANCHORARRAY($C$4),_xlfn.ANCHORARRAY($D$4),O25) -> 3.83 | T25: {=_xlfn.STDEV.S(_xlfn._xlws.FILTER(_xlfn.ANCHORARRAY($C$4),_xlfn.ANCHORARRAY($D$4)=O25))} -> 1.0006948 | V25: Z(1-a/2) | W25: =_xlfn.NORM.S.INV(1-(W24/2)) -> 1.6448536 | X25: =_xlfn.NORM.S.INV(1-(X24/2)) -> 1.959964 | Y25: =_xlfn.NORM.S.INV(1-(Y24/2)) -> 2.5758293
A26: 2 | B26: ESTACION FLOR SILVESTRE | C26: 1.04 | D26: 2021 | E26: 2021 | F26: 0.64 | O26: 2022 | P26: =COUNTIF(_xlfn.ANCHORARRAY($D$4),O26) -> 12 | Q26: =_xlfn.MINIFS(_xlfn.ANCHORARRAY($C$4),_xlfn.ANCHORARRAY($D$4),O26) -> 0.38 | R26: =SUMIFS(_xlfn.ANCHORARRAY($C$4),_xlfn.ANCHORARRAY($D$4),O26)/P26 -> 0.99416667 | S26: =_xlfn.MAXIFS(_xlfn.ANCHORARRAY($C$4),_xlfn.ANCHORARRAY($D$4),O26) -> 2.08 | T26: {=_xlfn.STDEV.S(_xlfn._xlws.FILTER(_xlfn.ANCHORARRAY($C$4),_xlfn.ANCHORARRAY($D$4)=O26))} -> 0.62648309 | V26: Intervalo de confianza | W26: =TEXT(R29,"0,00")&" ± "&TEXT((W25*T29/SQRT(P29)),"0,00") -> 1,12 ± 0,19 | X26: =TEXT(R29,"0,00")&" ± "&TEXT((X25*T29/SQRT(P29)),"0,00") -> 1,12 ± 0,22 | Y26: =TEXT(R29,"0,00")&" ± "&TEXT((Y25*T29/SQRT(P29)),"0,00") -> 1,12 ± 0,29
A27: 2 | B27: ESTACION FLOR SILVESTRE | C27: 2.08 | D27: 2022 | E27: 2021 | F27: 1.1 | O27: 2023 | P27: =COUNTIF(_xlfn.ANCHORARRAY($D$4),O27) -> 12 | Q27: =_xlfn.MINIFS(_xlfn.ANCHORARRAY($C$4),_xlfn.ANCHORARRAY($D$4),O27) -> 0.34 | R27: =SUMIFS(_xlfn.ANCHORARRAY($C$4),_xlfn.ANCHORARRAY($D$4),O27)/P27 -> 1.2266667 | S27: =_xlfn.MAXIFS(_xlfn.ANCHORARRAY($C$4),_xlfn.ANCHORARRAY($D$4),O27) -> 3.04 | T27: {=_xlfn.STDEV.S(_xlfn._xlws.FILTER(_xlfn.ANCHORARRAY($C$4),_xlfn.ANCHORARRAY($D$4)=O27))} -> 0.90791803 | V27: L inf | W27: =R29-(W25*T29/SQRT(P29)) -> 0.93533016 | X27: =R29-(X25*T29/SQRT(P29)) -> 0.89953325 | Y27: =R29-(Y25*T29/SQRT(P29)) -> 0.82957021
A28: 2 | B28: ESTACION FLOR SILVESTRE | C28: 0.4 | D28: 2022 | E28: 2021 | F28: 0.8 | O28: 2024 | P28: =COUNTIF(_xlfn.ANCHORARRAY($D$4),O28) -> 12 | Q28: =_xlfn.MINIFS(_xlfn.ANCHORARRAY($C$4),_xlfn.ANCHORARRAY($D$4),O28) -> 0.32 | R28: =SUMIFS(_xlfn.ANCHORARRAY($C$4),_xlfn.ANCHORARRAY($D$4),O28)/P28 -> 1.1683333 | S28: =_xlfn.MAXIFS(_xlfn.ANCHORARRAY($C$4),_xlfn.ANCHORARRAY($D$4),O28) -> 3.88 | T28: {=_xlfn.STDEV.S(_xlfn._xlws.FILTER(_xlfn.ANCHORARRAY($C$4),_xlfn.ANCHORARRAY($D$4)=O28))} -> 1.0521479 | V28: L sup | W28: =R29+(W25*T29/SQRT(P29)) -> 1.3090448 | X28: =R29+(X25*T29/SQRT(P29)) -> 1.3448418 | Y28: =R29+(Y25*T29/SQRT(P29)) -> 1.4148048
A29: 2 | B29: ESTACION FLOR SILVESTRE | C29: 0.66 | D29: 2022 | E29: 2021 | F29: 3.83 | O29: Todos | P29: =SUM(P23:P28) -> 64 | R29: =AVERAGE(_xlfn.ANCHORARRAY(C4)) -> 1.1221875 | T29: =_xlfn.STDEV.S(_xlfn.ANCHORARRAY(C4)) -> 0.90880956
A30: 2 | B30: ESTACION FLOR SILVESTRE | C30: 3.04 | D30: 2023 | E30: 2021 | F30: 1 | H30: ='Estadistico resumen'!$G$1 -> λ=436 (m⁻¹)
A31: 2 | B31: ESTACION FLOR SILVESTRE | C31: 1.74 | D31: 2023 | E31: 2021 | F31: 1.98 | H31: Orden | I31: Estaciones | J31: ='Estadistico resumen'!$D$2 -> n | K31: Mín | L31: Media | M31: Max | N31: DS
A32: 2 | B32: ESTACION FLOR SILVESTRE | C32: 0.64 | D32: 2023 | E32: 2022 | F32: 0.98 | H32: {=_xlfn._xlws.SORT(_xlfn.UNIQUE(_xlfn.ANCHORARRAY(A4)))} -> 1 | I32: =IFERROR(VLOOKUP(H32,$A$4:$B$161,2),"") -> ESTACION PUENTE LARGA | J32: =COUNTIF(_xlfn.ANCHORARRAY($B$4),I32) -> 16 | K32: =_xlfn.MINIFS(_xlfn.ANCHORARRAY($C$4),_xlfn.ANCHORARRAY($B$4),I32) -> 0.3 | L32: =SUMIFS(_xlfn.ANCHORARRAY($C$4),_xlfn.ANCHORARRAY($B$4),I32)/J32 -> 0.495 | M32: =_xlfn.MAXIFS(_xlfn.ANCHORARRAY($C$4),_xlfn.ANCHORARRAY($B$4),I32) -> 0.98 | N32: {=_xlfn.STDEV.S(_xlfn._xlws.FILTER(_xlfn.ANCHORARRAY($C$4),_xlfn.ANCHORARRAY($B$4)=I32))} -> 0.18073922
A33: 2 | B33: ESTACION FLOR SILVESTRE | C33: 3.88 | D33: 2024 | E33: 2022 | F33: 0.38 | H33: 2 | I33: =VLOOKUP(H33,$A$4:$B$161,2) -> ESTACION FLOR SILVESTRE | J33: =COUNTIF(_xlfn.ANCHORARRAY($B$4),I33) -> 16 | K33: =_xlfn.MINIFS(_xlfn.ANCHORARRAY($C$4),_xlfn.ANCHORARRAY($B$4),I33) -> 0.4 | L33: =SUMIFS(_xlfn.ANCHORARRAY($C$4),_xlfn.ANCHORARRAY($B$4),I33)/J33 -> 1.27625 | M33: =_xlfn.MAXIFS(_xlfn.ANCHORARRAY($C$4),_xlfn.ANCHORARRAY($B$4),I33) -> 3.88 | N33: {=_xlfn.STDEV.S(_xlfn._xlws.FILTER(_xlfn.ANCHORARRAY($C$4),_xlfn.ANCHORARRAY($B$4)=I33))} -> 1.0377725
A34: 2 | B34: ESTACION FLOR SILVESTRE | C34: 0.6 | D34: 2024 | E34: 2022 | F34: 0.4 | H34: 3 | I34: =VLOOKUP(H34,$A$4:$B$161,2) -> ESTACION COLTEPUNTO | J34: =COUNTIF(_xlfn.ANCHORARRAY($B$4),I34) -> 16 | K34: =_xlfn.MINIFS(_xlfn.ANCHORARRAY($C$4),_xlfn.ANCHORARRAY($B$4),I34) -> 0.42 | L34: =SUMIFS(_xlfn.ANCHORARRAY($C$4),_xlfn.ANCHORARRAY($B$4),I34)/J34 -> 0.8525 | M34: =_xlfn.MAXIFS(_xlfn.ANCHORARRAY($C$4),_xlfn.ANCHORARRAY($B$4),I34) -> 2.32 | N34: {=_xlfn.STDEV.S(_xlfn._xlws.FILTER(_xlfn.ANCHORARRAY($C$4),_xlfn.ANCHORARRAY($B$4)=I34))} -> 0.45781364
A35: 2 | B35: ESTACION FLOR SILVESTRE | C35: 0.52 | D35: 2024 | E35: 2022 | F35: 2.08 | H35: 4 | I35: =VLOOKUP(H35,$A$4:$B$161,2) -> ESTACION PUENTE VIA EL TRANVIA | J35: =COUNTIF(_xlfn.ANCHORARRAY($B$4),I35) -> 16 | K35: =_xlfn.MINIFS(_xlfn.ANCHORARRAY($C$4),_xlfn.ANCHORARRAY($B$4),I35) -> 0.62 | L35: =SUMIFS(_xlfn.ANCHORARRAY($C$4),_xlfn.ANCHORARRAY($B$4),I35)/J35 -> 1.865 | M35: =_xlfn.MAXIFS(_xlfn.ANCHORARRAY($C$4),_xlfn.ANCHORARRAY($B$4),I35) -> 4.3 | N35: {=_xlfn.STDEV.S(_xlfn._xlws.FILTER(_xlfn.ANCHORARRAY($C$4),_xlfn.ANCHORARRAY($B$4)=I35))} -> 1.0191434
A36: 3 | B36: ESTACION COLTEPUNTO | C36: 0.5 | D36: 2019 | E36: 2022 | F36: 0.4
A37: 3 | B37: ESTACION COLTEPUNTO | C37: 1.1 | D37: 2020 | E37: 2022 | F37: 0.66
A38: 3 | B38: ESTACION COLTEPUNTO | C38: 0.6 | D38: 2020 | E38: 2022 | F38: 1.14
A39: 3 | B39: ESTACION COLTEPUNTO | C39: 0.8 | D39: 2020 | E39: 2022 | F39: 0.42
A40: 3 | B40: ESTACION COLTEPUNTO | C40: 0.64 | D40: 2021 | E40: 2022 | F40: 0.66
A41: 3 | B41: ESTACION COLTEPUNTO | C41: 1.1 | D41: 2021 | E41: 2022 | F41: 2.08
A42: 3 | B42: ESTACION COLTEPUNTO | C42: 0.8 | D42: 2021 | E42: 2022 | F42: 1.48
A43: 3 | B43: ESTACION COLTEPUNTO | C43: 1.14 | D43: 2022 | E43: 2022 | F43: 1.25
A44: 3 | B44: ESTACION COLTEPUNTO | C44: 0.42 | D44: 2022 | E44: 2023 | F44: 0.56
A45: 3 | B45: ESTACION COLTEPUNTO | C45: 0.66 | D45: 2022 | E45: 2023 | F45: 0.34
A46: 3 | B46: ESTACION COLTEPUNTO | C46: 0.62 | D46: 2023 | E46: 2023 | F46: 0.76
A47: 3 | B47: ESTACION COLTEPUNTO | C47: 0.76 | D47: 2023 | E47: 2023 | F47: 3.04
... A67: 4 | B67: ESTACION PUENTE VIA EL TRANVIA | C67: 0.98 | D67: 2024 | E67: 2024 | F67: 0.98

Sheet CM525
A2: Quebrada La Cimarrona | H2: Comportamiento estadistico por estación según historicos | O2: Mediciones por año en color para todos los tramos | U2: Todas las estaciones y mediciones
A3: Orden | B3: Estaciones | C3: =H30 -> λ=525 (m⁻¹) | D3: Año | E3: Año | F3: λ=436 (m⁻¹)
A4: {=_xlfn._xlws.FILTER(CHOOSE(1,'Resultados historicos'!C:C,'Resultados historicos'!D:D,'Resultados historicos'!O:O,'Resultados historicos'!A:A),'Resultados historicos'!H:H=A2)} -> 1 | B4: {=_xlfn._xlws.FILTER(CHOOSE(2,'Resultados historicos'!C:C,'Resultados historicos'!D:D,'Resultados historicos'!O:O,'Resultados historicos'!A:A),'Resultados historicos'!H:H=A2)} -> ESTACION PUENTE LARGA | C4: {=_xlfn._xlws.FILTER(CHOOSE(3,'Resultados historicos'!C:C,'Resultados historicos'!D:D,'Resultados historicos'!P:P,'Resultados historicos'!A:A),'Resultados historicos'!H:H=A2)} -> 0.1 | D4: {=_xlfn._xlws.FILTER(CHOOSE(4,'Resultados historicos'!C:C,'Resultados historicos'!D:D,'Resultados historicos'!O:O,'Resultados historicos'!A:A),'Resultados historicos'!H:H=A2)} -> 2019 | E4: 2019 | F4: 0.1
A5: 1 | B5: ESTACION PUENTE LARGA | C5: 0.2 | D5: 2020 | E5: 2019 | F5: 0.4
A6: 1 | B6: ESTACION PUENTE LARGA | C6: 0.1 | D6: 2020 | E6: 2019 | F6: 0.1
A7: 1 | B7: ESTACION PUENTE LARGA | C7: 0.2 | D7: 2020 | E7: 2019 | F7: 1.2
A8: 1 | B8: ESTACION PUENTE LARGA | C8: 0.3 | D8: 2021 | E8: 2020 | F8: 0.2
A9: 1 | B9: ESTACION PUENTE LARGA | C9: 0.3 | D9: 2021 | E9: 2020 | F9: 0.1
A10: 1 | B10: ESTACION PUENTE LARGA | C10: 0.22 | D10: 2021 | E10: 2020 | F10: 0.2
A11: 1 | B11: ESTACION PUENTE LARGA | C11: 0.4 | D11: 2022 | E11: 2020 | F11: 0.5
A12: 1 | B12: ESTACION PUENTE LARGA | C12: 0.14 | D12: 2022 | E12: 2020 | F12: 0.1
A13: 1 | B13: ESTACION PUENTE LARGA | C13: 0.16 | D13: 2022 | E13: 2020 | F13: 0.3
A14: 1 | B14: ESTACION PUENTE LARGA | C14: 0.22 | D14: 2023 | E14: 2020 | F14: 0.5
A15: 1 | B15: ESTACION PUENTE LARGA | C15: 0.14 | D15: 2023 | E15: 2020 | F15: 0.2
A16: 1 | B16: ESTACION PUENTE LARGA | C16: 0.46 | D16: 2023 | E16: 2020 | F16: 0.4
... A20: 2 | B20: ESTACION FLOR SILVESTRE | C20: 0.4 | D20: 2019 | E20: 2021 | F20: 0.3
A21: 2 | B21: ESTACION FLOR SILVESTRE | C21: 0.5 | D21: 2020 | E21: 2021 | F21: 0.3 | O21: =H30 -> λ=525 (m⁻¹) | W21: =O21 -> λ=525 (m⁻¹)
A22: 2 | B22: ESTACION FLOR SILVESTRE | C22: 0.1 | D22: 2020 | E22: 2021 | F22: 0.22 | O22: Año | P22: =J31 -> n | Q22: =K31 -> Mín | R22: =L31 -> Media | S22: =M31 -> Max | T22: =N31 -> DS | V22: Intervalo de confianza para n>30 | W22: Alerta | X22: Revisión | Y22: Aceptado
A23: 2 | B23: ESTACION FLOR SILVESTRE | C23: 0.3 | D23: 2020 | E23: 2021 | F23: 1.38 | O23: {=_xlfn._xlws.SORT(_xlfn.UNIQUE(_xlfn.ANCHORARRAY(D4)))} -> 2019 | P23: =COUNTIF(_xlfn.ANCHORARRAY($D$4),O23) -> 4 | Q23: =_xlfn.MINIFS(_xlfn.ANCHORARRAY($C$4),_xlfn.ANCHORARRAY($D$4),O23) -> 0.1 | R23: =SUMIFS(_xlfn.ANCHORARRAY($C$4),_xlfn.ANCHORARRAY($D$4),O23)/P23 -> 0.45 | S23: =_xlfn.MAXIFS(_xlfn.ANCHORARRAY($C$4),_xlfn.ANCHORARRAY($D$4),O23) -> 1.2 | T23: {=_xlfn.STDEV.S(_xlfn._xlws.FILTER(_xlfn.ANCHORARRAY($C$4),_xlfn.ANCHORARRAY($D$4)=O23))} -> 0.51961524 | V23: Nivel de confianza | W23: 0.9 | X23: 0.95 | Y23: 0.99
A24: 2 | B24: ESTACION FLOR SILVESTRE | C24: 1.38 | D24: 2021 | E24: 2021 | F24: 0.2 | O24: 2020 | P24: =COUNTIF(_xlfn.ANCHORARRAY($D$4),O24) -> 12 | Q24: =_xlfn.MINIFS(_xlfn.ANCHORARRAY($C$4),_xlfn.ANCHORARRAY($D$4),O24) -> 0.1 | R24: =SUMIFS(_xlfn.ANCHORARRAY($C$4),_xlfn.ANCHORARRAY($D$4),O24)/P24 -> 0.625 | S24: =_xlfn.MAXIFS(_xlfn.ANCHORARRAY($C$4),_xlfn.ANCHORARRAY($D$4),O24) -> 3.3 | T24: {=_xlfn.STDEV.S(_xlfn._xlws.FILTER(_xlfn.ANCHORARRAY($C$4),_xlfn.ANCHORARRAY($D$4)=O24))} -> 0.8935374 | V24: Nivel de significancia | W24: =1-W23 -> 0.1 | X24: =1-X23 -> 0.05 | Y24: =1-Y23 -> 0.01
A25: 2 | B25: ESTACION FLOR SILVESTRE | C25: 0.2 | D25: 2021 | E25: 2021 | F25: 0.56 | O25: 2021 | P25: =COUNTIF(_xlfn.ANCHORARRAY($D$4),O25) -> 12 | Q25: =_xlfn.MINIFS(_xlfn.ANCHORARRAY($C$4),_xlfn.ANCHORARRAY($D$4),O25) -> 0.2 | R25: =SUMIFS(_xlfn.ANCHORARRAY($C$4),_xlfn.ANCHORARRAY($D$4),O25)/P25 -> 0.795 | S25: =_xlfn.MAXIFS(_xlfn.ANCHORARRAY($C$4),_xlfn.ANCHORARRAY($D$4),O25) -> 3.37 | T25: {=_xlfn.STDEV.S(_xlfn._xlws.FILTER(_xlfn.ANCHORARRAY($C$4),_xlfn.ANCHORARRAY($D$4)=O25))} -> 0.90685771 | V25: Z(1-a/2) | W25: =_xlfn.NORM.S.INV(1-(W24/2)) -> 1.6448536 | X25: =_xlfn.NORM.S.INV(1-(X24/2)) -> 1.959964 | Y25: =_xlfn.NORM.S.INV(1-(Y24/2)) -> 2.5758293
A26: 2 | B26: ESTACION FLOR SILVESTRE | C26: 0.56 | D26: 2021 | E26: 2021 | F26: 0.28 | O26: 2022 | P26: =COUNTIF(_xlfn.ANCHORARRAY($D$4),O26) -> 12 | Q26: =_xlfn.MINIFS(_xlfn.ANCHORARRAY($C$4),_xlfn.ANCHORARRAY($D$4),O26) -> 0.14 | R26: =SUMIFS(_xlfn.ANCHORARRAY($C$4),_xlfn.ANCHORARRAY($D$4),O26)/P26 -> 0.53 | S26: =_xlfn.MAXIFS(_xlfn.ANCHORARRAY($C$4),_xlfn.ANCHORARRAY($D$4),O26) -> 1.21 | T26: {=_xlfn.STDEV.S(_xlfn._xlws.FILTER(_xlfn.ANCHORARRAY($C$4),_xlfn.ANCHORARRAY($D$4)=O26))} -> 0.43678578 | V26: Intervalo de confianza | W26: =TEXT(R29,"0,00")&" ± "&TEXT((W25*T29/SQRT(P29)),"0,00") -> 0,66 ± 0,15 | X26: =TEXT(R29,"0,00")&" ± "&TEXT((X25*T29/SQRT(P29)),"0,00") -> 0,66 ± 0,18 | Y26: =TEXT(R29,"0,00")&" ± "&TEXT((Y25*T29/SQRT(P29)),"0,00") -> 0,66 ± 0,24
A27: 2 | B27: ESTACION FLOR SILVESTRE | C27: 1.08 | D27: 2022 | E27: 2021 | F27: 0.6 | O27: 2023 | P27: =COUNTIF(_xlfn.ANCHORARRAY($D$4),O27) -> 12 | Q27: =_xlfn.MINIFS(_xlfn.ANCHORARRAY($C$4),_xlfn.ANCHORARRAY($D$4),O27) -> 0.14 | R27: =SUMIFS(_xlfn.ANCHORARRAY($C$4),_xlfn.ANCHORARRAY($D$4),O27)/P27 -> 0.755 | S27: =_xlfn.MAXIFS(_xlfn.ANCHORARRAY($C$4),_xlfn.ANCHORARRAY($D$4),O27) -> 2.2 | T27: {=_xlfn.STDEV.S(_xlfn._xlws.FILTER(_xlfn.ANCHORARRAY($C$4),_xlfn.ANCHORARRAY($D$4)=O27))} -> 0.74483067 | V27: L inf | W27: =R29-(W25*T29/SQRT(P29)) -> 0.50645674 | X27: =R29-(X25*T29/SQRT(P29)) -> 0.47752086 | Y27: =R29-(Y25*T29/SQRT(P29)) -> 0.42096731
A28: 2 | B28: ESTACION FLOR SILVESTRE | C28: 0.14 | D28: 2022 | E28: 2021 | F28: 0.3 | O28: 2024 | P28: =COUNTIF(_xlfn.ANCHORARRAY($D$4),O28) -> 12 | Q28: =_xlfn.MINIFS(_xlfn.ANCHORARRAY($C$4),_xlfn.ANCHORARRAY($D$4),O28) -> 0.1 | R28: =SUMIFS(_xlfn.ANCHORARRAY($C$4),_xlfn.ANCHORARRAY($D$4),O28)/P28 -> 0.65166667 | S28: =_xlfn.MAXIFS(_xlfn.ANCHORARRAY($C$4),_xlfn.ANCHORARRAY($D$4),O28) -> 2.46 | T28: {=_xlfn.STDEV.S(_xlfn._xlws.FILTER(_xlfn.ANCHORARRAY($C$4),_xlfn.ANCHORARRAY($D$4)=O28))} -> 0.76502921 | V28: L sup | W28: =R29+(W25*T29/SQRT(P29)) -> 0.80854326 | X28: =R29+(X25*T29/SQRT(P29)) -> 0.83747914 | Y28: =R29+(Y25*T29/SQRT(P29)) -> 0.89403269
A29: 2 | B29: ESTACION FLOR SILVESTRE | C29: 0.32 | D29: 2022 | E29: 2021 | F29: 3.37 | O29: Todos | P29: =SUM(P23:P28) -> 64 | R29: =AVERAGE(_xlfn.ANCHORARRAY(C4)) -> 0.6575 | T29: =_xlfn.STDEV.S(_xlfn.ANCHORARRAY(C4)) -> 0.73462224
A30: 2 | B30: ESTACION FLOR SILVESTRE | C30: 1.98 | D30: 2023 | E30: 2021 | F30: 0.7 | H30: ='Estadistico resumen'!$K$1 -> λ=525 (m⁻¹)
A31: 2 | B31: ESTACION FLOR SILVESTRE | C31: 0.98 | D31: 2023 | E31: 2021 | F31: 1.33 | H31: Orden | I31: Estaciones | J31: ='Estadistico resumen'!$D$2 -> n | K31: Mín | L31: Media | M31: Max | N31: DS
A32: 2 | B32: ESTACION FLOR SILVESTRE | C32: 0.26 | D32: 2023 | E32: 2022 | F32: 0.4 | H32: {=_xlfn._xlws.SORT(_xlfn.UNIQUE(_xlfn.ANCHORARRAY(A4)))} -> 1 | I32: =IFERROR(VLOOKUP(H32,$A$4:$B$161,2),"") -> ESTACION PUENTE LARGA | J32: =COUNTIF(_xlfn.ANCHORARRAY($B$4),I32) -> 16 | K32: =_xlfn.MINIFS(_xlfn.ANCHORARRAY($C$4),_xlfn.ANCHORARRAY($B$4),I32) -> 0.1 | L32: =SUMIFS(_xlfn.ANCHORARRAY($C$4),_xlfn.ANCHORARRAY($B$4),I32)/J32 -> 0.2175 | M32: =_xlfn.MAXIFS(_xlfn.ANCHORARRAY($C$4),_xlfn.ANCHORARRAY($B$4),I32) -> 0.46 | N32: {=_xlfn.STDEV.S(_xlfn._xlws.FILTER(_xlfn.ANCHORARRAY($C$4),_xlfn.ANCHORARRAY($B$4)=I32))} -> 0.10529324
A33: 2 | B33: ESTACION FLOR SILVESTRE | C33: 2.46 | D33: 2024 | E33: 2022 | F33: 0.14 | H33: 2 | I33: =VLOOKUP(H33,$A$4:$B$161,2) -> ESTACION FLOR SILVESTRE | J33: =COUNTIF(_xlfn.ANCHORARRAY($B$4),I33) -> 16 | K33: =_xlfn.MINIFS(_xlfn.ANCHORARRAY($C$4),_xlfn.ANCHORARRAY($B$4),I33) -> 0.1 | L33: =SUMIFS(_xlfn.ANCHORARRAY($C$4),_xlfn.ANCHORARRAY($B$4),I33)/J33 -> 0.69375 | M33: =_xlfn.MAXIFS(_xlfn.ANCHORARRAY($C$4),_xlfn.ANCHORARRAY($B$4),I33) -> 2.46 | N33: {=_xlfn.STDEV.S(_xlfn._xlws.FILTER(_xlfn.ANCHORARRAY($C$4),_xlfn.ANCHORARRAY($B$4)=I33))} -> 0.70501891
A34: 2 | B34: ESTACION FLOR SILVESTRE | C34: 0.26 | D34: 2024 | E34: 2022 | F34: 0.16 | H34: 3 | I34: =VLOOKUP(H34,$A$4:$B$161,2) -> ESTACION COLTEPUNTO | J34: =COUNTIF(_xlfn.ANCHORARRAY($B$4),I34) -> 16 | K34: =_xlfn.MINIFS(_xlfn.ANCHORARRAY($C$4),_xlfn.ANCHORARRAY($B$4),I34) -> 0.1 | L34: =SUMIFS(_xlfn.ANCHORARRAY($C$4),_xlfn.ANCHORARRAY($B$4),I34)/J34 -> 0.39875 | M34: =_xlfn.MAXIFS(_xlfn.ANCHORARRAY($C$4),_xlfn.ANCHORARRAY($B$4),I34) -> 1.84 | N34: {=_xlfn.STDEV.S(_xlfn._xlws.FILTER(_xlfn.ANCHORARRAY($C$4),_xlfn.ANCHORARRAY($B$4)=I34))} -> 0.40906194
A35: 2 | B35: ESTACION FLOR SILVESTRE | C35: 0.18 | D35: 2024 | E35: 2022 | F35: 1.08 | H35: 4 | I35: =VLOOKUP(H35,$A$4:$B$161,2) -> ESTACION PUENTE VIA EL TRANVIA | J35: =COUNTIF(_xlfn.ANCHORARRAY($B$4),I35) -> 16 | K35: =_xlfn.MINIFS(_xlfn.ANCHORARRAY($C$4),_xlfn.ANCHORARRAY($B$4),I35) -> 0.24 | L35: =SUMIFS(_xlfn.ANCHORARRAY($C$4),_xlfn.ANCHORARRAY($B$4),I35)/J35 -> 1.32 | M35: =_xlfn.MAXIFS(_xlfn.ANCHORARRAY($C$4),_xlfn.ANCHORARRAY($B$4),I35) -> 3.37 | N35: {=_xlfn.STDEV.S(_xlfn._xlws.FILTER(_xlfn.ANCHORARRAY($C$4),_xlfn.ANCHORARRAY($B$4)=I35))} -> 0.91850603
A36: 3 | B36: ESTACION COLTEPUNTO | C36: 0.1 | D36: 2019 | E36: 2022 | F36: 0.14
A37: 3 | B37: ESTACION COLTEPUNTO | C37: 0.5 | D37: 2020 | E37: 2022 | F37: 0.32
A38: 3 | B38: ESTACION COLTEPUNTO | C38: 0.2 | D38: 2020 | E38: 2022 | F38: 0.46
A39: 3 | B39: ESTACION COLTEPUNTO | C39: 0.4 | D39: 2020 | E39: 2022 | F39: 0.14
A40: 3 | B40: ESTACION COLTEPUNTO | C40: 0.28 | D40: 2021 | E40: 2022 | F40: 0.22
A41: 3 | B41: ESTACION COLTEPUNTO | C41: 0.6 | D41: 2021 | E41: 2022 | F41: 1.2
A42: 3 | B42: ESTACION COLTEPUNTO | C42: 0.3 | D42: 2021 | E42: 2022 | F42: 1.21
A43: 3 | B43: ESTACION COLTEPUNTO | C43: 0.46 | D43: 2022 | E43: 2022 | F43: 0.89
A44: 3 | B44: ESTACION COLTEPUNTO | C44: 0.14 | D44: 2022 | E44: 2023 | F44: 0.22
A45: 3 | B45: ESTACION COLTEPUNTO | C45: 0.22 | D45: 2022 | E45: 2023 | F45: 0.14
A46: 3 | B46: ESTACION COLTEPUNTO | C46: 0.22 | D46: 2023 | E46: 2023 | F46: 0.46
A47: 3 | B47: ESTACION COLTEPUNTO | C47: 0.28 | D47: 2023 | E47: 2023 | F47: 1.98
... A67: 4 | B67: ESTACION PUENTE VIA EL TRANVIA | C67: 0.5 | D67: 2024 | E67: 2024 | F67: 0.5

Sheet CM620
A2: Quebrada La Cimarrona | H2: Comportamiento estadistico por estación según historicos | O2: Mediciones por año en color para todos los tramos | U2: Todas las estaciones y mediciones
A3: Orden | B3: Estaciones | C3: =H30 -> λ=620 (m⁻¹) | D3: Año | E3: Año | F3: λ=436 (m⁻¹)
A4: {=_xlfn._xlws.FILTER(CHOOSE(1,'Resultados historicos'!C:C,'Resultados historicos'!D:D,'Resultados historicos'!O:O,'Resultados historicos'!A:A),'Resultados historicos'!H:H=A2)} -> 1 | B4: {=_xlfn._xlws.FILTER(CHOOSE(2,'Resultados historicos'!C:C,'Resultados historicos'!D:D,'Resultados historicos'!O:O,'Resultados historicos'!A:A),'Resultados historicos'!H:H=A2)} -> ESTACION PUENTE LARGA | C4: {=_xlfn._xlws.FILTER(CHOOSE(3,'Resultados historicos'!C:C,'Resultados historicos'!D:D,'Resultados historicos'!Q:Q,'Resultados historicos'!A:A),'Resultados historicos'!H:H=A2)} -> 0.1 | D4: {=_xlfn._xlws.FILTER(CHOOSE(4,'Resultados historicos'!C:C,'Resultados historicos'!D:D,'Resultados historicos'!O:O,'Resultados historicos'!A:A),'Resultados historicos'!H:H=A2)} -> 2019 | E4: 2019 | F4: 0.1
A5: 1 | B5: ESTACION PUENTE LARGA | C5: 0.1 | D5: 2020 | E5: 2019 | F5: 0.1
A6: 1 | B6: ESTACION PUENTE LARGA | C6: 0.1 | D6: 2020 | E6: 2019 | F6: 0.1
A7: 1 | B7: ESTACION PUENTE LARGA | C7: 0.1 | D7: 2020 | E7: 2019 | F7: 0.5
A8: 1 | B8: ESTACION PUENTE LARGA | C8: 0.2 | D8: 2021 | E8: 2020 | F8: 0.1
A9: 1 | B9: ESTACION PUENTE LARGA | C9: 0.1 | D9: 2021 | E9: 2020 | F9: 0.1
A10: 1 | B10: ESTACION PUENTE LARGA | C10: 0.12 | D10: 2021 | E10: 2020 | F10: 0.1
A11: 1 | B11: ESTACION PUENTE LARGA | C11: 0.2 | D11: 2022 | E11: 2020 | F11: 0.3
A12: 1 | B12: ESTACION PUENTE LARGA | C12: 0.06 | D12: 2022 | E12: 2020 | F12: 0.1
A13: 1 | B13: ESTACION PUENTE LARGA | C13: 0.06 | D13: 2022 | E13: 2020 | F13: 0.2
A14: 1 | B14: ESTACION PUENTE LARGA | C14: 0.1 | D14: 2023 | E14: 2020 | F14: 0.3
A15: 1 | B15: ESTACION PUENTE LARGA | C15: 0.08 | D15: 2023 | E15: 2020 | F15: 0.1
A16: 1 | B16: ESTACION PUENTE LARGA | C16: 0.32 | D16: 2023 | E16: 2020 | F16: 0.3
... A20: 2 | B20: ESTACION FLOR SILVESTRE | C20: 0.1 | D20: 2019 | E20: 2021 | F20: 0.2
A21: 2 | B21: ESTACION FLOR SILVESTRE | C21: 0.3 | D21: 2020 | E21: 2021 | F21: 0.1 | O21: =H30 -> λ=620 (m⁻¹) | W21: =O21 -> λ=620 (m⁻¹)
A22: 2 | B22: ESTACION FLOR SILVESTRE | C22: 0.1 | D22: 2020 | E22: 2021 | F22: 0.12 | O22: Año | P22: =J31 -> n | Q22: =K31 -> Mín | R22: =L31 -> Media | S22: =M31 -> Max | T22: =N31 -> DS | V22: Intervalo de confianza para n>30 | W22: Alerta | X22: Revisión | Y22: Aceptado
A23: 2 | B23: ESTACION FLOR SILVESTRE | C23: 0.2 | D23: 2020 | E23: 2021 | F23: 0.96 | O23: {=_xlfn._xlws.SORT(_xlfn.UNIQUE(_xlfn.ANCHORARRAY(D4)))} -> 2019 | P23: =COUNTIF(_xlfn.ANCHORARRAY($D$4),O23) -> 4 | Q23: =_xlfn.MINIFS(_xlfn.ANCHORARRAY($C$4),_xlfn.ANCHORARRAY($D$4),O23) -> 0.1 | R23: =SUMIFS(_xlfn.ANCHORARRAY($C$4),_xlfn.ANCHORARRAY($D$4),O23)/P23 -> 0.2 | S23: =_xlfn.MAXIFS(_xlfn.ANCHORARRAY($C$4),_xlfn.ANCHORARRAY($D$4),O23) -> 0.5 | T23: {=_xlfn.STDEV.S(_xlfn._xlws.FILTER(_xlfn.ANCHORARRAY($C$4),_xlfn.ANCHORARRAY($D$4)=O23))} -> 0.2 | V23: Nivel de confianza | W23: 0.9 | X23: 0.95 | Y23: 0.99
A24: 2 | B24: ESTACION FLOR SILVESTRE | C24: 0.96 | D24: 2021 | E24: 2021 | F24: 0.1 | O24: 2020 | P24: =COUNTIF(_xlfn.ANCHORARRAY($D$4),O24) -> 12 | Q24: =_xlfn.MINIFS(_xlfn.ANCHORARRAY($C$4),_xlfn.ANCHORARRAY($D$4),O24) -> 0.1 | R24: =SUMIFS(_xlfn.ANCHORARRAY($C$4),_xlfn.ANCHORARRAY($D$4),O24)/P24 -> 0.325 | S24: =_xlfn.MAXIFS(_xlfn.ANCHORARRAY($C$4),_xlfn.ANCHORARRAY($D$4),O24) -> 1.4 | T24: {=_xlfn.STDEV.S(_xlfn._xlws.FILTER(_xlfn.ANCHORARRAY($C$4),_xlfn.ANCHORARRAY($D$4)=O24))} -> 0.3792936 | V24: Nivel de significancia | W24: =1-W23 -> 0.1 | X24: =1-X23 -> 0.05 | Y24: =1-Y23 -> 0.01
A25: 2 | B25: ESTACION FLOR SILVESTRE | C25: 0.1 | D25: 2021 | E25: 2021 | F25: 0.38 | O25: 2021 | P25: =COUNTIF(_xlfn.ANCHORARRAY($D$4),O25) -> 12 | Q25: =_xlfn.MINIFS(_xlfn.ANCHORARRAY($C$4),_xlfn.ANCHORARRAY($D$4),O25) -> 0.1 | R25: =SUMIFS(_xlfn.ANCHORARRAY($C$4),_xlfn.ANCHORARRAY($D$4),O25)/P25 -> 0.43083333 | S25: =_xlfn.MAXIFS(_xlfn.ANCHORARRAY($C$4),_xlfn.ANCHORARRAY($D$4),O25) -> 1.57 | T25: {=_xlfn.STDEV.S(_xlfn._xlws.FILTER(_xlfn.ANCHORARRAY($C$4),_xlfn.ANCHORARRAY($D$4)=O25))} -> 0.45502164 | V25: Z(1-a/2) | W25: =_xlfn.NORM.S.INV(1-(W24/2)) -> 1.6448536 | X25: =_xlfn.NORM.S.INV(1-(X24/2)) -> 1.959964 | Y25: =_xlfn.NORM.S.INV(1-(Y24/2)) -> 2.5758293
A26: 2 | B26: ESTACION FLOR SILVESTRE | C26: 0.38 | D26: 2021 | E26: 2021 | F26: 0.14 | O26: 2022 | P26: =COUNTIF(_xlfn.ANCHORARRAY($D$4),O26) -> 12 | Q26: =_xlfn.MINIFS(_xlfn.ANCHORARRAY($C$4),_xlfn.ANCHORARRAY($D$4),O26) -> 0.06 | R26: =SUMIFS(_xlfn.ANCHORARRAY($C$4),_xlfn.ANCHORARRAY($D$4),O26)/P26 -> 0.29416667 | S26: =_xlfn.MAXIFS(_xlfn.ANCHORARRAY($C$4),_xlfn.ANCHORARRAY($D$4),O26) -> 0.84 | T26: {=_xlfn.STDEV.S(_xlfn._xlws.FILTER(_xlfn.ANCHORARRAY($C$4),_xlfn.ANCHORARRAY($D$4)=O26))} -> 0.27681495 | V26: Intervalo de confianza | W26: =TEXT(R29,"0,00")&" ± "&TEXT((W25*T29/SQRT(P29)),"0,00") -> 0,39 ± 0,09 | X26: =TEXT(R29,"0,00")&" ± "&TEXT((X25*T29/SQRT(P29)),"0,00") -> 0,39 ± 0,11 | Y26: =TEXT(R29,"0,00")&" ± "&TEXT((Y25*T29/SQRT(P29)),"0,00") -> 0,39 ± 0,15
A27: 2 | B27: ESTACION FLOR SILVESTRE | C27: 0.68 | D27: 2022 | E27: 2021 | F27: 0.4 | O27: 2023 | P27: =COUNTIF(_xlfn.ANCHORARRAY($D$4),O27) -> 12 | Q27: =_xlfn.MINIFS(_xlfn.ANCHORARRAY($C$4),_xlfn.ANCHORARRAY($D$4),O27) -> 0.08 | R27: =SUMIFS(_xlfn.ANCHORARRAY($C$4),_xlfn.ANCHORARRAY($D$4),O27)/P27 -> 0.485 | S27: =_xlfn.MAXIFS(_xlfn.ANCHORARRAY($C$4),_xlfn.ANCHORARRAY($D$4),O27) -> 1.76 | T27: {=_xlfn.STDEV.S(_xlfn._xlws.FILTER(_xlfn.ANCHORARRAY($C$4),_xlfn.ANCHORARRAY($D$4)=O27))} -> 0.56143485 | V27: L inf | W27: =R29-(W25*T29/SQRT(P29)) -> 0.29426287 | X27: =R29-(X25*T29/SQRT(P29)) -> 0.27646097 | Y27: =R29-(Y25*T29/SQRT(P29)) -> 0.24166817
A28: 2 | B28: ESTACION FLOR SILVESTRE | C28: 0.08 | D28: 2022 | E28: 2021 | F28: 0.2 | O28: 2024 | P28: =COUNTIF(_xlfn.ANCHORARRAY($D$4),O28) -> 12 | Q28: =_xlfn.MINIFS(_xlfn.ANCHORARRAY($C$4),_xlfn.ANCHORARRAY($D$4),O28) -> 0.08 | R28: =SUMIFS(_xlfn.ANCHORARRAY($C$4),_xlfn.ANCHORARRAY($D$4),O28)/P28 -> 0.46333333 | S28: =_xlfn.MAXIFS(_xlfn.ANCHORARRAY($C$4),_xlfn.ANCHORARRAY($D$4),O28) -> 1.7 | T28: {=_xlfn.STDEV.S(_xlfn._xlws.FILTER(_xlfn.ANCHORARRAY($C$4),_xlfn.ANCHORARRAY($D$4)=O28))} -> 0.60907282 | V28: L sup | W28: =R29+(W25*T29/SQRT(P29)) -> 0.48011213 | X28: =R29+(X25*T29/SQRT(P29)) -> 0.49791403 | Y28: =R29+(Y25*T29/SQRT(P29)) -> 0.53270683
A29: 2 | B29: ESTACION FLOR SILVESTRE | C29: 0.18 | D29: 2022 | E29: 2021 | F29: 1.57 | O29: Todos | P29: =SUM(P23:P28) -> 64 | R29: =AVERAGE(_xlfn.ANCHORARRAY(C4)) -> 0.3871875 | T29: =_xlfn.STDEV.S(_xlfn.ANCHORARRAY(C4)) -> 0.45195332
A30: 2 | B30: ESTACION FLOR SILVESTRE | C30: 1.42 | D30: 2023 | E30: 2021 | F30: 0.2 | H30: ='Estadistico resumen'!$O$1 -> λ=620 (m⁻¹)
A31: 2 | B31: ESTACION FLOR SILVESTRE | C31: 0.64 | D31: 2023 | E31: 2021 | F31: 0.8 | H31: Orden | I31: Estaciones | J31: ='Estadistico resumen'!$D$2 -> n | K31: Mín | L31: Media | M31: Max | N31: DS
A32: 2 | B32: ESTACION FLOR SILVESTRE | C32: 0.14 | D32: 2023 | E32: 2022 | F32: 0.2 | H32: {=_xlfn._xlws.SORT(_xlfn.UNIQUE(_xlfn.ANCHORARRAY(A4)))} -> 1 | I32: =IFERROR(VLOOKUP(H32,$A$4:$B$161,2),"") -> ESTACION PUENTE LARGA | J32: =COUNTIF(_xlfn.ANCHORARRAY($B$4),I32) -> 16 | K32: =_xlfn.MINIFS(_xlfn.ANCHORARRAY($C$4),_xlfn.ANCHORARRAY($B$4),I32) -> 0.06 | L32: =SUMIFS(_xlfn.ANCHORARRAY($C$4),_xlfn.ANCHORARRAY($B$4),I32)/J32 -> 0.1225 | M32: =_xlfn.MAXIFS(_xlfn.ANCHORARRAY($C$4),_xlfn.ANCHORARRAY($B$4),I32) -> 0.32 | N32: {=_xlfn.STDEV.S(_xlfn._xlws.FILTER(_xlfn.ANCHORARRAY($C$4),_xlfn.ANCHORARRAY($B$4)=I32))} -> 0.066483081
A33: 2 | B33: ESTACION FLOR SILVESTRE | C33: 1.7 | D33: 2024 | E33: 2022 | F33: 0.06 | H33: 2 | I33: =VLOOKUP(H33,$A$4:$B$161,2) -> ESTACION FLOR SILVESTRE | J33: =COUNTIF(_xlfn.ANCHORARRAY($B$4),I33) -> 16 | K33: =_xlfn.MINIFS(_xlfn.ANCHORARRAY($C$4),_xlfn.ANCHORARRAY($B$4),I33) -> 0.08 | L33: =SUMIFS(_xlfn.ANCHORARRAY($C$4),_xlfn.ANCHORARRAY($B$4),I33)/J33 -> 0.46 | M33: =_xlfn.MAXIFS(_xlfn.ANCHORARRAY($C$4),_xlfn.ANCHORARRAY($B$4),I33) -> 1.7 | N33: {=_xlfn.STDEV.S(_xlfn._xlws.FILTER(_xlfn.ANCHORARRAY($C$4),_xlfn.ANCHORARRAY($B$4)=I33))} -> 0.50007999
A34: 2 | B34: ESTACION FLOR SILVESTRE | C34: 0.16 | D34: 2024 | E34: 2022 | F34: 0.06 | H34: 3 | I34: =VLOOKUP(H34,$A$4:$B$161,2) -> ESTACION COLTEPUNTO | J34: =COUNTIF(_xlfn.ANCHORARRAY($B$4),I34) -> 16 | K34: =_xlfn.MINIFS(_xlfn.ANCHORARRAY($C$4),_xlfn.ANCHORARRAY($B$4),I34) -> 0.06 | L34: =SUMIFS(_xlfn.ANCHORARRAY($C$4),_xlfn.ANCHORARRAY($B$4),I34)/J34 -> 0.265 | M34: =_xlfn.MAXIFS(_xlfn.ANCHORARRAY($C$4),_xlfn.ANCHORARRAY($B$4),I34) -> 1.7 | N34: {=_xlfn.STDEV.S(_xlfn._xlws.FILTER(_xlfn.ANCHORARRAY($C$4),_xlfn.ANCHORARRAY($B$4)=I34))} -> 0.39533952
A35: 2 | B35: ESTACION FLOR SILVESTRE | C35: 0.22 | D35: 2024 | E35: 2022 | F35: 0.68 | H35: 4 | I35: =VLOOKUP(H35,$A$4:$B$161,2) -> ESTACION PUENTE VIA EL TRANVIA | J35: =COUNTIF(_xlfn.ANCHORARRAY($B$4),I35) -> 16 | K35: =_xlfn.MINIFS(_xlfn.ANCHORARRAY($C$4),_xlfn.ANCHORARRAY($B$4),I35) -> 0.12 | L35: =SUMIFS(_xlfn.ANCHORARRAY($C$4),_xlfn.ANCHORARRAY($B$4),I35)/J35 -> 0.70125 | M35: =_xlfn.MAXIFS(_xlfn.ANCHORARRAY($C$4),_xlfn.ANCHORARRAY($B$4),I35) -> 1.76 | N35: {=_xlfn.STDEV.S(_xlfn._xlws.FILTER(_xlfn.ANCHORARRAY($C$4),_xlfn.ANCHORARRAY($B$4)=I35))} -> 0.49556533
A36: 3 | B36: ESTACION COLTEPUNTO | C36: 0.1 | D36: 2019 | E36: 2022 | F36: 0.08
A37: 3 | B37: ESTACION COLTEPUNTO | C37: 0.3 | D37: 2020 | E37: 2022 | F37: 0.18
A38: 3 | B38: ESTACION COLTEPUNTO | C38: 0.1 | D38: 2020 | E38: 2022 | F38: 0.24
A39: 3 | B39: ESTACION COLTEPUNTO | C39: 0.3 | D39: 2020 | E39: 2022 | F39: 0.06
A40: 3 | B40: ESTACION COLTEPUNTO | C40: 0.14 | D40: 2021 | E40: 2022 | F40: 0.08
A41: 3 | B41: ESTACION COLTEPUNTO | C41: 0.4 | D41: 2021 | E41: 2022 | F41: 0.84
A42: 3 | B42: ESTACION COLTEPUNTO | C42: 0.2 | D42: 2021 | E42: 2022 | F42: 0.59
A43: 3 | B43: ESTACION COLTEPUNTO | C43: 0.24 | D43: 2022 | E43: 2022 | F43: 0.46
A44: 3 | B44: ESTACION COLTEPUNTO | C44: 0.06 | D44: 2022 | E44: 2023 | F44: 0.1
A45: 3 | B45: ESTACION COLTEPUNTO | C45: 0.08 | D45: 2022 | E45: 2023 | F45: 0.08
A46: 3 | B46: ESTACION COLTEPUNTO | C46: 0.1 | D46: 2023 | E46: 2023 | F46: 0.32
A47: 3 | B47: ESTACION COLTEPUNTO | C47: 0.14 | D47: 2023 | E47: 2023 | F47: 1.42
... A67: 4 | B67: ESTACION PUENTE VIA EL TRANVIA | C67: 0.24 | D67: 2024 | E67: 2024 | F67: 0.24

Sheet MN436
A2: Quebrada La Marinilla | H2: Comportamiento estadistico por estación según historicos | O2: Mediciones por año en color para todos los tramos | U2: Todas las estaciones y mediciones
A3: Orden | B3: Estaciones | C3: =H30 -> λ=436 (m⁻¹) | D3: Año | E3: Año | F3: λ=436 (m⁻¹)
A4: {=_xlfn._xlws.FILTER(CHOOSE(1,'Resultados historicos'!C:C,'Resultados historicos'!D:D,'Resultados historicos'!O:O,'Resultados historicos'!A:A),'Resultados historicos'!H:H=A2)} -> 1 | B4: {=_xlfn._xlws.FILTER(CHOOSE(2,'Resultados historicos'!C:C,'Resultados historicos'!D:D,'Resultados historicos'!O:O,'Resultados historicos'!A:A),'Resultados historicos'!H:H=A2)} -> ESTACION LA AMISTAD | C4: {=_xlfn._xlws.FILTER(CHOOSE(3,'Resultados historicos'!C:C,'Resultados historicos'!D:D,'Resultados historicos'!O:O,'Resultados historicos'!A:A),'Resultados historicos'!H:H=A2)} -> 0.6 | D4: {=_xlfn._xlws.FILTER(CHOOSE(4,'Resultados historicos'!C:C,'Resultados historicos'!D:D,'Resultados historicos'!O:O,'Resultados historicos'!A:A),'Resultados historicos'!H:H=A2)} -> 2021 | E4: 2019 | F4: 0.6
A5: 1 | B5: ESTACION LA AMISTAD | C5: 0.6 | D5: 2019 | E5: 2019 | F5: 2
A6: 1 | B6: ESTACION LA AMISTAD | C6: 0.4 | D6: 2020 | E6: 2019 | F6: 1.8
A7: 1 | B7: ESTACION LA AMISTAD | C7: 0.6 | D7: 2020 | E7: 2019 | F7: 0.8
A8: 1 | B8: ESTACION LA AMISTAD | C8: 0.5 | D8: 2020 | E8: 2020 | F8: 0.4
A9: 1 | B9: ESTACION LA AMISTAD | C9: 0.48 | D9: 2021 | E9: 2020 | F9: 0.6
A10: 1 | B10: ESTACION LA AMISTAD | C10: 0.94 | D10: 2021 | E10: 2020 | F10: 0.5
A11: 1 | B11: ESTACION LA AMISTAD | C11: 0.98 | D11: 2022 | E11: 2020 | F11: 0.9
A12: 1 | B12: ESTACION LA AMISTAD | C12: 0.34 | D12: 2022 | E12: 2020 | F12: 0.7
A13: 1 | B13: ESTACION LA AMISTAD | C13: 0.38 | D13: 2022 | E13: 2020 | F13: 0.7
A14: 1 | B14: ESTACION LA AMISTAD | C14: 0.68 | D14: 2023 | E14: 2020 | F14: 0.7
A15: 1 | B15: ESTACION LA AMISTAD | C15: 0.52 | D15: 2023 | E15: 2020 | F15: 0.7
A16: 1 | B16: ESTACION LA AMISTAD | C16: 0.34 | D16: 2023 | E16: 2020 | F16: 0.6
... A20: 2 | B20: ESTACION EL CHAGUALO | C20: 0.9 | D20: 2020 | E20: 2021 | F20: 0.6
A21: 2 | B21: ESTACION EL CHAGUALO | C21: 0.7 | D21: 2020 | E21: 2021 | F21: 0.48 | O21: =H30 -> λ=436 (m⁻¹) | W21: =O21 -> λ=436 (m⁻¹)
A22: 2 | B22: ESTACION EL CHAGUALO | C22: 0.8 | D22: 2021 | E22: 2021 | F22: 0.94 | O22: Año | P22: =J31 -> n | Q22: =K31 -> Mín | R22: =L31 -> Media | S22: =M31 -> Max | T22: =N31 -> DS | V22: Intervalo de confianza para n>30 | W22: Alerta | X22: Revisión | Y22: Aceptado
A23: 2 | B23: ESTACION EL CHAGUALO | C23: 2 | D23: 2019 | E23: 2021 | F23: 0.8 | O23: {=_xlfn._xlws.SORT(_xlfn.UNIQUE(_xlfn.ANCHORARRAY(D4)))} -> 2019 | P23: =COUNTIF(_xlfn.ANCHORARRAY($D$4),O23) -> 4 | Q23: =_xlfn.MINIFS(_xlfn.ANCHORARRAY($C$4),_xlfn.ANCHORARRAY($D$4),O23) -> 0.6 | R23: =SUMIFS(_xlfn.ANCHORARRAY($C$4),_xlfn.ANCHORARRAY($D$4),O23)/P23 -> 1.3 | S23: =_xlfn.MAXIFS(_xlfn.ANCHORARRAY($C$4),_xlfn.ANCHORARRAY($D$4),O23) -> 2 | T23: {=_xlfn.STDEV.S(_xlfn._xlws.FILTER(_xlfn.ANCHORARRAY($C$4),_xlfn.ANCHORARRAY($D$4)=O23))} -> 0.70237692 | V23: Nivel de confianza | W23: 0.9 | X23: 0.95 | Y23: 0.99
A24: 2 | B24: ESTACION EL CHAGUALO | C24: 0.7 | D24: 2020 | E24: 2021 | F24: 0.64 | O24: 2020 | P24: =COUNTIF(_xlfn.ANCHORARRAY($D$4),O24) -> 12 | Q24: =_xlfn.MINIFS(_xlfn.ANCHORARRAY($C$4),_xlfn.ANCHORARRAY($D$4),O24) -> 0.4 | R24: =SUMIFS(_xlfn.ANCHORARRAY($C$4),_xlfn.ANCHORARRAY($D$4),O24)/P24 -> 0.68333333 | S24: =_xlfn.MAXIFS(_xlfn.ANCHORARRAY($C$4),_xlfn.ANCHORARRAY($D$4),O24) -> 0.9 | T24: {=_xlfn.STDEV.S(_xlfn._xlws.FILTER(_xlfn.ANCHORARRAY($C$4),_xlfn.ANCHORARRAY($D$4)=O24))} -> 0.14668044 | V24: Nivel de significancia | W24: =1-W23 -> 0.1 | X24: =1-X23 -> 0.05 | Y24: =1-Y23 -> 0.01
A25: 2 | B25: ESTACION EL CHAGUALO | C25: 0.64 | D25: 2021 | E25: 2021 | F25: 1.3 | O25: 2021 | P25: =COUNTIF(_xlfn.ANCHORARRAY($D$4),O25) -> 12 | Q25: =_xlfn.MINIFS(_xlfn.ANCHORARRAY($C$4),_xlfn.ANCHORARRAY($D$4),O25) -> 0.48 | R25: =SUMIFS(_xlfn.ANCHORARRAY($C$4),_xlfn.ANCHORARRAY($D$4),O25)/P25 -> 0.90833333 | S25: =_xlfn.MAXIFS(_xlfn.ANCHORARRAY($C$4),_xlfn.ANCHORARRAY($D$4),O25) -> 1.56 | T25: {=_xlfn.STDEV.S(_xlfn._xlws.FILTER(_xlfn.ANCHORARRAY($C$4),_xlfn.ANCHORARRAY($D$4)=O25))} -> 0.36565839 | V25: Z(1-a/2) | W25: =_xlfn.NORM.S.INV(1-(W24/2)) -> 1.6448536 | X25: =_xlfn.NORM.S.INV(1-(X24/2)) -> 1.959964 | Y25: =_xlfn.NORM.S.INV(1-(Y24/2)) -> 2.5758293
A26: 2 | B26: ESTACION EL CHAGUALO | C26: 1.3 | D26: 2021 | E26: 2021 | F26: 0.6 | O26: 2022 | P26: =COUNTIF(_xlfn.ANCHORARRAY($D$4),O26) -> 12 | Q26: =_xlfn.MINIFS(_xlfn.ANCHORARRAY($C$4),_xlfn.ANCHORARRAY($D$4),O26) -> 0.26 | R26: =SUMIFS(_xlfn.ANCHORARRAY($C$4),_xlfn.ANCHORARRAY($D$4),O26)/P26 -> 0.75666667 | S26: =_xlfn.MAXIFS(_xlfn.ANCHORARRAY($C$4),_xlfn.ANCHORARRAY($D$4),O26) -> 3.32 | T26: {=_xlfn.STDEV.S(_xlfn._xlws.FILTER(_xlfn.ANCHORARRAY($C$4),_xlfn.ANCHORARRAY($D$4)=O26))} -> 0.84628958 | V26: Intervalo de confianza | W26: =TEXT(R29,"0,00")&" ± "&TEXT((W25*T29/SQRT(P29)),"0,00") -> 0,84 ± 0,11 | X26: =TEXT(R29,"0,00")&" ± "&TEXT((X25*T29/SQRT(P29)),"0,00") -> 0,84 ± 0,14 | Y26: =TEXT(R29,"0,00")&" ± "&TEXT((Y25*T29/SQRT(P29)),"0,00") -> 0,84 ± 0,18
A27: 2 | B27: ESTACION EL CHAGUALO | C27: 0.76 | D27: 2022 | E27: 2021 | F27: 0.62 | O27: 2023 | P27: =COUNTIF(_xlfn.ANCHORARRAY($D$4),O27) -> 12 | Q27: =_xlfn.MINIFS(_xlfn.ANCHORARRAY($C$4),_xlfn.ANCHORARRAY($D$4),O27) -> 0.24 | R27: =SUMIFS(_xlfn.ANCHORARRAY($C$4),_xlfn.ANCHORARRAY($D$4),O27)/P27 -> 0.53666667 | S27: =_xlfn.MAXIFS(_xlfn.ANCHORARRAY($C$4),_xlfn.ANCHORARRAY($D$4),O27) -> 0.86 | T27: {=_xlfn.STDEV.S(_xlfn._xlws.FILTER(_xlfn.ANCHORARRAY($C$4),_xlfn.ANCHORARRAY($D$4)=O27))} -> 0.20015146 | V27: L inf | W27: =R29-(W25*T29/SQRT(P29)) -> 0.72868926 | X27: =R29-(X25*T29/SQRT(P29)) -> 0.70682627 | Y27: =R29-(Y25*T29/SQRT(P29)) -> 0.6640963
A28: 2 | B28: ESTACION EL CHAGUALO | C28: 0.4 | D28: 2022 | E28: 2021 | F28: 0.94 | O28: 2024 | P28: =COUNTIF(_xlfn.ANCHORARRAY($D$4),O28) -> 12 | Q28: =_xlfn.MINIFS(_xlfn.ANCHORARRAY($C$4),_xlfn.ANCHORARRAY($D$4),O28) -> 0.46 | R28: =SUMIFS(_xlfn.ANCHORARRAY($C$4),_xlfn.ANCHORARRAY($D$4),O28)/P28 -> 1.1766667 | S28: =_xlfn.MAXIFS(_xlfn.ANCHORARRAY($C$4),_xlfn.ANCHORARRAY($D$4),O28) -> 2.24 | T28: {=_xlfn.STDEV.S(_xlfn._xlws.FILTER(_xlfn.ANCHORARRAY($C$4),_xlfn.ANCHORARRAY($D$4)=O28))} -> 0.6148959 | V28: L sup | W28: =R29+(W25*T29/SQRT(P29)) -> 0.95693574 | X28: =R29+(X25*T29/SQRT(P29)) -> 0.97879873 | Y28: =R29+(Y25*T29/SQRT(P29)) -> 1.0215287
A29: 2 | B29: ESTACION EL CHAGUALO | C29: 0.4 | D29: 2022 | E29: 2021 | F29: 1.5 | O29: Todos | P29: =SUM(P23:P28) -> 64 | R29: =AVERAGE(_xlfn.ANCHORARRAY(C4)) -> 0.8428125 | T29: =_xlfn.STDEV.S(_xlfn.ANCHORARRAY(C4)) -> 0.55505604
A30: 2 | B30: ESTACION EL CHAGUALO | C30: 0.86 | D30: 2023 | E30: 2021 | F30: 0.92 | H30: ='Estadistico resumen'!$G$1 -> λ=436 (m⁻¹)
A31: 2 | B31: ESTACION EL CHAGUALO | C31: 0.48 | D31: 2023 | E31: 2021 | F31: 1.56 | H31: Orden | I31: Estaciones | J31: ='Estadistico resumen'!$D$2 -> n | K31: Mín | L31: Media | M31: Max | N31: DS
A32: 2 | B32: ESTACION EL CHAGUALO | C32: 0.4 | D32: 2023 | E32: 2022 | F32: 0.98 | H32: {=_xlfn._xlws.SORT(_xlfn.UNIQUE(_xlfn.ANCHORARRAY(A4)))} -> 1 | I32: =IFERROR(VLOOKUP(H32,$A$4:$B$161,2),"") -> ESTACION LA AMISTAD | J32: =COUNTIF(_xlfn.ANCHORARRAY($B$4),I32) -> 16 | K32: =_xlfn.MINIFS(_xlfn.ANCHORARRAY($C$4),_xlfn.ANCHORARRAY($B$4),I32) -> 0.34 | L32: =SUMIFS(_xlfn.ANCHORARRAY($C$4),_xlfn.ANCHORARRAY($B$4),I32)/J32 -> 0.58875 | M32: =_xlfn.MAXIFS(_xlfn.ANCHORARRAY($C$4),_xlfn.ANCHORARRAY($B$4),I32) -> 1.1 | N32: {=_xlfn.STDEV.S(_xlfn._xlws.FILTER(_xlfn.ANCHORARRAY($C$4),_xlfn.ANCHORARRAY($B$4)=I32))} -> 0.23070544
A33: 2 | B33: ESTACION EL CHAGUALO | C33: 0.84 | D33: 2024 | E33: 2022 | F33: 0.34 | H33: 2 | I33: =VLOOKUP(H33,$A$4:$B$161,2) -> ESTACION EL CHAGUALO | J33: =COUNTIF(_xlfn.ANCHORARRAY($B$4),I33) -> 16 | K33: =_xlfn.MINIFS(_xlfn.ANCHORARRAY($C$4),_xlfn.ANCHORARRAY($B$4),I33) -> 0.4 | L33: =SUMIFS(_xlfn.ANCHORARRAY($C$4),_xlfn.ANCHORARRAY($B$4),I33)/J33 -> 0.855 | M33: =_xlfn.MAXIFS(_xlfn.ANCHORARRAY($C$4),_xlfn.ANCHORARRAY($B$4),I33) -> 2 | N33: {=_xlfn.STDEV.S(_xlfn._xlws.FILTER(_xlfn.ANCHORARRAY($C$4),_xlfn.ANCHORARRAY($B$4)=I33))} -> 0.46271662
A34: 2 | B34: ESTACION EL CHAGUALO | C34: 0.74 | D34: 2024 | E34: 2022 | F34: 0.38 | H34: 3 | I34: =VLOOKUP(H34,$A$4:$B$161,2) -> ESTACION PUENTE LA FERIA | J34: =COUNTIF(_xlfn.ANCHORARRAY($B$4),I34) -> 16 | K34: =_xlfn.MINIFS(_xlfn.ANCHORARRAY($C$4),_xlfn.ANCHORARRAY($B$4),I34) -> 0.26 | L34: =SUMIFS(_xlfn.ANCHORARRAY($C$4),_xlfn.ANCHORARRAY($B$4),I34)/J34 -> 0.79125 | M34: =_xlfn.MAXIFS(_xlfn.ANCHORARRAY($C$4),_xlfn.ANCHORARRAY($B$4),I34) -> 1.88 | N34: {=_xlfn.STDEV.S(_xlfn._xlws.FILTER(_xlfn.ANCHORARRAY($C$4),_xlfn.ANCHORARRAY($B$4)=I34))} -> 0.45746949
A35: 2 | B35: ESTACION EL CHAGUALO | C35: 1.76 | D35: 2024 | E35: 2022 | F35: 0.76 | H35: 4 | I35: =VLOOKUP(H35,$A$4:$B$161,2) -> ESTACION ALCARAVANES | J35: =COUNTIF(_xlfn.ANCHORARRAY($B$4),I35) -> 16 | K35: =_xlfn.MINIFS(_xlfn.ANCHORARRAY($C$4),_xlfn.ANCHORARRAY($B$4),I35) -> 0.24 | L35: =SUMIFS(_xlfn.ANCHORARRAY($C$4),_xlfn.ANCHORARRAY($B$4),I35)/J35 -> 1.13625 | M35: =_xlfn.MAXIFS(_xlfn.ANCHORARRAY($C$4),_xlfn.ANCHORARRAY($B$4),I35) -> 3.32 | N35: {=_xlfn.STDEV.S(_xlfn._xlws.FILTER(_xlfn.ANCHORARRAY($C$4),_xlfn.ANCHORARRAY($B$4)=I35))} -> 0.80849552
A36: 3 | B36: ESTACION PUENTE LA FERIA | C36: 0.6 | D36: 2021 | E36: 2022 | F36: 0.4
A37: 3 | B37: ESTACION PUENTE LA FERIA | C37: 1.8 | D37: 2019 | E37: 2022 | F37: 0.4
A38: 3 | B38: ESTACION PUENTE LA FERIA | C38: 0.7 | D38: 2020 | E38: 2022 | F38: 0.98
A39: 3 | B39: ESTACION PUENTE LA FERIA | C39: 0.7 | D39: 2020 | E39: 2022 | F39: 0.42
A40: 3 | B40: ESTACION PUENTE LA FERIA | C40: 0.6 | D40: 2020 | E40: 2022 | F40: 0.26
A41: 3 | B41: ESTACION PUENTE LA FERIA | C41: 0.62 | D41: 2021 | E41: 2022 | F41: 3.32
A42: 3 | B42: ESTACION PUENTE LA FERIA | C42: 0.94 | D42: 2021 | E42: 2022 | F42: 0.58
A43: 3 | B43: ESTACION PUENTE LA FERIA | C43: 0.98 | D43: 2022 | E43: 2022 | F43: 0.26
A44: 3 | B44: ESTACION PUENTE LA FERIA | C44: 0.42 | D44: 2022 | E44: 2023 | F44: 0.68
A45: 3 | B45: ESTACION PUENTE LA FERIA | C45: 0.26 | D45: 2022 | E45: 2023 | F45: 0.52
A46: 3 | B46: ESTACION PUENTE LA FERIA | C46: 0.74 | D46: 2023 | E46: 2023 | F46: 0.34
A47: 3 | B47: ESTACION PUENTE LA FERIA | C47: 0.4 | D47: 2023 | E47: 2023 | F47: 0.86
... A67: 4 | B67: ESTACION ALCARAVANES | C67: 2.24 | D67: 2024 | E67: 2024 | F67: 2.24

Sheet MN525
A2: Quebrada La Marinilla | H2: Comportamiento estadistico por estación según historicos | O2: Mediciones por año en color para todos los tramos | U2: Todas las estaciones y mediciones
A3: Orden | B3: Estaciones | C3: =H30 -> λ=525 (m⁻¹) | D3: Año | E3: Año | F3: λ=436 (m⁻¹)
A4: {=_xlfn._xlws.FILTER(CHOOSE(1,'Resultados historicos'!C:C,'Resultados historicos'!D:D,'Resultados historicos'!O:O,'Resultados historicos'!A:A),'Resultados historicos'!H:H=A2)} -> 1 | B4: {=_xlfn._xlws.FILTER(CHOOSE(2,'Resultados historicos'!C:C,'Resultados historicos'!D:D,'Resultados historicos'!O:O,'Resultados historicos'!A:A),'Resultados historicos'!H:H=A2)} -> ESTACION LA AMISTAD | C4: {=_xlfn._xlws.FILTER(CHOOSE(3,'Resultados historicos'!C:C,'Resultados historicos'!D:D,'Resultados historicos'!P:P,'Resultados historicos'!A:A),'Resultados historicos'!H:H=A2)} -> 0.2 | D4: {=_xlfn._xlws.FILTER(CHOOSE(4,'Resultados historicos'!C:C,'Resultados historicos'!D:D,'Resultados historicos'!O:O,'Resultados historicos'!A:A),'Resultados historicos'!H:H=A2)} -> 2021 | E4: 2019 | F4: 0.3
A5: 1 | B5: ESTACION LA AMISTAD | C5: 0.3 | D5: 2019 | E5: 2019 | F5: 0.9
A6: 1 | B6: ESTACION LA AMISTAD | C6: 0.2 | D6: 2020 | E6: 2019 | F6: 0.8
A7: 1 | B7: ESTACION LA AMISTAD | C7: 0.1 | D7: 2020 | E7: 2019 | F7: 0.2
A8: 1 | B8: ESTACION LA AMISTAD | C8: 0.2 | D8: 2020 | E8: 2020 | F8: 0.2
A9: 1 | B9: ESTACION LA AMISTAD | C9: 0.18 | D9: 2021 | E9: 2020 | F9: 0.1
A10: 1 | B10: ESTACION LA AMISTAD | C10: 0.5 | D10: 2021 | E10: 2020 | F10: 0.2
A11: 1 | B11: ESTACION LA AMISTAD | C11: 0.4 | D11: 2022 | E11: 2020 | F11: 0.2
A12: 1 | B12: ESTACION LA AMISTAD | C12: 0.1 | D12: 2022 | E12: 2020 | F12: 0.3
A13: 1 | B13: ESTACION LA AMISTAD | C13: 0.14 | D13: 2022 | E13: 2020 | F13: 0.3
A14: 1 | B14: ESTACION LA AMISTAD | C14: 0.22 | D14: 2023 | E14: 2020 | F14: 0.3
A15: 1 | B15: ESTACION LA AMISTAD | C15: 0.18 | D15: 2023 | E15: 2020 | F15: 0.2
A16: 1 | B16: ESTACION LA AMISTAD | C16: 0.18 | D16: 2023 | E16: 2020 | F16: 0.2
... A20: 2 | B20: ESTACION EL CHAGUALO | C20: 0.2 | D20: 2020 | E20: 2021 | F20: 0.2
A21: 2 | B21: ESTACION EL CHAGUALO | C21: 0.3 | D21: 2020 | E21: 2021 | F21: 0.18 | O21: =H30 -> λ=525 (m⁻¹) | W21: =O21 -> λ=525 (m⁻¹)
A22: 2 | B22: ESTACION EL CHAGUALO | C22: 0.4 | D22: 2021 | E22: 2021 | F22: 0.5 | O22: Año | P22: =J31 -> n | Q22: =K31 -> Mín | R22: =L31 -> Media | S22: =M31 -> Max | T22: =N31 -> DS | V22: Intervalo de confianza para n>30 | W22: Alerta | X22: Revisión | Y22: Aceptado
A23: 2 | B23: ESTACION EL CHAGUALO | C23: 0.9 | D23: 2019 | E23: 2021 | F23: 0.4 | O23: {=_xlfn._xlws.SORT(_xlfn.UNIQUE(_xlfn.ANCHORARRAY(D4)))} -> 2019 | P23: =COUNTIF(_xlfn.ANCHORARRAY($D$4),O23) -> 4 | Q23: =_xlfn.MINIFS(_xlfn.ANCHORARRAY($C$4),_xlfn.ANCHORARRAY($D$4),O23) -> 0.2 | R23: =SUMIFS(_xlfn.ANCHORARRAY($C$4),_xlfn.ANCHORARRAY($D$4),O23)/P23 -> 0.55 | S23: =_xlfn.MAXIFS(_xlfn.ANCHORARRAY($C$4),_xlfn.ANCHORARRAY($D$4),O23) -> 0.9 | T23: {=_xlfn.STDEV.S(_xlfn._xlws.FILTER(_xlfn.ANCHORARRAY($C$4),_xlfn.ANCHORARRAY($D$4)=O23))} -> 0.35118846 | V23: Nivel de confianza | W23: 0.9 | X23: 0.95 | Y23: 0.99
A24: 2 | B24: ESTACION EL CHAGUALO | C24: 0.3 | D24: 2020 | E24: 2021 | F24: 0.24 | O24: 2020 | P24: =COUNTIF(_xlfn.ANCHORARRAY($D$4),O24) -> 12 | Q24: =_xlfn.MINIFS(_xlfn.ANCHORARRAY($C$4),_xlfn.ANCHORARRAY($D$4),O24) -> 0.1 | R24: =SUMIFS(_xlfn.ANCHORARRAY($C$4),_xlfn.ANCHORARRAY($D$4),O24)/P24 -> 0.25 | S24: =_xlfn.MAXIFS(_xlfn.ANCHORARRAY($C$4),_xlfn.ANCHORARRAY($D$4),O24) -> 0.4 | T24: {=_xlfn.STDEV.S(_xlfn._xlws.FILTER(_xlfn.ANCHORARRAY($C$4),_xlfn.ANCHORARRAY($D$4)=O24))} -> 0.090453403 | V24: Nivel de significancia | W24: =1-W23 -> 0.1 | X24: =1-X23 -> 0.05 | Y24: =1-Y23 -> 0.01
A25: 2 | B25: ESTACION EL CHAGUALO | C25: 0.24 | D25: 2021 | E25: 2021 | F25: 0.7 | O25: 2021 | P25: =COUNTIF(_xlfn.ANCHORARRAY($D$4),O25) -> 12 | Q25: =_xlfn.MINIFS(_xlfn.ANCHORARRAY($C$4),_xlfn.ANCHORARRAY($D$4),O25) -> 0.18 | R25: =SUMIFS(_xlfn.ANCHORARRAY($C$4),_xlfn.ANCHORARRAY($D$4),O25)/P25 -> 0.44083333 | S25: =_xlfn.MAXIFS(_xlfn.ANCHORARRAY($C$4),_xlfn.ANCHORARRAY($D$4),O25) -> 0.9 | T25: {=_xlfn.STDEV.S(_xlfn._xlws.FILTER(_xlfn.ANCHORARRAY($C$4),_xlfn.ANCHORARRAY($D$4)=O25))} -> 0.25805068 | V25: Z(1-a/2) | W25: =_xlfn.NORM.S.INV(1-(W24/2)) -> 1.6448536 | X25: =_xlfn.NORM.S.INV(1-(X24/2)) -> 1.959964 | Y25: =_xlfn.NORM.S.INV(1-(Y24/2)) -> 2.5758293
A26: 2 | B26: ESTACION EL CHAGUALO | C26: 0.7 | D26: 2021 | E26: 2021 | F26: 0.2 | O26: 2022 | P26: =COUNTIF(_xlfn.ANCHORARRAY($D$4),O26) -> 12 | Q26: =_xlfn.MINIFS(_xlfn.ANCHORARRAY($C$4),_xlfn.ANCHORARRAY($D$4),O26) -> 0.1 | R26: =SUMIFS(_xlfn.ANCHORARRAY($C$4),_xlfn.ANCHORARRAY($D$4),O26)/P26 -> 0.34333333 | S26: =_xlfn.MAXIFS(_xlfn.ANCHORARRAY($C$4),_xlfn.ANCHORARRAY($D$4),O26) -> 1.82 | T26: {=_xlfn.STDEV.S(_xlfn._xlws.FILTER(_xlfn.ANCHORARRAY($C$4),_xlfn.ANCHORARRAY($D$4)=O26))} -> 0.47900149 | V26: Intervalo de confianza | W26: =TEXT(R29,"0,00")&" ± "&TEXT((W25*T29/SQRT(P29)),"0,00") -> 0,39 ± 0,07 | X26: =TEXT(R29,"0,00")&" ± "&TEXT((X25*T29/SQRT(P29)),"0,00") -> 0,39 ± 0,09 | Y26: =TEXT(R29,"0,00")&" ± "&TEXT((Y25*T29/SQRT(P29)),"0,00") -> 0,39 ± 0,11
A27: 2 | B27: ESTACION EL CHAGUALO | C27: 0.32 | D27: 2022 | E27: 2021 | F27: 0.24 | O27: 2023 | P27: =COUNTIF(_xlfn.ANCHORARRAY($D$4),O27) -> 12 | Q27: =_xlfn.MINIFS(_xlfn.ANCHORARRAY($C$4),_xlfn.ANCHORARRAY($D$4),O27) -> 0.12 | R27: =SUMIFS(_xlfn.ANCHORARRAY($C$4),_xlfn.ANCHORARRAY($D$4),O27)/P27 -> 0.19333333 | S27: =_xlfn.MAXIFS(_xlfn.ANCHORARRAY($C$4),_xlfn.ANCHORARRAY($D$4),O27) -> 0.28 | T27: {=_xlfn.STDEV.S(_xlfn._xlws.FILTER(_xlfn.ANCHORARRAY($C$4),_xlfn.ANCHORARRAY($D$4)=O27))} -> 0.050692179 | V27: L inf | W27: =R29-(W25*T29/SQRT(P29)) -> 0.31594425 | X27: =R29-(X25*T29/SQRT(P29)) -> 0.30214627 | Y27: =R29-(Y25*T29/SQRT(P29)) -> 0.27517889
A28: 2 | B28: ESTACION EL CHAGUALO | C28: 0.1 | D28: 2022 | E28: 2021 | F28: 0.44 | O28: 2024 | P28: =COUNTIF(_xlfn.ANCHORARRAY($D$4),O28) -> 12 | Q28: =_xlfn.MINIFS(_xlfn.ANCHORARRAY($C$4),_xlfn.ANCHORARRAY($D$4),O28) -> 0.22 | R28: =SUMIFS(_xlfn.ANCHORARRAY($C$4),_xlfn.ANCHORARRAY($D$4),O28)/P28 -> 0.65833333 | S28: =_xlfn.MAXIFS(_xlfn.ANCHORARRAY($C$4),_xlfn.ANCHORARRAY($D$4),O28) -> 1.5 | T28: {=_xlfn.STDEV.S(_xlfn._xlws.FILTER(_xlfn.ANCHORARRAY($C$4),_xlfn.ANCHORARRAY($D$4)=O28))} -> 0.45362847 | V28: L sup | W28: =R29+(W25*T29/SQRT(P29)) -> 0.45999325 | X28: =R29+(X25*T29/SQRT(P29)) -> 0.47379123 | Y28: =R29+(Y25*T29/SQRT(P29)) -> 0.50075861
A29: 2 | B29: ESTACION EL CHAGUALO | C29: 0.14 | D29: 2022 | E29: 2021 | F29: 0.9 | O29: Todos | P29: =SUM(P23:P28) -> 64 | R29: =AVERAGE(_xlfn.ANCHORARRAY(C4)) -> 0.38796875 | T29: =_xlfn.STDEV.S(_xlfn.ANCHORARRAY(C4)) -> 0.35030227
A30: 2 | B30: ESTACION EL CHAGUALO | C30: 0.28 | D30: 2023 | E30: 2021 | F30: 0.42 | H30: ='Estadistico resumen'!$K$1 -> λ=525 (m⁻¹)
A31: 2 | B31: ESTACION EL CHAGUALO | C31: 0.14 | D31: 2023 | E31: 2021 | F31: 0.87 | H31: Orden | I31: Estaciones | J31: ='Estadistico resumen'!$D$2 -> n | K31: Mín | L31: Media | M31: Max | N31: DS
A32: 2 | B32: ESTACION EL CHAGUALO | C32: 0.18 | D32: 2023 | E32: 2022 | F32: 0.4 | H32: {=_xlfn._xlws.SORT(_xlfn.UNIQUE(_xlfn.ANCHORARRAY(A4)))} -> 1 | I32: =IFERROR(VLOOKUP(H32,$A$4:$B$161,2),"") -> ESTACION LA AMISTAD | J32: =COUNTIF(_xlfn.ANCHORARRAY($B$4),I32) -> 16 | K32: =_xlfn.MINIFS(_xlfn.ANCHORARRAY($C$4),_xlfn.ANCHORARRAY($B$4),I32) -> 0.1 | L32: =SUMIFS(_xlfn.ANCHORARRAY($C$4),_xlfn.ANCHORARRAY($B$4),I32)/J32 -> 0.24125 | M32: =_xlfn.MAXIFS(_xlfn.ANCHORARRAY($C$4),_xlfn.ANCHORARRAY($B$4),I32) -> 0.5 | N32: {=_xlfn.STDEV.S(_xlfn._xlws.FILTER(_xlfn.ANCHORARRAY($C$4),_xlfn.ANCHORARRAY($B$4)=I32))} -> 0.12382111
A33: 2 | B33: ESTACION EL CHAGUALO | C33: 0.38 | D33: 2024 | E33: 2022 | F33: 0.1 | H33: 2 | I33: =VLOOKUP(H33,$A$4:$B$161,2) -> ESTACION EL CHAGUALO | J33: =COUNTIF(_xlfn.ANCHORARRAY($B$4),I33) -> 16 | K33: =_xlfn.MINIFS(_xlfn.ANCHORARRAY($C$4),_xlfn.ANCHORARRAY($B$4),I33) -> 0.1 | L33: =SUMIFS(_xlfn.ANCHORARRAY($C$4),_xlfn.ANCHORARRAY($B$4),I33)/J33 -> 0.38625 | M33: =_xlfn.MAXIFS(_xlfn.ANCHORARRAY($C$4),_xlfn.ANCHORARRAY($B$4),I33) -> 1.3 | N33: {=_xlfn.STDEV.S(_xlfn._xlws.FILTER(_xlfn.ANCHORARRAY($C$4),_xlfn.ANCHORARRAY($B$4)=I33))} -> 0.3201432
A34: 2 | B34: ESTACION EL CHAGUALO | C34: 0.3 | D34: 2024 | E34: 2022 | F34: 0.14 | H34: 3 | I34: =VLOOKUP(H34,$A$4:$B$161,2) -> ESTACION PUENTE LA FERIA | J34: =COUNTIF(_xlfn.ANCHORARRAY($B$4),I34) -> 16 | K34: =_xlfn.MINIFS(_xlfn.ANCHORARRAY($C$4),_xlfn.ANCHORARRAY($B$4),I34) -> 0.12 | L34: =SUMIFS(_xlfn.ANCHORARRAY($C$4),_xlfn.ANCHORARRAY($B$4),I34)/J34 -> 0.345 | M34: =_xlfn.MAXIFS(_xlfn.ANCHORARRAY($C$4),_xlfn.ANCHORARRAY($B$4),I34) -> 1.06 | N34: {=_xlfn.STDEV.S(_xlfn._xlws.FILTER(_xlfn.ANCHORARRAY($C$4),_xlfn.ANCHORARRAY($B$4)=I34))} -> 0.25544732
A35: 2 | B35: ESTACION EL CHAGUALO | C35: 1.3 | D35: 2024 | E35: 2022 | F35: 0.32 | H35: 4 | I35: =VLOOKUP(H35,$A$4:$B$161,2) -> ESTACION ALCARAVANES | J35: =COUNTIF(_xlfn.ANCHORARRAY($B$4),I35) -> 16 | K35: =_xlfn.MINIFS(_xlfn.ANCHORARRAY($C$4),_xlfn.ANCHORARRAY($B$4),I35) -> 0.14 | L35: =SUMIFS(_xlfn.ANCHORARRAY($C$4),_xlfn.ANCHORARRAY($B$4),I35)/J35 -> 0.579375 | M35: =_xlfn.MAXIFS(_xlfn.ANCHORARRAY($C$4),_xlfn.ANCHORARRAY($B$4),I35) -> 1.82 | N35: {=_xlfn.STDEV.S(_xlfn._xlws.FILTER(_xlfn.ANCHORARRAY($C$4),_xlfn.ANCHORARRAY($B$4)=I35))} -> 0.51797643
A36: 3 | B36: ESTACION PUENTE LA FERIA | C36: 0.2 | D36: 2021 | E36: 2022 | F36: 0.1
A37: 3 | B37: ESTACION PUENTE LA FERIA | C37: 0.8 | D37: 2019 | E37: 2022 | F37: 0.14
A38: 3 | B38: ESTACION PUENTE LA FERIA | C38: 0.3 | D38: 2020 | E38: 2022 | F38: 0.44
A39: 3 | B39: ESTACION PUENTE LA FERIA | C39: 0.2 | D39: 2020 | E39: 2022 | F39: 0.16
A40: 3 | B40: ESTACION PUENTE LA FERIA | C40: 0.2 | D40: 2020 | E40: 2022 | F40: 0.16
A41: 3 | B41: ESTACION PUENTE LA FERIA | C41: 0.24 | D41: 2021 | E41: 2022 | F41: 1.82
A42: 3 | B42: ESTACION PUENTE LA FERIA | C42: 0.44 | D42: 2021 | E42: 2022 | F42: 0.2
A43: 3 | B43: ESTACION PUENTE LA FERIA | C43: 0.44 | D43: 2022 | E43: 2022 | F43: 0.14
A44: 3 | B44: ESTACION PUENTE LA FERIA | C44: 0.16 | D44: 2022 | E44: 2023 | F44: 0.22
A45: 3 | B45: ESTACION PUENTE LA FERIA | C45: 0.16 | D45: 2022 | E45: 2023 | F45: 0.18
A46: 3 | B46: ESTACION PUENTE LA FERIA | C46: 0.26 | D46: 2023 | E46: 2023 | F46: 0.18
A47: 3 | B47: ESTACION PUENTE LA FERIA | C47: 0.12 | D47: 2023 | E47: 2023 | F47: 0.28
... A67: 4 | B67: ESTACION ALCARAVANES | C67: 1.5 | D67: 2024 | E67: 2024 | F67: 1.5

Sheet MN620
A2: Quebrada La Cimarrona | H2: Comportamiento estadistico por estación según historicos | O2: Mediciones por año en color para todos los tramos | U2: Todas las estaciones y mediciones
A3: Orden | B3: Estaciones | C3: =H30 -> λ=620 (m⁻¹) | D3: Año | E3: Año | F3: λ=436 (m⁻¹)
A4: {=_xlfn._xlws.FILTER(CHOOSE(1,'Resultados historicos'!C:C,'Resultados historicos'!D:D,'Resultados historicos'!O:O,'Resultados historicos'!A:A),'Resultados historicos'!H:H=A2)} -> 1 | B4: {=_xlfn._xlws.FILTER(CHOOSE(2,'Resultados historicos'!C:C,'Resultados historicos'!D:D,'Resultados historicos'!O:O,'Resultados historicos'!A:A),'Resultados historicos'!H:H=A2)} -> ESTACION PUENTE LARGA | C4: {=_xlfn._xlws.FILTER(CHOOSE(3,'Resultados historicos'!C:C,'Resultados historicos'!D:D,'Resultados historicos'!Q:Q,'Resultados historicos'!A:A),'Resultados historicos'!H:H=A2)} -> 0.1 | D4: {=_xlfn._xlws.FILTER(CHOOSE(4,'Resultados historicos'!C:C,'Resultados historicos'!D:D,'Resultados historicos'!O:O,'Resultados historicos'!A:A),'Resultados historicos'!H:H=A2)} -> 2019 | E4: 2019 | F4: 0.1
A5: 1 | B5: ESTACION PUENTE LARGA | C5: 0.1 | D5: 2020 | E5: 2019 | F5: 0.1
A6: 1 | B6: ESTACION PUENTE LARGA | C6: 0.1 | D6: 2020 | E6: 2019 | F6: 0.1
A7: 1 | B7: ESTACION PUENTE LARGA | C7: 0.1 | D7: 2020 | E7: 2019 | F7: 0.5
A8: 1 | B8: ESTACION PUENTE LARGA | C8: 0.2 | D8: 2021 | E8: 2020 | F8: 0.1
A9: 1 | B9: ESTACION PUENTE LARGA | C9: 0.1 | D9: 2021 | E9: 2020 | F9: 0.1
A10: 1 | B10: ESTACION PUENTE LARGA | C10: 0.12 | D10: 2021 | E10: 2020 | F10: 0.1
A11: 1 | B11: ESTACION PUENTE LARGA | C11: 0.2 | D11: 2022 | E11: 2020 | F11: 0.3
A12: 1 | B12: ESTACION PUENTE LARGA | C12: 0.06 | D12: 2022 | E12: 2020 | F12: 0.1
A13: 1 | B13: ESTACION PUENTE LARGA | C13: 0.06 | D13: 2022 | E13: 2020 | F13: 0.2
A14: 1 | B14: ESTACION PUENTE LARGA | C14: 0.1 | D14: 2023 | E14: 2020 | F14: 0.3
A15: 1 | B15: ESTACION PUENTE LARGA | C15: 0.08 | D15: 2023 | E15: 2020 | F15: 0.1
A16: 1 | B16: ESTACION PUENTE LARGA | C16: 0.32 | D16: 2023 | E16: 2020 | F16: 0.3
... A20: 2 | B20: ESTACION FLOR SILVESTRE | C20: 0.1 | D20: 2019 | E20: 2021 | F20: 0.2
A21: 2 | B21: ESTACION FLOR SILVESTRE | C21: 0.3 | D21: 2020 | E21: 2021 | F21: 0.1 | O21: =H30 -> λ=620 (m⁻¹) | W21: =O21 -> λ=620 (m⁻¹)
A22: 2 | B22: ESTACION FLOR SILVESTRE | C22: 0.1 | D22: 2020 | E22: 2021 | F22: 0.12 | O22: Año | P22: =J31 -> n | Q22: =K31 -> Mín | R22: =L31 -> Media | S22: =M31 -> Max | T22: =N31 -> DS | V22: Intervalo de confianza para n>30 | W22: Alerta | X22: Revisión | Y22: Aceptado
A23: 2 | B23: ESTACION FLOR SILVESTRE | C23: 0.2 | D23: 2020 | E23: 2021 | F23: 0.96 | O23: {=_xlfn._xlws.SORT(_xlfn.UNIQUE(_xlfn.ANCHORARRAY(D4)))} -> 2019 | P23: =COUNTIF(_xlfn.ANCHORARRAY($D$4),O23) -> 4 | Q23: =_xlfn.MINIFS(_xlfn.ANCHORARRAY($C$4),_xlfn.ANCHORARRAY($D$4),O23) -> 0.1 | R23: =SUMIFS(_xlfn.ANCHORARRAY($C$4),_xlfn.ANCHORARRAY($D$4),O23)/P23 -> 0.2 | S23: =_xlfn.MAXIFS(_xlfn.ANCHORARRAY($C$4),_xlfn.ANCHORARRAY($D$4),O23) -> 0.5 | T23: {=_xlfn.STDEV.S(_xlfn._xlws.FILTER(_xlfn.ANCHORARRAY($C$4),_xlfn.ANCHORARRAY($D$4)=O23))} -> 0.2 | V23: Nivel de confianza | W23: 0.9 | X23: 0.95 | Y23: 0.99
A24: 2 | B24: ESTACION FLOR SILVESTRE | C24: 0.96 | D24: 2021 | E24: 2021 | F24: 0.1 | O24: 2020 | P24: =COUNTIF(_xlfn.ANCHORARRAY($D$4),O24) -> 12 | Q24: =_xlfn.MINIFS(_xlfn.ANCHORARRAY($C$4),_xlfn.ANCHORARRAY($D$4),O24) -> 0.1 | R24: =SUMIFS(_xlfn.ANCHORARRAY($C$4),_xlfn.ANCHORARRAY($D$4),O24)/P24 -> 0.325 | S24: =_xlfn.MAXIFS(_xlfn.ANCHORARRAY($C$4),_xlfn.ANCHORARRAY($D$4),O24) -> 1.4 | T24: {=_xlfn.STDEV.S(_xlfn._xlws.FILTER(_xlfn.ANCHORARRAY($C$4),_xlfn.ANCHORARRAY($D$4)=O24))} -> 0.3792936 | V24: Nivel de significancia | W24: =1-W23 -> 0.1 | X24: =1-X23 -> 0.05 | Y24: =1-Y23 -> 0.01
A25: 2 | B25: ESTACION FLOR SILVESTRE | C25: 0.1 | D25: 2021 | E25: 2021 | F25: 0.38 | O25: 2021 | P25: =COUNTIF(_xlfn.ANCHORARRAY($D$4),O25) -> 12 | Q25: =_xlfn.MINIFS(_xlfn.ANCHORARRAY($C$4),_xlfn.ANCHORARRAY($D$4),O25) -> 0.1 | R25: =SUMIFS(_xlfn.ANCHORARRAY($C$4),_xlfn.ANCHORARRAY($D$4),O25)/P25 -> 0.43083333 | S25: =_xlfn.MAXIFS(_xlfn.ANCHORARRAY($C$4),_xlfn.ANCHORARRAY($D$4),O25) -> 1.57 | T25: {=_xlfn.STDEV.S(_xlfn._xlws.FILTER(_xlfn.ANCHORARRAY($C$4),_xlfn.ANCHORARRAY($D$4)=O25))} -> 0.45502164 | V25: Z(1-a/2) | W25: =_xlfn.NORM.S.INV(1-(W24/2)) -> 1.6448536 | X25: =_xlfn.NORM.S.INV(1-(X24/2)) -> 1.959964 | Y25: =_xlfn.NORM.S.INV(1-(Y24/2)) -> 2.5758293
A26: 2 | B26: ESTACION FLOR SILVESTRE | C26: 0.38 | D26: 2021 | E26: 2021 | F26: 0.14 | O26: 2022 | P26: =COUNTIF(_xlfn.ANCHORARRAY($D$4),O26) -> 12 | Q26: =_xlfn.MINIFS(_xlfn.ANCHORARRAY($C$4),_xlfn.ANCHORARRAY($D$4),O26) -> 0.06 | R26: =SUMIFS(_xlfn.ANCHORARRAY($C$4),_xlfn.ANCHORARRAY($D$4),O26)/P26 -> 0.29416667 | S26: =_xlfn.MAXIFS(_xlfn.ANCHORARRAY($C$4),_xlfn.ANCHORARRAY($D$4),O26) -> 0.84 | T26: {=_xlfn.STDEV.S(_xlfn._xlws.FILTER(_xlfn.ANCHORARRAY($C$4),_xlfn.ANCHORARRAY($D$4)=O26))} -> 0.27681495 | V26: Intervalo de confianza | W26: =TEXT(R29,"0,00")&" ± "&TEXT((W25*T29/SQRT(P29)),"0,00") -> 0,39 ± 0,09 | X26: =TEXT(R29,"0,00")&" ± "&TEXT((X25*T29/SQRT(P29)),"0,00") -> 0,39 ± 0,11 | Y26: =TEXT(R29,"0,00")&" ± "&TEXT((Y25*T29/SQRT(P29)),"0,00") -> 0,39 ± 0,15
A27: 2 | B27: ESTACION FLOR SILVESTRE | C27: 0.68 | D27: 2022 | E27: 2021 | F27: 0.4 | O27: 2023 | P27: =COUNTIF(_xlfn.ANCHORARRAY($D$4),O27) -> 12 | Q27: =_xlfn.MINIFS(_xlfn.ANCHORARRAY($C$4),_xlfn.ANCHORARRAY($D$4),O27) -> 0.08 | R27: =SUMIFS(_xlfn.ANCHORARRAY($C$4),_xlfn.ANCHORARRAY($D$4),O27)/P27 -> 0.485 | S27: =_xlfn.MAXIFS(_xlfn.ANCHORARRAY($C$4),_xlfn.ANCHORARRAY($D$4),O27) -> 1.76 | T27: {=_xlfn.STDEV.S(_xlfn._xlws.FILTER(_xlfn.ANCHORARRAY($C$4),_xlfn.ANCHORARRAY($D$4)=O27))} -> 0.56143485 | V27: L inf | W27: =R29-(W25*T29/SQRT(P29)) -> 0.29426287 | X27: =R29-(X25*T29/SQRT(P29)) -> 0.27646097 | Y27: =R29-(Y25*T29/SQRT(P29)) -> 0.24166817
A28: 2 | B28: ESTACION FLOR SILVESTRE | C28: 0.08 | D28: 2022 | E28: 2021 | F28: 0.2 | O28: 2024 | P28: =COUNTIF(_xlfn.ANCHORARRAY($D$4),O28) -> 12 | Q28: =_xlfn.MINIFS(_xlfn.ANCHORARRAY($C$4),_xlfn.ANCHORARRAY($D$4),O28) -> 0.08 | R28: =SUMIFS(_xlfn.ANCHORARRAY($C$4),_xlfn.ANCHORARRAY($D$4),O28)/P28 -> 0.46333333 | S28: =_xlfn.MAXIFS(_xlfn.ANCHORARRAY($C$4),_xlfn.ANCHORARRAY($D$4),O28) -> 1.7 | T28: {=_xlfn.STDEV.S(_xlfn._xlws.FILTER(_xlfn.ANCHORARRAY($C$4),_xlfn.ANCHORARRAY($D$4)=O28))} -> 0.60907282 | V28: L sup | W28: =R29+(W25*T29/SQRT(P29)) -> 0.48011213 | X28: =R29+(X25*T29/SQRT(P29)) -> 0.49791403 | Y28: =R29+(Y25*T29/SQRT(P29)) -> 0.53270683
A29: 2 | B29: ESTACION FLOR SILVESTRE | C29: 0.18 | D29: 2022 | E29: 2021 | F29: 1.57 | O29: Todos | P29: =SUM(P23:P28) -> 64 | R29: =AVERAGE(_xlfn.ANCHORARRAY(C4)) -> 0.3871875 | T29: =_xlfn.STDEV.S(_xlfn.ANCHORARRAY(C4)) -> 0.45195332
A30: 2 | B30: ESTACION FLOR SILVESTRE | C30: 1.42 | D30: 2023 | E30: 2021 | F30: 0.2 | H30: ='Estadistico resumen'!$O$1 -> λ=620 (m⁻¹)
A31: 2 | B31: ESTACION FLOR SILVESTRE | C31: 0.64 | D31: 2023 | E31: 2021 | F31: 0.8 | H31: Orden | I31: Estaciones | J31: ='Estadistico resumen'!$D$2 -> n | K31: Mín | L31: Media | M31: Max | N31: DS
A32: 2 | B32: ESTACION FLOR SILVESTRE | C32: 0.14 | D32: 2023 | E32: 2022 | F32: 0.2 | H32: {=_xlfn._xlws.SORT(_xlfn.UNIQUE(_xlfn.ANCHORARRAY(A4)))} -> 1 | I32: =IFERROR(VLOOKUP(H32,$A$4:$B$161,2),"") -> ESTACION PUENTE LARGA | J32: =COUNTIF(_xlfn.ANCHORARRAY($B$4),I32) -> 16 | K32: =_xlfn.MINIFS(_xlfn.ANCHORARRAY($C$4),_xlfn.ANCHORARRAY($B$4),I32) -> 0.06 | L32: =SUMIFS(_xlfn.ANCHORARRAY($C$4),_xlfn.ANCHORARRAY($B$4),I32)/J32 -> 0.1225 | M32: =_xlfn.MAXIFS(_xlfn.ANCHORARRAY($C$4),_xlfn.ANCHORARRAY($B$4),I32) -> 0.32 | N32: {=_xlfn.STDEV.S(_xlfn._xlws.FILTER(_xlfn.ANCHORARRAY($C$4),_xlfn.ANCHORARRAY($B$4)=I32))} -> 0.066483081
A33: 2 | B33: ESTACION FLOR SILVESTRE | C33: 1.7 | D33: 2024 | E33: 2022 | F33: 0.06 | H33: 2 | I33: =VLOOKUP(H33,$A$4:$B$161,2) -> ESTACION FLOR SILVESTRE | J33: =COUNTIF(_xlfn.ANCHORARRAY($B$4),I33) -> 16 | K33: =_xlfn.MINIFS(_xlfn.ANCHORARRAY($C$4),_xlfn.ANCHORARRAY($B$4),I33) -> 0.08 | L33: =SUMIFS(_xlfn.ANCHORARRAY($C$4),_xlfn.ANCHORARRAY($B$4),I33)/J33 -> 0.46 | M33: =_xlfn.MAXIFS(_xlfn.ANCHORARRAY($C$4),_xlfn.ANCHORARRAY($B$4),I33) -> 1.7 | N33: {=_xlfn.STDEV.S(_xlfn._xlws.FILTER(_xlfn.ANCHORARRAY($C$4),_xlfn.ANCHORARRAY($B$4)=I33))} -> 0.50007999
A34: 2 | B34: ESTACION FLOR SILVESTRE | C34: 0.16 | D34: 2024 | E34: 2022 | F34: 0.06 | H34: 3 | I34: =VLOOKUP(H34,$A$4:$B$161,2) -> ESTACION COLTEPUNTO | J34: =COUNTIF(_xlfn.ANCHORARRAY($B$4),I34) -> 16 | K34: =_xlfn.MINIFS(_xlfn.ANCHORARRAY($C$4),_xlfn.ANCHORARRAY($B$4),I34) -> 0.06 | L34: =SUMIFS(_xlfn.ANCHORARRAY($C$4),_xlfn.ANCHORARRAY($B$4),I34)/J34 -> 0.265 | M34: =_xlfn.MAXIFS(_xlfn.ANCHORARRAY($C$4),_xlfn.ANCHORARRAY($B$4),I34) -> 1.7 | N34: {=_xlfn.STDEV.S(_xlfn._xlws.FILTER(_xlfn.ANCHORARRAY($C$4),_xlfn.ANCHORARRAY($B$4)=I34))} -> 0.39533952
A35: 2 | B35: ESTACION FLOR SILVESTRE | C35: 0.22 | D35: 2024 | E35: 2022 | F35: 0.68 | H35: 4 | I35: =VLOOKUP(H35,$A$4:$B$161,2) -> ESTACION PUENTE VIA EL TRANVIA | J35: =COUNTIF(_xlfn.ANCHORARRAY($B$4),I35) -> 16 | K35: =_xlfn.MINIFS(_xlfn.ANCHORARRAY($C$4),_xlfn.ANCHORARRAY($B$4),I35) -> 0.12 | L35: =SUMIFS(_xlfn.ANCHORARRAY($C$4),_xlfn.ANCHORARRAY($B$4),I35)/J35 -> 0.70125 | M35: =_xlfn.MAXIFS(_xlfn.ANCHORARRAY($C$4),_xlfn.ANCHORARRAY($B$4),I35) -> 1.76 | N35: {=_xlfn.STDEV.S(_xlfn._xlws.FILTER(_xlfn.ANCHORARRAY($C$4),_xlfn.ANCHORARRAY($B$4)=I35))} -> 0.49556533
A36: 3 | B36: ESTACION COLTEPUNTO | C36: 0.1 | D36: 2019 | E36: 2022 | F36: 0.08
A37: 3 | B37: ESTACION COLTEPUNTO | C37: 0.3 | D37: 2020 | E37: 2022 | F37: 0.18
A38: 3 | B38: ESTACION COLTEPUNTO | C38: 0.1 | D38: 2020 | E38: 2022 | F38: 0.24
A39: 3 | B39: ESTACION COLTEPUNTO | C39: 0.3 | D39: 2020 | E39: 2022 | F39: 0.06
A40: 3 | B40: ESTACION COLTEPUNTO | C40: 0.14 | D40: 2021 | E40: 2022 | F40: 0.08
A41: 3 | B41: ESTACION COLTEPUNTO | C41: 0.4 | D41: 2021 | E41: 2022 | F41: 0.84
A42: 3 | B42: ESTACION COLTEPUNTO | C42: 0.2 | D42: 2021 | E42: 2022 | F42: 0.59
A43: 3 | B43: ESTACION COLTEPUNTO | C43: 0.24 | D43: 2022 | E43: 2022 | F43: 0.46
A44: 3 | B44: ESTACION COLTEPUNTO | C44: 0.06 | D44: 2022 | E44: 2023 | F44: 0.1
A45: 3 | B45: ESTACION COLTEPUNTO | C45: 0.08 | D45: 2022 | E45: 2023 | F45: 0.08
A46: 3 | B46: ESTACION COLTEPUNTO | C46: 0.1 | D46: 2023 | E46: 2023 | F46: 0.32
A47: 3 | B47: ESTACION COLTEPUNTO | C47: 0.14 | D47: 2023 | E47: 2023 | F47: 1.42
... A67: 4 | B67: ESTACION PUENTE VIA EL TRANVIA | C67: 0.24 | D67: 2024 | E67: 2024 | F67: 0.24

Sheet MO436
A2: Quebrada La Mosca | H2: Comportamiento estadistico por estación según historicos | O2: Mediciones por año en color para todos los tramos | U2: Todas las estaciones y mediciones
A3: Orden | B3: Estaciones | C3: =H30 -> λ=436 (m⁻¹) | D3: Año | E3: Año | F3: λ=436 (m⁻¹)
A4: {=_xlfn._xlws.FILTER(CHOOSE(1,'Resultados historicos'!C:C,'Resultados historicos'!D:D,'Resultados historicos'!O:O,'Resultados historicos'!A:A),'Resultados historicos'!H:H=A2)} -> 1 | B4: {=_xlfn._xlws.FILTER(CHOOSE(2,'Resultados historicos'!C:C,'Resultados historicos'!D:D,'Resultados historicos'!O:O,'Resultados historicos'!A:A),'Resultados historicos'!H:H=A2)} -> ROMERAL | C4: {=_xlfn._xlws.FILTER(CHOOSE(3,'Resultados historicos'!C:C,'Resultados historicos'!D:D,'Resultados historicos'!O:O,'Resultados historicos'!A:A),'Resultados historicos'!H:H=A2)} -> 0.46 | D4: {=_xlfn._xlws.FILTER(CHOOSE(4,'Resultados historicos'!C:C,'Resultados historicos'!D:D,'Resultados historicos'!O:O,'Resultados historicos'!A:A),'Resultados historicos'!H:H=A2)} -> 2024 | E4: 2019 | F4: 0.3
A5: 1 | B5: ROMERAL | C5: 0.24 | D5: 2024 | E5: 2019 | F5: 0.4
A6: 1 | B6: ROMERAL | C6: 0.64 | D6: 2024 | E6: 2019 | F6: 0.6
A7: 1 | B7: ROMERAL | C7: 0.5 | D7: 2021 | E7: 2019 | F7: 0.5
A8: 1 | B8: ROMERAL | C8: 0.3 | D8: 2019 | E8: 2019 | F8: 1.4
A9: 1 | B9: ROMERAL | C9: 0.5 | D9: 2020 | E9: 2020 | F9: 0.5
A10: 1 | B10: ROMERAL | C10: 0.5 | D10: 2020 | E10: 2020 | F10: 0.5
A11: 1 | B11: ROMERAL | C11: 0.7 | D11: 2020 | E11: 2020 | F11: 0.7
A12: 1 | B12: ROMERAL | C12: 0.38 | D12: 2021 | E12: 2020 | F12: 0.5
A13: 1 | B13: ROMERAL | C13: 0.8 | D13: 2021 | E13: 2020 | F13: 0.5
A14: 1 | B14: ROMERAL | C14: 0.36 | D14: 2022 | E14: 2020 | F14: 0.6
A15: 1 | B15: ROMERAL | C15: 0.32 | D15: 2022 | E15: 2020 | F15: 1.5
A16: 1 | B16: ROMERAL | C16: 0.46 | D16: 2022 | E16: 2020 | F16: 0.6
... A20: 2 | B20: ESTACION PUENTE MOLINO | C20: 0.6 | D20: 2021 | E20: 2020 | F20: 0.6
A21: 2 | B21: ESTACION PUENTE MOLINO | C21: 0.4 | D21: 2019 | E21: 2020 | F21: 1.5 | O21: =H30 -> λ=436 (m⁻¹) | W21: =O21 -> λ=436 (m⁻¹)
A22: 2 | B22: ESTACION PUENTE MOLINO | C22: 0.5 | D22: 2020 | E22: 2020 | F22: 1.1 | O22: Año | P22: =J31 -> n | Q22: =K31 -> Mín | R22: =L31 -> Media | S22: =M31 -> Max | T22: =N31 -> DS | V22: Intervalo de confianza para n>30 | W22: Alerta | X22: Revisión | Y22: Aceptado
A23: 2 | B23: ESTACION PUENTE MOLINO | C23: 0.5 | D23: 2020 | E23: 2020 | F23: 0.8 | O23: {=_xlfn._xlws.SORT(_xlfn.UNIQUE(_xlfn.ANCHORARRAY(D4)))} -> 2019 | P23: =COUNTIF(_xlfn.ANCHORARRAY($D$4),O23) -> 5 | Q23: =_xlfn.MINIFS(_xlfn.ANCHORARRAY($C$4),_xlfn.ANCHORARRAY($D$4),O23) -> 0.3 | R23: =SUMIFS(_xlfn.ANCHORARRAY($C$4),_xlfn.ANCHORARRAY($D$4),O23)/P23 -> 0.64 | S23: =_xlfn.MAXIFS(_xlfn.ANCHORARRAY($C$4),_xlfn.ANCHORARRAY($D$4),O23) -> 1.4 | T23: {=_xlfn.STDEV.S(_xlfn._xlws.FILTER(_xlfn.ANCHORARRAY($C$4),_xlfn.ANCHORARRAY($D$4)=O23))} -> 0.43931765 | V23: Nivel de confianza | W23: 0.9 | X23: 0.95 | Y23: 0.99
A24: 2 | B24: ESTACION PUENTE MOLINO | C24: 0.6 | D24: 2020 | E24: 2021 | F24: 0.5 | O24: 2020 | P24: =COUNTIF(_xlfn.ANCHORARRAY($D$4),O24) -> 15 | Q24: =_xlfn.MINIFS(_xlfn.ANCHORARRAY($C$4),_xlfn.ANCHORARRAY($D$4),O24) -> 0.5 | R24: =SUMIFS(_xlfn.ANCHORARRAY($C$4),_xlfn.ANCHORARRAY($D$4),O24)/P24 -> 0.78666667 | S24: =_xlfn.MAXIFS(_xlfn.ANCHORARRAY($C$4),_xlfn.ANCHORARRAY($D$4),O24) -> 1.5 | T24: {=_xlfn.STDEV.S(_xlfn._xlws.FILTER(_xlfn.ANCHORARRAY($C$4),_xlfn.ANCHORARRAY($D$4)=O24))} -> 0.33352376 | V24: Nivel de significancia | W24: =1-W23 -> 0.1 | X24: =1-X23 -> 0.05 | Y24: =1-Y23 -> 0.01
A25: 2 | B25: ESTACION PUENTE MOLINO | C25: 0.32 | D25: 2021 | E25: 2021 | F25: 0.38 | O25: 2021 | P25: =COUNTIF(_xlfn.ANCHORARRAY($D$4),O25) -> 15 | Q25: =_xlfn.MINIFS(_xlfn.ANCHORARRAY($C$4),_xlfn.ANCHORARRAY($D$4),O25) -> 0.32 | R25: =SUMIFS(_xlfn.ANCHORARRAY($C$4),_xlfn.ANCHORARRAY($D$4),O25)/P25 -> 0.688 | S25: =_xlfn.MAXIFS(_xlfn.ANCHORARRAY($C$4),_xlfn.ANCHORARRAY($D$4),O25) -> 1.3 | T25: {=_xlfn.STDEV.S(_xlfn._xlws.FILTER(_xlfn.ANCHORARRAY($C$4),_xlfn.ANCHORARRAY($D$4)=O25))} -> 0.28693454 | V25: Z(1-a/2) | W25: =_xlfn.NORM.S.INV(1-(W24/2)) -> 1.6448536 | X25: =_xlfn.NORM.S.INV(1-(X24/2)) -> 1.959964 | Y25: =_xlfn.NORM.S.INV(1-(Y24/2)) -> 2.5758293
A26: 2 | B26: ESTACION PUENTE MOLINO | C26: 0.68 | D26: 2021 | E26: 2021 | F26: 0.8 | O26: 2022 | P26: =COUNTIF(_xlfn.ANCHORARRAY($D$4),O26) -> 15 | Q26: =_xlfn.MINIFS(_xlfn.ANCHORARRAY($C$4),_xlfn.ANCHORARRAY($D$4),O26) -> 0.32 | R26: =SUMIFS(_xlfn.ANCHORARRAY($C$4),_xlfn.ANCHORARRAY($D$4),O26)/P26 -> 0.57733333 | S26: =_xlfn.MAXIFS(_xlfn.ANCHORARRAY($C$4),_xlfn.ANCHORARRAY($D$4),O26) -> 1.56 | T26: {=_xlfn.STDEV.S(_xlfn._xlws.FILTER(_xlfn.ANCHORARRAY($C$4),_xlfn.ANCHORARRAY($D$4)=O26))} -> 0.30732641 | V26: Intervalo de confianza | W26: =TEXT(R29,"0,00")&" ± "&TEXT((W25*T29/SQRT(P29)),"0,00") -> 0,69 ± 0,09 | X26: =TEXT(R29,"0,00")&" ± "&TEXT((X25*T29/SQRT(P29)),"0,00") -> 0,69 ± 0,11 | Y26: =TEXT(R29,"0,00")&" ± "&TEXT((Y25*T29/SQRT(P29)),"0,00") -> 0,69 ± 0,14
A27: 2 | B27: ESTACION PUENTE MOLINO | C27: 0.42 | D27: 2022 | E27: 2021 | F27: 0.6 | O27: 2023 | P27: =COUNTIF(_xlfn.ANCHORARRAY($D$4),O27) -> 15 | Q27: =_xlfn.MINIFS(_xlfn.ANCHORARRAY($C$4),_xlfn.ANCHORARRAY($D$4),O27) -> 0.16 | R27: =SUMIFS(_xlfn.ANCHORARRAY($C$4),_xlfn.ANCHORARRAY($D$4),O27)/P27 -> 0.37333333 | S27: =_xlfn.MAXIFS(_xlfn.ANCHORARRAY($C$4),_xlfn.ANCHORARRAY($D$4),O27) -> 0.68 | T27: {=_xlfn.STDEV.S(_xlfn._xlws.FILTER(_xlfn.ANCHORARRAY($C$4),_xlfn.ANCHORARRAY($D$4)=O27))} -> 0.19297175 | V27: L inf | W27: =R29-(W25*T29/SQRT(P29)) -> 0.60370228 | X27: =R29-(X25*T29/SQRT(P29)) -> 0.58635573 | Y27: =R29-(Y25*T29/SQRT(P29)) -> 0.55245289
A28: 2 | B28: ESTACION PUENTE MOLINO | C28: 0.78 | D28: 2022 | E28: 2021 | F28: 0.32 | O28: 2024 | P28: =COUNTIF(_xlfn.ANCHORARRAY($D$4),O28) -> 15 | Q28: =_xlfn.MINIFS(_xlfn.ANCHORARRAY($C$4),_xlfn.ANCHORARRAY($D$4),O28) -> 0.24 | R28: =SUMIFS(_xlfn.ANCHORARRAY($C$4),_xlfn.ANCHORARRAY($D$4),O28)/P28 -> 1.064 | S28: =_xlfn.MAXIFS(_xlfn.ANCHORARRAY($C$4),_xlfn.ANCHORARRAY($D$4),O28) -> 2.98 | T28: {=_xlfn.STDEV.S(_xlfn._xlws.FILTER(_xlfn.ANCHORARRAY($C$4),_xlfn.ANCHORARRAY($D$4)=O28))} -> 0.84017685 | V28: L sup | W28: =R29+(W25*T29/SQRT(P29)) -> 0.78479772 | X28: =R29+(X25*T29/SQRT(P29)) -> 0.80214427 | Y28: =R29+(Y25*T29/SQRT(P29)) -> 0.83604711
A29: 2 | B29: ESTACION PUENTE MOLINO | C29: 0.64 | D29: 2022 | E29: 2021 | F29: 0.68 | O29: Todos | P29: =SUM(P23:P28) -> 80 | R29: =AVERAGE(_xlfn.ANCHORARRAY(C4)) -> 0.69425 | T29: =_xlfn.STDEV.S(_xlfn.ANCHORARRAY(C4)) -> 0.49237419
A30: 2 | B30: ESTACION PUENTE MOLINO | C30: 0.24 | D30: 2023 | E30: 2021 | F30: 0.4 | H30: ='Estadistico resumen'!$G$1 -> λ=436 (m⁻¹)
A31: 2 | B31: ESTACION PUENTE MOLINO | C31: 0.28 | D31: 2023 | E31: 2021 | F31: 0.7 | H31: Orden | I31: Estaciones | J31: ='Estadistico resumen'!$D$2 -> n | K31: Mín | L31: Media | M31: Max | N31: DS
A32: 2 | B32: ESTACION PUENTE MOLINO | C32: 0.24 | D32: 2023 | E32: 2021 | F32: 1.1 | H32: {=_xlfn._xlws.SORT(_xlfn.UNIQUE(_xlfn.ANCHORARRAY(A4)))} -> 1 | I32: =IFERROR(VLOOKUP(H32,$A$4:$B$161,2),"") -> ROMERAL | J32: =COUNTIF(_xlfn.ANCHORARRAY($B$4),I32) -> 16 | K32: =_xlfn.MINIFS(_xlfn.ANCHORARRAY($C$4),_xlfn.ANCHORARRAY($B$4),I32) -> 0.24 | L32: =SUMIFS(_xlfn.ANCHORARRAY($C$4),_xlfn.ANCHORARRAY($B$4),I32)/J32 -> 0.43875 | M32: =_xlfn.MAXIFS(_xlfn.ANCHORARRAY($C$4),_xlfn.ANCHORARRAY($B$4),I32) -> 0.8 | N32: {=_xlfn.STDEV.S(_xlfn._xlws.FILTER(_xlfn.ANCHORARRAY($C$4),_xlfn.ANCHORARRAY($B$4)=I32))} -> 0.16467645
A33: 2 | B33: ESTACION PUENTE MOLINO | C33: 0.58 | D33: 2024 | E33: 2021 | F33: 0.4 | H33: 2 | I33: =VLOOKUP(H33,$A$4:$B$161,2) -> ESTACION PUENTE MOLINO | J33: =COUNTIF(_xlfn.ANCHORARRAY($B$4),I33) -> 16 | K33: =_xlfn.MINIFS(_xlfn.ANCHORARRAY($C$4),_xlfn.ANCHORARRAY($B$4),I33) -> 0.24 | L33: =SUMIFS(_xlfn.ANCHORARRAY($C$4),_xlfn.ANCHORARRAY($B$4),I33)/J33 -> 0.47375 | M33: =_xlfn.MAXIFS(_xlfn.ANCHORARRAY($C$4),_xlfn.ANCHORARRAY($B$4),I33) -> 0.78 | N33: {=_xlfn.STDEV.S(_xlfn._xlws.FILTER(_xlfn.ANCHORARRAY($C$4),_xlfn.ANCHORARRAY($B$4)=I33))} -> 0.16357975
A34: 2 | B34: ESTACION PUENTE MOLINO | C34: 0.44 | D34: 2024 | E34: 2021 | F34: 0.56 | H34: 3 | I34: =VLOOKUP(H34,$A$4:$B$161,2) -> ESTACION BOX COULVERT KM 24 | J34: =COUNTIF(_xlfn.ANCHORARRAY($B$4),I34) -> 16 | K34: =_xlfn.MINIFS(_xlfn.ANCHORARRAY($C$4),_xlfn.ANCHORARRAY($B$4),I34) -> 0.2 | L34: =SUMIFS(_xlfn.ANCHORARRAY($C$4),_xlfn.ANCHORARRAY($B$4),I34)/J34 -> 0.8425 | M34: =_xlfn.MAXIFS(_xlfn.ANCHORARRAY($C$4),_xlfn.ANCHORARRAY($B$4),I34) -> 2.52 | N34: {=_xlfn.STDEV.S(_xlfn._xlws.FILTER(_xlfn.ANCHORARRAY($C$4),_xlfn.ANCHORARRAY($B$4)=I34))} -> 0.62014514
A35: 2 | B35: ESTACION PUENTE MOLINO | C35: 0.36 | D35: 2024 | E35: 2021 | F35: 1.02 | H35: 4 | I35: =VLOOKUP(H35,$A$4:$B$161,2) -> OMYA | J35: =COUNTIF(_xlfn.ANCHORARRAY($B$4),I35) -> 16 | K35: =_xlfn.MINIFS(_xlfn.ANCHORARRAY($C$4),_xlfn.ANCHORARRAY($B$4),I35) -> 0.16 | L35: =SUMIFS(_xlfn.ANCHORARRAY($C$4),_xlfn.ANCHORARRAY($B$4),I35)/J35 -> 0.615 | M35: =_xlfn.MAXIFS(_xlfn.ANCHORARRAY($C$4),_xlfn.ANCHORARRAY($B$4),I35) -> 1.02 | N35: {=_xlfn.STDEV.S(_xlfn._xlws.FILTER(_xlfn.ANCHORARRAY($C$4),_xlfn.ANCHORARRAY($B$4)=I35))} -> 0.2429266
A36: 3 | B36: ESTACION BOX COULVERT KM 24 | C36: 0.4 | D36: 2021 | E36: 2021 | F36: 0.7 | H36: 5 | I36: =VLOOKUP(H36,$A$4:$B$161,2) -> ESTACION RIOTEX | J36: =COUNTIF(_xlfn.ANCHORARRAY($B$4),I36) -> 16 | K36: =_xlfn.MINIFS(_xlfn.ANCHORARRAY($C$4),_xlfn.ANCHORARRAY($B$4),I36) -> 0.18 | L36: =SUMIFS(_xlfn.ANCHORARRAY($C$4),_xlfn.ANCHORARRAY($B$4),I36)/J36 -> 1.10125 | M36: =_xlfn.MAXIFS(_xlfn.ANCHORARRAY($C$4),_xlfn.ANCHORARRAY($B$4),I36) -> 2.98 | N36: {=_xlfn.STDEV.S(_xlfn._xlws.FILTER(_xlfn.ANCHORARRAY($C$4),_xlfn.ANCHORARRAY($B$4)=I36))} -> 0.67157402
A37: 3 | B37: ESTACION BOX COULVERT KM 24 | C37: 0.6 | D37: 2019 | E37: 2021 | F37: 0.86
A38: 3 | B38: ESTACION BOX COULVERT KM 24 | C38: 1.5 | D38: 2020 | E38: 2021 | F38: 1.3
A39: 3 | B39: ESTACION BOX COULVERT KM 24 | C39: 0.6 | D39: 2020 | E39: 2022 | F39: 0.36
A40: 3 | B40: ESTACION BOX COULVERT KM 24 | C40: 0.8 | D40: 2020 | E40: 2022 | F40: 0.32
A41: 3 | B41: ESTACION BOX COULVERT KM 24 | C41: 0.7 | D41: 2021 | E41: 2022 | F41: 0.46
A42: 3 | B42: ESTACION BOX COULVERT KM 24 | C42: 1.1 | D42: 2021 | E42: 2022 | F42: 0.42
A43: 3 | B43: ESTACION BOX COULVERT KM 24 | C43: 0.66 | D43: 2022 | E43: 2022 | F43: 0.78
A44: 3 | B44: ESTACION BOX COULVERT KM 24 | C44: 0.48 | D44: 2022 | E44: 2022 | F44: 0.64
A45: 3 | B45: ESTACION BOX COULVERT KM 24 | C45: 0.44 | D45: 2022 | E45: 2022 | F45: 0.66
A46: 3 | B46: ESTACION BOX COULVERT KM 24 | C46: 0.64 | D46: 2023 | E46: 2022 | F46: 0.48
A47: 3 | B47: ESTACION BOX COULVERT KM 24 | C47: 0.46 | D47: 2023 | E47: 2022 | F47: 0.44
A48: 3 | B48: ESTACION BOX COULVERT KM 24 | C48: 0.2 | D48: 2023 | E48: 2022 | F48: 0.66
... A83: 5 | B83: ESTACION RIOTEX | C83: 1.62 | D83: 2024 | E83: 2024 | F83: 1.62

Sheet MO525
A2: Quebrada La Mosca | H2: Comportamiento estadistico por estación según historicos | O2: Mediciones por año en color para todos los tramos | U2: Todas las estaciones y mediciones
A3: Orden | B3: Estaciones | C3: =H30 -> λ=525 (m⁻¹) | D3: Año | E3: Año | F3: λ=436 (m⁻¹)
A4: {=_xlfn._xlws.FILTER(CHOOSE(1,'Resultados historicos'!C:C,'Resultados historicos'!D:D,'Resultados historicos'!O:O,'Resultados historicos'!A:A),'Resultados historicos'!H:H=A2)} -> 1 | B4: {=_xlfn._xlws.FILTER(CHOOSE(2,'Resultados historicos'!C:C,'Resultados historicos'!D:D,'Resultados historicos'!O:O,'Resultados historicos'!A:A),'Resultados historicos'!H:H=A2)} -> ROMERAL | C4: {=_xlfn._xlws.FILTER(CHOOSE(3,'Resultados historicos'!C:C,'Resultados historicos'!D:D,'Resultados historicos'!P:P,'Resultados historicos'!A:A),'Resultados historicos'!H:H=A2)} -> 0.16 | D4: {=_xlfn._xlws.FILTER(CHOOSE(4,'Resultados historicos'!C:C,'Resultados historicos'!D:D,'Resultados historicos'!O:O,'Resultados historicos'!A:A),'Resultados historicos'!H:H=A2)} -> 2024 | E4: 2019 | F4: 0.1
A5: 1 | B5: ROMERAL | C5: 0.16 | D5: 2024 | E5: 2019 | F5: 0.1
A6: 1 | B6: ROMERAL | C6: 0.32 | D6: 2024 | E6: 2019 | F6: 0.3
A7: 1 | B7: ROMERAL | C7: 0.2 | D7: 2021 | E7: 2019 | F7: 0.2
A8: 1 | B8: ROMERAL | C8: 0.1 | D8: 2019 | E8: 2019 | F8: 0.7
A9: 1 | B9: ROMERAL | C9: 0.2 | D9: 2020 | E9: 2020 | F9: 0.2
A10: 1 | B10: ROMERAL | C10: 0.1 | D10: 2020 | E10: 2020 | F10: 0.1
A11: 1 | B11: ROMERAL | C11: 0.4 | D11: 2020 | E11: 2020 | F11: 0.4
A12: 1 | B12: ROMERAL | C12: 0.14 | D12: 2021 | E12: 2020 | F12: 0.2
A13: 1 | B13: ROMERAL | C13: 0.38 | D13: 2021 | E13: 2020 | F13: 0.1
A14: 1 | B14: ROMERAL | C14: 0.1 | D14: 2022 | E14: 2020 | F14: 0.3
A15: 1 | B15: ROMERAL | C15: 0.1 | D15: 2022 | E15: 2020 | F15: 0.9
A16: 1 | B16: ROMERAL | C16: 0.16 | D16: 2022 | E16: 2020 | F16: 0.2
... A20: 2 | B20: ESTACION PUENTE MOLINO | C20: 0.3 | D20: 2021 | E20: 2020 | F20: 0.2
A21: 2 | B21: ESTACION PUENTE MOLINO | C21: 0.1 | D21: 2019 | E21: 2020 | F21: 1.2 | O21: =H30 -> λ=525 (m⁻¹) | W21: =O21 -> λ=525 (m⁻¹)
A22: 2 | B22: ESTACION PUENTE MOLINO | C22: 0.2 | D22: 2020 | E22: 2020 | F22: 0.4 | O22: Año | P22: =J31 -> n | Q22: =K31 -> Mín | R22: =L31 -> Media | S22: =M31 -> Max | T22: =N31 -> DS | V22: Intervalo de confianza para n>30 | W22: Alerta | X22: Revisión | Y22: Aceptado
A23: 2 | B23: ESTACION PUENTE MOLINO | C23: 0.1 | D23: 2020 | E23: 2020 | F23: 0.4 | O23: {=_xlfn._xlws.SORT(_xlfn.UNIQUE(_xlfn.ANCHORARRAY(D4)))} -> 2019 | P23: =COUNTIF(_xlfn.ANCHORARRAY($D$4),O23) -> 5 | Q23: =_xlfn.MINIFS(_xlfn.ANCHORARRAY($C$4),_xlfn.ANCHORARRAY($D$4),O23) -> 0.1 | R23: =SUMIFS(_xlfn.ANCHORARRAY($C$4),_xlfn.ANCHORARRAY($D$4),O23)/P23 -> 0.28 | S23: =_xlfn.MAXIFS(_xlfn.ANCHORARRAY($C$4),_xlfn.ANCHORARRAY($D$4),O23) -> 0.7 | T23: {=_xlfn.STDEV.S(_xlfn._xlws.FILTER(_xlfn.ANCHORARRAY($C$4),_xlfn.ANCHORARRAY($D$4)=O23))} -> 0.24899799 | V23: Nivel de confianza | W23: 0.9 | X23: 0.95 | Y23: 0.99
A24: 2 | B24: ESTACION PUENTE MOLINO | C24: 0.3 | D24: 2020 | E24: 2021 | F24: 0.2 | O24: 2020 | P24: =COUNTIF(_xlfn.ANCHORARRAY($D$4),O24) -> 15 | Q24: =_xlfn.MINIFS(_xlfn.ANCHORARRAY($C$4),_xlfn.ANCHORARRAY($D$4),O24) -> 0.1 | R24: =SUMIFS(_xlfn.ANCHORARRAY($C$4),_xlfn.ANCHORARRAY($D$4),O24)/P24 -> 0.37333333 | S24: =_xlfn.MAXIFS(_xlfn.ANCHORARRAY($C$4),_xlfn.ANCHORARRAY($D$4),O24) -> 1.2 | T24: {=_xlfn.STDEV.S(_xlfn._xlws.FILTER(_xlfn.ANCHORARRAY($C$4),_xlfn.ANCHORARRAY($D$4)=O24))} -> 0.30110906 | V24: Nivel de significancia | W24: =1-W23 -> 0.1 | X24: =1-X23 -> 0.05 | Y24: =1-Y23 -> 0.01
A25: 2 | B25: ESTACION PUENTE MOLINO | C25: 0.1 | D25: 2021 | E25: 2021 | F25: 0.14 | O25: 2021 | P25: =COUNTIF(_xlfn.ANCHORARRAY($D$4),O25) -> 15 | Q25: =_xlfn.MINIFS(_xlfn.ANCHORARRAY($C$4),_xlfn.ANCHORARRAY($D$4),O25) -> 0.1 | R25: =SUMIFS(_xlfn.ANCHORARRAY($C$4),_xlfn.ANCHORARRAY($D$4),O25)/P25 -> 0.34266667 | S25: =_xlfn.MAXIFS(_xlfn.ANCHORARRAY($C$4),_xlfn.ANCHORARRAY($D$4),O25) -> 0.6 | T25: {=_xlfn.STDEV.S(_xlfn._xlws.FILTER(_xlfn.ANCHORARRAY($C$4),_xlfn.ANCHORARRAY($D$4)=O25))} -> 0.16850039 | V25: Z(1-a/2) | W25: =_xlfn.NORM.S.INV(1-(W24/2)) -> 1.6448536 | X25: =_xlfn.NORM.S.INV(1-(X24/2)) -> 1.959964 | Y25: =_xlfn.NORM.S.INV(1-(Y24/2)) -> 2.5758293
A26: 2 | B26: ESTACION PUENTE MOLINO | C26: 0.32 | D26: 2021 | E26: 2021 | F26: 0.38 | O26: 2022 | P26: =COUNTIF(_xlfn.ANCHORARRAY($D$4),O26) -> 15 | Q26: =_xlfn.MINIFS(_xlfn.ANCHORARRAY($C$4),_xlfn.ANCHORARRAY($D$4),O26) -> 0.1 | R26: =SUMIFS(_xlfn.ANCHORARRAY($C$4),_xlfn.ANCHORARRAY($D$4),O26)/P26 -> 0.26 | S26: =_xlfn.MAXIFS(_xlfn.ANCHORARRAY($C$4),_xlfn.ANCHORARRAY($D$4),O26) -> 0.76 | T26: {=_xlfn.STDEV.S(_xlfn._xlws.FILTER(_xlfn.ANCHORARRAY($C$4),_xlfn.ANCHORARRAY($D$4)=O26))} -> 0.16991595 | V26: Intervalo de confianza | W26: =TEXT(R29,"0,00")&" ± "&TEXT((W25*T29/SQRT(P29)),"0,00") -> 0,34 ± 0,06 | X26: =TEXT(R29,"0,00")&" ± "&TEXT((X25*T29/SQRT(P29)),"0,00") -> 0,34 ± 0,07 | Y26: =TEXT(R29,"0,00")&" ± "&TEXT((Y25*T29/SQRT(P29)),"0,00") -> 0,34 ± 0,10
A27: 2 | B27: ESTACION PUENTE MOLINO | C27: 0.14 | D27: 2022 | E27: 2021 | F27: 0.3 | O27: 2023 | P27: =COUNTIF(_xlfn.ANCHORARRAY($D$4),O27) -> 15 | Q27: =_xlfn.MINIFS(_xlfn.ANCHORARRAY($C$4),_xlfn.ANCHORARRAY($D$4),O27) -> 0.04 | R27: =SUMIFS(_xlfn.ANCHORARRAY($C$4),_xlfn.ANCHORARRAY($D$4),O27)/P27 -> 0.152 | S27: =_xlfn.MAXIFS(_xlfn.ANCHORARRAY($C$4),_xlfn.ANCHORARRAY($D$4),O27) -> 0.38 | T27: {=_xlfn.STDEV.S(_xlfn._xlws.FILTER(_xlfn.ANCHORARRAY($C$4),_xlfn.ANCHORARRAY($D$4)=O27))} -> 0.10051297 | V27: L inf | W27: =R29-(W25*T29/SQRT(P29)) -> 0.2817194 | X27: =R29-(X25*T29/SQRT(P29)) -> 0.26985993 | Y27: =R29-(Y25*T29/SQRT(P29)) -> 0.24668126
A28: 2 | B28: ESTACION PUENTE MOLINO | C28: 0.46 | D28: 2022 | E28: 2021 | F28: 0.1 | O28: 2024 | P28: =COUNTIF(_xlfn.ANCHORARRAY($D$4),O28) -> 15 | Q28: =_xlfn.MINIFS(_xlfn.ANCHORARRAY($C$4),_xlfn.ANCHORARRAY($D$4),O28) -> 0.16 | R28: =SUMIFS(_xlfn.ANCHORARRAY($C$4),_xlfn.ANCHORARRAY($D$4),O28)/P28 -> 0.61133333 | S28: =_xlfn.MAXIFS(_xlfn.ANCHORARRAY($C$4),_xlfn.ANCHORARRAY($D$4),O28) -> 2 | T28: {=_xlfn.STDEV.S(_xlfn._xlws.FILTER(_xlfn.ANCHORARRAY($C$4),_xlfn.ANCHORARRAY($D$4)=O28))} -> 0.58109339 | V28: L sup | W28: =R29+(W25*T29/SQRT(P29)) -> 0.4055306 | X28: =R29+(X25*T29/SQRT(P29)) -> 0.41739007 | Y28: =R29+(Y25*T29/SQRT(P29)) -> 0.44056874
A29: 2 | B29: ESTACION PUENTE MOLINO | C29: 0.28 | D29: 2022 | E29: 2021 | F29: 0.32 | O29: Todos | P29: =SUM(P23:P28) -> 80 | R29: =AVERAGE(_xlfn.ANCHORARRAY(C4)) -> 0.343625 | T29: =_xlfn.STDEV.S(_xlfn.ANCHORARRAY(C4)) -> 0.33662601
A30: 2 | B30: ESTACION PUENTE MOLINO | C30: 0.08 | D30: 2023 | E30: 2021 | F30: 0.2 | H30: ='Estadistico resumen'!$K$1 -> λ=525 (m⁻¹)
A31: 2 | B31: ESTACION PUENTE MOLINO | C31: 0.1 | D31: 2023 | E31: 2021 | F31: 0.34 | H31: Orden | I31: Estaciones | J31: ='Estadistico resumen'!$D$2 -> n | K31: Mín | L31: Media | M31: Max | N31: DS
A32: 2 | B32: ESTACION PUENTE MOLINO | C32: 0.12 | D32: 2023 | E32: 2021 | F32: 0.58 | H32: {=_xlfn._xlws.SORT(_xlfn.UNIQUE(_xlfn.ANCHORARRAY(A4)))} -> 1 | I32: =IFERROR(VLOOKUP(H32,$A$4:$B$161,2),"") -> ROMERAL | J32: =COUNTIF(_xlfn.ANCHORARRAY($B$4),I32) -> 16 | K32: =_xlfn.MINIFS(_xlfn.ANCHORARRAY($C$4),_xlfn.ANCHORARRAY($B$4),I32) -> 0.08 | L32: =SUMIFS(_xlfn.ANCHORARRAY($C$4),_xlfn.ANCHORARRAY($B$4),I32)/J32 -> 0.1775 | M32: =_xlfn.MAXIFS(_xlfn.ANCHORARRAY($C$4),_xlfn.ANCHORARRAY($B$4),I32) -> 0.4 | N32: {=_xlfn.STDEV.S(_xlfn._xlws.FILTER(_xlfn.ANCHORARRAY($C$4),_xlfn.ANCHORARRAY($B$4)=I32))} -> 0.10142321
A33: 2 | B33: ESTACION PUENTE MOLINO | C33: 0.3 | D33: 2024 | E33: 2021 | F33: 0.2 | H33: 2 | I33: =VLOOKUP(H33,$A$4:$B$161,2) -> ESTACION PUENTE MOLINO | J33: =COUNTIF(_xlfn.ANCHORARRAY($B$4),I33) -> 16 | K33: =_xlfn.MINIFS(_xlfn.ANCHORARRAY($C$4),_xlfn.ANCHORARRAY($B$4),I33) -> 0.08 | L33: =SUMIFS(_xlfn.ANCHORARRAY($C$4),_xlfn.ANCHORARRAY($B$4),I33)/J33 -> 0.205 | M33: =_xlfn.MAXIFS(_xlfn.ANCHORARRAY($C$4),_xlfn.ANCHORARRAY($B$4),I33) -> 0.46 | N33: {=_xlfn.STDEV.S(_xlfn._xlws.FILTER(_xlfn.ANCHORARRAY($C$4),_xlfn.ANCHORARRAY($B$4)=I33))} -> 0.11039324
A34: 2 | B34: ESTACION PUENTE MOLINO | C34: 0.18 | D34: 2024 | E34: 2021 | F34: 0.22 | H34: 3 | I34: =VLOOKUP(H34,$A$4:$B$161,2) -> ESTACION BOX COULVERT KM 24 | J34: =COUNTIF(_xlfn.ANCHORARRAY($B$4),I34) -> 16 | K34: =_xlfn.MINIFS(_xlfn.ANCHORARRAY($C$4),_xlfn.ANCHORARRAY($B$4),I34) -> 0.08 | L34: =SUMIFS(_xlfn.ANCHORARRAY($C$4),_xlfn.ANCHORARRAY($B$4),I34)/J34 -> 0.461875 | M34: =_xlfn.MAXIFS(_xlfn.ANCHORARRAY($C$4),_xlfn.ANCHORARRAY($B$4),I34) -> 1.5 | N34: {=_xlfn.STDEV.S(_xlfn._xlws.FILTER(_xlfn.ANCHORARRAY($C$4),_xlfn.ANCHORARRAY($B$4)=I34))} -> 0.42680548
A35: 2 | B35: ESTACION PUENTE MOLINO | C35: 0.2 | D35: 2024 | E35: 2021 | F35: 0.52 | H35: 4 | I35: =VLOOKUP(H35,$A$4:$B$161,2) -> OMYA | J35: =COUNTIF(_xlfn.ANCHORARRAY($B$4),I35) -> 16 | K35: =_xlfn.MINIFS(_xlfn.ANCHORARRAY($C$4),_xlfn.ANCHORARRAY($B$4),I35) -> 0.04 | L35: =SUMIFS(_xlfn.ANCHORARRAY($C$4),_xlfn.ANCHORARRAY($B$4),I35)/J35 -> 0.26 | M35: =_xlfn.MAXIFS(_xlfn.ANCHORARRAY($C$4),_xlfn.ANCHORARRAY($B$4),I35) -> 0.52 | N35: {=_xlfn.STDEV.S(_xlfn._xlws.FILTER(_xlfn.ANCHORARRAY($C$4),_xlfn.ANCHORARRAY($B$4)=I35))} -> 0.13366625
A36: 3 | B36: ESTACION BOX COULVERT KM 24 | C36: 0.2 | D36: 2021 | E36: 2021 | F36: 0.5 | H36: 5 | I36: =VLOOKUP(H36,$A$4:$B$161,2) -> ESTACION RIOTEX | J36: =COUNTIF(_xlfn.ANCHORARRAY($B$4),I36) -> 16 | K36: =_xlfn.MINIFS(_xlfn.ANCHORARRAY($C$4),_xlfn.ANCHORARRAY($B$4),I36) -> 0.06 | L36: =SUMIFS(_xlfn.ANCHORARRAY($C$4),_xlfn.ANCHORARRAY($B$4),I36)/J36 -> 0.61375 | M36: =_xlfn.MAXIFS(_xlfn.ANCHORARRAY($C$4),_xlfn.ANCHORARRAY($B$4),I36) -> 2 | N36: {=_xlfn.STDEV.S(_xlfn._xlws.FILTER(_xlfn.ANCHORARRAY($C$4),_xlfn.ANCHORARRAY($B$4)=I36))} -> 0.47345362
A37: 3 | B37: ESTACION BOX COULVERT KM 24 | C37: 0.3 | D37: 2019 | E37: 2021 | F37: 0.54
A38: 3 | B38: ESTACION BOX COULVERT KM 24 | C38: 0.9 | D38: 2020 | E38: 2021 | F38: 0.6
A39: 3 | B39: ESTACION BOX COULVERT KM 24 | C39: 0.2 | D39: 2020 | E39: 2022 | F39: 0.1
A40: 3 | B40: ESTACION BOX COULVERT KM 24 | C40: 0.4 | D40: 2020 | E40: 2022 | F40: 0.1
A41: 3 | B41: ESTACION BOX COULVERT KM 24 | C41: 0.34 | D41: 2021 | E41: 2022 | F41: 0.16
A42: 3 | B42: ESTACION BOX COULVERT KM 24 | C42: 0.58 | D42: 2021 | E42: 2022 | F42: 0.14
A43: 3 | B43: ESTACION BOX COULVERT KM 24 | C43: 0.26 | D43: 2022 | E43: 2022 | F43: 0.46
A44: 3 | B44: ESTACION BOX COULVERT KM 24 | C44: 0.28 | D44: 2022 | E44: 2022 | F44: 0.28
A45: 3 | B45: ESTACION BOX COULVERT KM 24 | C45: 0.28 | D45: 2022 | E45: 2022 | F45: 0.26
A46: 3 | B46: ESTACION BOX COULVERT KM 24 | C46: 0.3 | D46: 2023 | E46: 2022 | F46: 0.28
A47: 3 | B47: ESTACION BOX COULVERT KM 24 | C47: 0.16 | D47: 2023 | E47: 2022 | F47: 0.28
A48: 3 | B48: ESTACION BOX COULVERT KM 24 | C48: 0.08 | D48: 2023 | E48: 2022 | F48: 0.28
... A83: 5 | B83: ESTACION RIOTEX | C83: 0.72 | D83: 2024 | E83: 2024 | F83: 0.72

Sheet MO620
A2: Quebrada La Mosca | H2: Comportamiento estadistico por estación según historicos | O2: Mediciones por año en color para todos los tramos | U2: Todas las estaciones y mediciones
A3: Orden | B3: Estaciones | C3: =H30 -> λ=620 (m⁻¹) | D3: Año | E3: Año | F3: λ=436 (m⁻¹)
A4: {=_xlfn._xlws.FILTER(CHOOSE(1,'Resultados historicos'!C:C,'Resultados historicos'!D:D,'Resultados historicos'!O:O,'Resultados historicos'!A:A),'Resultados historicos'!H:H=A2)} -> 1 | B4: {=_xlfn._xlws.FILTER(CHOOSE(2,'Resultados historicos'!C:C,'Resultados historicos'!D:D,'Resultados historicos'!O:O,'Resultados historicos'!A:A),'Resultados historicos'!H:H=A2)} -> ROMERAL | C4: {=_xlfn._xlws.FILTER(CHOOSE(3,'Resultados historicos'!C:C,'Resultados historicos'!D:D,'Resultados historicos'!Q:Q,'Resultados historicos'!A:A),'Resultados historicos'!H:H=A2)} -> 0.08 | D4: {=_xlfn._xlws.FILTER(CHOOSE(4,'Resultados historicos'!C:C,'Resultados historicos'!D:D,'Resultados historicos'!O:O,'Resultados historicos'!A:A),'Resultados historicos'!H:H=A2)} -> 2024 | E4: 2019 | F4: 0.1
A5: 1 | B5: ROMERAL | C5: 0.16 | D5: 2024 | E5: 2019 | F5: 0.1
A6: 1 | B6: ROMERAL | C6: 0.2 | D6: 2024 | E6: 2019 | F6: 0.1
A7: 1 | B7: ROMERAL | C7: 0.2 | D7: 2021 | E7: 2019 | F7: 0.1
A8: 1 | B8: ROMERAL | C8: 0.1 | D8: 2019 | E8: 2019 | F8: 0.4
A9: 1 | B9: ROMERAL | C9: 0.1 | D9: 2020 | E9: 2020 | F9: 0.1
A10: 1 | B10: ROMERAL | C10: 0.1 | D10: 2020 | E10: 2020 | F10: 0.1
A11: 1 | B11: ROMERAL | C11: 0.2 | D11: 2020 | E11: 2020 | F11: 0.2
A12: 1 | B12: ROMERAL | C12: 0.06 | D12: 2021 | E12: 2020 | F12: 0.1
A13: 1 | B13: ROMERAL | C13: 0.22 | D13: 2021 | E13: 2020 | F13: 0.1
A14: 1 | B14: ROMERAL | C14: 0.04 | D14: 2022 | E14: 2020 | F14: 0.2
A15: 1 | B15: ROMERAL | C15: 0.08 | D15: 2022 | E15: 2020 | F15: 0.6
A16: 1 | B16: ROMERAL | C16: 0.06 | D16: 2022 | E16: 2020 | F16: 0.1
... A20: 2 | B20: ESTACION PUENTE MOLINO | C20: 0.2 | D20: 2021 | E20: 2020 | F20: 0.1
A21: 2 | B21: ESTACION PUENTE MOLINO | C21: 0.1 | D21: 2019 | E21: 2020 | F21: 0.9 | O21: =H30 -> λ=620 (m⁻¹) | W21: =O21 -> λ=620 (m⁻¹)
A22: 2 | B22: ESTACION PUENTE MOLINO | C22: 0.1 | D22: 2020 | E22: 2020 | F22: 0.2 | O22: Año | P22: =J31 -> n | Q22: =K31 -> Mín | R22: =L31 -> Media | S22: =M31 -> Max | T22: =N31 -> DS | V22: Intervalo de confianza para n>30 | W22: Alerta | X22: Revisión | Y22: Aceptado
A23: 2 | B23: ESTACION PUENTE MOLINO | C23: 0.1 | D23: 2020 | E23: 2020 | F23: 0.2 | O23: {=_xlfn._xlws.SORT(_xlfn.UNIQUE(_xlfn.ANCHORARRAY(D4)))} -> 2019 | P23: =COUNTIF(_xlfn.ANCHORARRAY($D$4),O23) -> 5 | Q23: =_xlfn.MINIFS(_xlfn.ANCHORARRAY($C$4),_xlfn.ANCHORARRAY($D$4),O23) -> 0.1 | R23: =SUMIFS(_xlfn.ANCHORARRAY($C$4),_xlfn.ANCHORARRAY($D$4),O23)/P23 -> 0.16 | S23: =_xlfn.MAXIFS(_xlfn.ANCHORARRAY($C$4),_xlfn.ANCHORARRAY($D$4),O23) -> 0.4 | T23: {=_xlfn.STDEV.S(_xlfn._xlws.FILTER(_xlfn.ANCHORARRAY($C$4),_xlfn.ANCHORARRAY($D$4)=O23))} -> 0.13416408 | V23: Nivel de confianza | W23: 0.9 | X23: 0.95 | Y23: 0.99
A24: 2 | B24: ESTACION PUENTE MOLINO | C24: 0.2 | D24: 2020 | E24: 2021 | F24: 0.2 | O24: 2020 | P24: =COUNTIF(_xlfn.ANCHORARRAY($D$4),O24) -> 15 | Q24: =_xlfn.MINIFS(_xlfn.ANCHORARRAY($C$4),_xlfn.ANCHORARRAY($D$4),O24) -> 0.1 | R24: =SUMIFS(_xlfn.ANCHORARRAY($C$4),_xlfn.ANCHORARRAY($D$4),O24)/P24 -> 0.23333333 | S24: =_xlfn.MAXIFS(_xlfn.ANCHORARRAY($C$4),_xlfn.ANCHORARRAY($D$4),O24) -> 0.9 | T24: {=_xlfn.STDEV.S(_xlfn._xlws.FILTER(_xlfn.ANCHORARRAY($C$4),_xlfn.ANCHORARRAY($D$4)=O24))} -> 0.22572634 | V24: Nivel de significancia | W24: =1-W23 -> 0.1 | X24: =1-X23 -> 0.05 | Y24: =1-Y23 -> 0.01
A25: 2 | B25: ESTACION PUENTE MOLINO | C25: 0.06 | D25: 2021 | E25: 2021 | F25: 0.06 | O25: 2021 | P25: =COUNTIF(_xlfn.ANCHORARRAY($D$4),O25) -> 15 | Q25: =_xlfn.MINIFS(_xlfn.ANCHORARRAY($C$4),_xlfn.ANCHORARRAY($D$4),O25) -> 0.06 | R25: =SUMIFS(_xlfn.ANCHORARRAY($C$4),_xlfn.ANCHORARRAY($D$4),O25)/P25 -> 0.19866667 | S25: =_xlfn.MAXIFS(_xlfn.ANCHORARRAY($C$4),_xlfn.ANCHORARRAY($D$4),O25) -> 0.4 | T25: {=_xlfn.STDEV.S(_xlfn._xlws.FILTER(_xlfn.ANCHORARRAY($C$4),_xlfn.ANCHORARRAY($D$4)=O25))} -> 0.11400919 | V25: Z(1-a/2) | W25: =_xlfn.NORM.S.INV(1-(W24/2)) -> 1.6448536 | X25: =_xlfn.NORM.S.INV(1-(X24/2)) -> 1.959964 | Y25: =_xlfn.NORM.S.INV(1-(Y24/2)) -> 2.5758293
A26: 2 | B26: ESTACION PUENTE MOLINO | C26: 0.18 | D26: 2021 | E26: 2021 | F26: 0.22 | O26: 2022 | P26: =COUNTIF(_xlfn.ANCHORARRAY($D$4),O26) -> 15 | Q26: =_xlfn.MINIFS(_xlfn.ANCHORARRAY($C$4),_xlfn.ANCHORARRAY($D$4),O26) -> 0.04 | R26: =SUMIFS(_xlfn.ANCHORARRAY($C$4),_xlfn.ANCHORARRAY($D$4),O26)/P26 -> 0.17 | S26: =_xlfn.MAXIFS(_xlfn.ANCHORARRAY($C$4),_xlfn.ANCHORARRAY($D$4),O26) -> 0.58 | T26: {=_xlfn.STDEV.S(_xlfn._xlws.FILTER(_xlfn.ANCHORARRAY($C$4),_xlfn.ANCHORARRAY($D$4)=O26))} -> 0.14367622 | V26: Intervalo de confianza | W26: =TEXT(R29,"0,00")&" ± "&TEXT((W25*T29/SQRT(P29)),"0,00") -> 0,22 ± 0,05 | X26: =TEXT(R29,"0,00")&" ± "&TEXT((X25*T29/SQRT(P29)),"0,00") -> 0,22 ± 0,05 | Y26: =TEXT(R29,"0,00")&" ± "&TEXT((Y25*T29/SQRT(P29)),"0,00") -> 0,22 ± 0,07
A27: 2 | B27: ESTACION PUENTE MOLINO | C27: 0.04 | D27: 2022 | E27: 2021 | F27: 0.2 | O27: 2023 | P27: =COUNTIF(_xlfn.ANCHORARRAY($D$4),O27) -> 15 | Q27: =_xlfn.MINIFS(_xlfn.ANCHORARRAY($C$4),_xlfn.ANCHORARRAY($D$4),O27) -> 0.02 | R27: =SUMIFS(_xlfn.ANCHORARRAY($C$4),_xlfn.ANCHORARRAY($D$4),O27)/P27 -> 0.090666667 | S27: =_xlfn.MAXIFS(_xlfn.ANCHORARRAY($C$4),_xlfn.ANCHORARRAY($D$4),O27) -> 0.4 | T27: {=_xlfn.STDEV.S(_xlfn._xlws.FILTER(_xlfn.ANCHORARRAY($C$4),_xlfn.ANCHORARRAY($D$4)=O27))} -> 0.097648544 | V27: L inf | W27: =R29-(W25*T29/SQRT(P29)) -> 0.17090056 | X27: =R29-(X25*T29/SQRT(P29)) -> 0.16211703 | Y27: =R29-(Y25*T29/SQRT(P29)) -> 0.1449501
A28: 2 | B28: ESTACION PUENTE MOLINO | C28: 0.22 | D28: 2022 | E28: 2021 | F28: 0.06 | O28: 2024 | P28: =COUNTIF(_xlfn.ANCHORARRAY($D$4),O28) -> 15 | Q28: =_xlfn.MINIFS(_xlfn.ANCHORARRAY($C$4),_xlfn.ANCHORARRAY($D$4),O28) -> 0.08 | R28: =SUMIFS(_xlfn.ANCHORARRAY($C$4),_xlfn.ANCHORARRAY($D$4),O28)/P28 -> 0.41 | S28: =_xlfn.MAXIFS(_xlfn.ANCHORARRAY($C$4),_xlfn.ANCHORARRAY($D$4),O28) -> 1.46 | T28: {=_xlfn.STDEV.S(_xlfn._xlws.FILTER(_xlfn.ANCHORARRAY($C$4),_xlfn.ANCHORARRAY($D$4)=O28))} -> 0.43623388 | V28: L sup | W28: =R29+(W25*T29/SQRT(P29)) -> 0.26259944 | X28: =R29+(X25*T29/SQRT(P29)) -> 0.27138297 | Y28: =R29+(Y25*T29/SQRT(P29)) -> 0.2885499
A29: 2 | B29: ESTACION PUENTE MOLINO | C29: 0.14 | D29: 2022 | E29: 2021 | F29: 0.18 | O29: Todos | P29: =SUM(P23:P28) -> 80 | R29: =AVERAGE(_xlfn.ANCHORARRAY(C4)) -> 0.21675 | T29: =_xlfn.STDEV.S(_xlfn.ANCHORARRAY(C4)) -> 0.24931691
A30: 2 | B30: ESTACION PUENTE MOLINO | C30: 0.02 | D30: 2023 | E30: 2021 | F30: 0.1 | H30: ='Estadistico resumen'!$O$1 -> λ=620 (m⁻¹)
A31: 2 | B31: ESTACION PUENTE MOLINO | C31: 0.04 | D31: 2023 | E31: 2021 | F31: 0.2 | H31: Orden | I31: Estaciones | J31: ='Estadistico resumen'!$D$2 -> n | K31: Mín | L31: Media | M31: Max | N31: DS
A32: 2 | B32: ESTACION PUENTE MOLINO | C32: 0.1 | D32: 2023 | E32: 2021 | F32: 0.36 | H32: {=_xlfn._xlws.SORT(_xlfn.UNIQUE(_xlfn.ANCHORARRAY(A4)))} -> 1 | I32: =IFERROR(VLOOKUP(H32,$A$4:$B$161,2),"") -> ROMERAL | J32: =COUNTIF(_xlfn.ANCHORARRAY($B$4),I32) -> 16 | K32: =_xlfn.MINIFS(_xlfn.ANCHORARRAY($C$4),_xlfn.ANCHORARRAY($B$4),I32) -> 0.02 | L32: =SUMIFS(_xlfn.ANCHORARRAY($C$4),_xlfn.ANCHORARRAY($B$4),I32)/J32 -> 0.11 | M32: =_xlfn.MAXIFS(_xlfn.ANCHORARRAY($C$4),_xlfn.ANCHORARRAY($B$4),I32) -> 0.22 | N32: {=_xlfn.STDEV.S(_xlfn._xlws.FILTER(_xlfn.ANCHORARRAY($C$4),_xlfn.ANCHORARRAY($B$4)=I32))} -> 0.064498062
A33: 2 | B33: ESTACION PUENTE MOLINO | C33: 0.18 | D33: 2024 | E33: 2021 | F33: 0.1 | H33: 2 | I33: =VLOOKUP(H33,$A$4:$B$161,2) -> ESTACION PUENTE MOLINO | J33: =COUNTIF(_xlfn.ANCHORARRAY($B$4),I33) -> 16 | K33: =_xlfn.MINIFS(_xlfn.ANCHORARRAY($C$4),_xlfn.ANCHORARRAY($B$4),I33) -> 0.02 | L33: =SUMIFS(_xlfn.ANCHORARRAY($C$4),_xlfn.ANCHORARRAY($B$4),I33)/J33 -> 0.12 | M33: =_xlfn.MAXIFS(_xlfn.ANCHORARRAY($C$4),_xlfn.ANCHORARRAY($B$4),I33) -> 0.22 | N33: {=_xlfn.STDEV.S(_xlfn._xlws.FILTER(_xlfn.ANCHORARRAY($C$4),_xlfn.ANCHORARRAY($B$4)=I33))} -> 0.064083279
A34: 2 | B34: ESTACION PUENTE MOLINO | C34: 0.08 | D34: 2024 | E34: 2021 | F34: 0.12 | H34: 3 | I34: =VLOOKUP(H34,$A$4:$B$161,2) -> ESTACION BOX COULVERT KM 24 | J34: =COUNTIF(_xlfn.ANCHORARRAY($B$4),I34) -> 16 | K34: =_xlfn.MINIFS(_xlfn.ANCHORARRAY($C$4),_xlfn.ANCHORARRAY($B$4),I34) -> 0.06 | L34: =SUMIFS(_xlfn.ANCHORARRAY($C$4),_xlfn.ANCHORARRAY($B$4),I34)/J34 -> 0.293125 | M34: =_xlfn.MAXIFS(_xlfn.ANCHORARRAY($C$4),_xlfn.ANCHORARRAY($B$4),I34) -> 1.1 | N34: {=_xlfn.STDEV.S(_xlfn._xlws.FILTER(_xlfn.ANCHORARRAY($C$4),_xlfn.ANCHORARRAY($B$4)=I34))} -> 0.32612306
A35: 2 | B35: ESTACION PUENTE MOLINO | C35: 0.16 | D35: 2024 | E35: 2021 | F35: 0.32 | H35: 4 | I35: =VLOOKUP(H35,$A$4:$B$161,2) -> OMYA | J35: =COUNTIF(_xlfn.ANCHORARRAY($B$4),I35) -> 16 | K35: =_xlfn.MINIFS(_xlfn.ANCHORARRAY($C$4),_xlfn.ANCHORARRAY($B$4),I35) -> 0.02 | L35: =SUMIFS(_xlfn.ANCHORARRAY($C$4),_xlfn.ANCHORARRAY($B$4),I35)/J35 -> 0.14875 | M35: =_xlfn.MAXIFS(_xlfn.ANCHORARRAY($C$4),_xlfn.ANCHORARRAY($B$4),I35) -> 0.32 | N35: {=_xlfn.STDEV.S(_xlfn._xlws.FILTER(_xlfn.ANCHORARRAY($C$4),_xlfn.ANCHORARRAY($B$4)=I35))} -> 0.081639451
A36: 3 | B36: ESTACION BOX COULVERT KM 24 | C36: 0.1 | D36: 2021 | E36: 2021 | F36: 0.1 | H36: 5 | I36: =VLOOKUP(H36,$A$4:$B$161,2) -> ESTACION RIOTEX | J36: =COUNTIF(_xlfn.ANCHORARRAY($B$4),I36) -> 16 | K36: =_xlfn.MINIFS(_xlfn.ANCHORARRAY($C$4),_xlfn.ANCHORARRAY($B$4),I36) -> 0.02 | L36: =SUMIFS(_xlfn.ANCHORARRAY($C$4),_xlfn.ANCHORARRAY($B$4),I36)/J36 -> 0.411875 | M36: =_xlfn.MAXIFS(_xlfn.ANCHORARRAY($C$4),_xlfn.ANCHORARRAY($B$4),I36) -> 1.46 | N36: {=_xlfn.STDEV.S(_xlfn._xlws.FILTER(_xlfn.ANCHORARRAY($C$4),_xlfn.ANCHORARRAY($B$4)=I36))} -> 0.36356052
A37: 3 | B37: ESTACION BOX COULVERT KM 24 | C37: 0.1 | D37: 2019 | E37: 2021 | F37: 0.36
A38: 3 | B38: ESTACION BOX COULVERT KM 24 | C38: 0.6 | D38: 2020 | E38: 2021 | F38: 0.4
A39: 3 | B39: ESTACION BOX COULVERT KM 24 | C39: 0.1 | D39: 2020 | E39: 2022 | F39: 0.04
A40: 3 | B40: ESTACION BOX COULVERT KM 24 | C40: 0.3 | D40: 2020 | E40: 2022 | F40: 0.08
A41: 3 | B41: ESTACION BOX COULVERT KM 24 | C41: 0.2 | D41: 2021 | E41: 2022 | F41: 0.06
A42: 3 | B42: ESTACION BOX COULVERT KM 24 | C42: 0.36 | D42: 2021 | E42: 2022 | F42: 0.04
A43: 3 | B43: ESTACION BOX COULVERT KM 24 | C43: 0.14 | D43: 2022 | E43: 2022 | F43: 0.22
A44: 3 | B44: ESTACION BOX COULVERT KM 24 | C44: 0.14 | D44: 2022 | E44: 2022 | F44: 0.14
A45: 3 | B45: ESTACION BOX COULVERT KM 24 | C45: 0.08 | D45: 2022 | E45: 2022 | F45: 0.14
A46: 3 | B46: ESTACION BOX COULVERT KM 24 | C46: 0.18 | D46: 2023 | E46: 2022 | F46: 0.14
A47: 3 | B47: ESTACION BOX COULVERT KM 24 | C47: 0.08 | D47: 2023 | E47: 2022 | F47: 0.08
A48: 3 | B48: ESTACION BOX COULVERT KM 24 | C48: 0.06 | D48: 2023 | E48: 2022 | F48: 0.14
... A83: 5 | B83: ESTACION RIOTEX | C83: 0.3 | D83: 2024 | E83: 2024 | F83: 0.3

Sheet Estadistico resumen
G1: λ=436 (m⁻¹) | K1: λ=525 (m⁻¹) | O1: λ=620 (m⁻¹) | T1: Nivel de confianza | U1: =G1 -> λ=436 (m⁻¹) | W1: =K1 -> λ=525 (m⁻¹) | Y1: =O1 -> λ=620 (m⁻¹) | AB1: Caudal (L/s)
D2: n | E2: Fecha i | F2: Fecha f | G2: Max | H2: Mín | I2: Media | J2: DS | K2: Max | L2: Mín | M2: Media | N2: DS | O2: Max | P2: Mín | Q2: Media | R2: DS | T2: 0.99 | U2: IC | V2: LS "Normal" | W2: IC | X2: LS "Normal" | Y2: IC | Z2: LS "Normal" | AB2: Mínimo | AC2: Máximo | AD2: Promedio
B3: Rio Negro | D3: =COUNTIF('Resultados historicos'!H:H,'Estadistico resumen'!B3) -> 158 | E3: =_xlfn.MINIFS('Resultados historicos'!K:K,'Resultados historicos'!H:H,'Estadistico resumen'!B3) -> 43794 | F3: =_xlfn.MAXIFS('Resultados historicos'!K:K,'Resultados historicos'!H:H,'Estadistico resumen'!B3) -> 45622 | G3: =_xlfn.MAXIFS('Resultados historicos'!O:O,'Resultados historicos'!$H:$H,'Estadistico resumen'!$B3) -> 2.34 | H3: =_xlfn.MINIFS('Resultados historicos'!O:O,'Resultados historicos'!$H:$H,'Estadistico resumen'!$B3) -> 0.08 | I3: =SUMIF('Resultados historicos'!$H:$H,'Estadistico resumen'!$B3,'Resultados historicos'!O:O)/COUNTIF('Resultados historicos'!$H:$H,'Estadistico resumen'!$B3) -> 0.82265823 | J3: {=_xlfn.STDEV.S(_xlfn._xlws.FILTER('Resultados historicos'!O:O,'Resultados historicos'!$H:$H='Estadistico resumen'!$B3))} -> 0.42195091 | K3: =_xlfn.MAXIFS('Resultados historicos'!P:P,'Resultados historicos'!$H:$H,'Estadistico resumen'!$B3) -> 1.78 | L3: =_xlfn.MINIFS('Resultados historicos'!P:P,'Resultados historicos'!$H:$H,'Estadistico resumen'!$B3) -> 0.08 | M3: =SUMIF('Resultados historicos'!$H:$H,'Estadistico resumen'!$B3,'Resultados historicos'!P:P)/COUNTIF('Resultados historicos'!$H:$H,'Estadistico resumen'!$B3) -> 0.40012658 | N3: {=_xlfn.STDEV.S(_xlfn._xlws.FILTER('Resultados historicos'!P:P,'Resultados historicos'!$H:$H='Estadistico resumen'!$B3))} -> 0.31167921 | O3: =_xlfn.MAXIFS('Resultados historicos'!Q:Q,'Resultados historicos'!$H:$H,'Estadistico resumen'!$B3) -> 1.7 | P3: =_xlfn.MINIFS('Resultados historicos'!Q:Q,'Resultados historicos'!$H:$H,'Estadistico resumen'!$B3) -> 0.02 | Q3: =SUMIF('Resultados historicos'!$H:$H,'Estadistico resumen'!$B3,'Resultados historicos'!Q:Q)/COUNTIF('Resultados historicos'!$H:$H,'Estadistico resumen'!$B3) -> 0.24753165 | R3: {=_xlfn.STDEV.S(_xlfn._xlws.FILTER('Resultados historicos'!Q:Q,'Resultados historicos'!$H:$H='Estadistico resumen'!$B3))} -> 0.26645989 | T3: Condiciones normales de los cuerpos de agua (distribución normal) | U3: =TEXT(I3,"0,00")&" ± "&TEXT((_xlfn.NORM.S.INV(1-((1-$T$2)/2))*J3/SQRT(D3)),"0,00") -> 0,82 ± 0,09 | V3: =I3+(_xlfn.NORM.S.INV(1-((1-$T$2)/2))*J3/SQRT(D3)) -> 0.90912524 | W3: =TEXT(M3,"0,00")&" ± "&TEXT((_xlfn.NORM.S.INV(1-((1-$T$2)/2))*N3/SQRT(D3)),"0,00") -> 0,40 ± 0,06 | X3: =M3+(_xlfn.NORM.S.INV(1-((1-$T$2)/2))*N3/SQRT(D3)) -> 0.4639965 | Y3: =TEXT(Q3,"0,00")&" ± "&TEXT((_xlfn.NORM.S.INV(1-((1-$T$2)/2))*R3/SQRT(D3)),"0,00") -> 0,25 ± 0,05 | Z3: =Q3+(_xlfn.NORM.S.INV(1-((1-$T$2)/2))*R3/SQRT(D3)) -> 0.30213513 | AB3: =_xlfn.MINIFS('Resultados historicos'!Y:Y,'Resultados historicos'!$H:$H,'Estadistico resumen'!$B3) -> 657.5 | AC3: =_xlfn.MAXIFS('Resultados historicos'!Y:Y,'Resultados historicos'!$H:$H,'Estadistico resumen'!$B3) -> 45152.5 | AD3: =SUMIF('Resultados historicos'!$H:$H,'Estadistico resumen'!$B3,'Resultados historicos'!Y:Y)/COUNTIFS('Resultados historicos'!$H:$H,'Estadistico resumen'!$B3,'Resultados historicos'!Y:Y,">0") -> 8651.1111
B4: Rio Pantanillo | D4: 17 | E4: 43795 | F4: 45622 | G4: 1.3 | H4: 0.3 | I4: 0.70117647 | J4: 0.30003921 | K4: 0.54 | L4: 0.1 | M4: 0.27529412 | N4: 0.12480573 | O4: 0.3 | P4: 0.04 | Q4: 0.16 | R4: 0.078102497
B5: Quebrada La Mosca | D5: =COUNTIF('Resultados historicos'!H:H,'Estadistico resumen'!B5) -> 80 | E5: =_xlfn.MINIFS('Resultados historicos'!K:K,'Resultados historicos'!H:H,'Estadistico resumen'!B5) -> 43794 | F5: =_xlfn.MAXIFS('Resultados historicos'!K:K,'Resultados historicos'!H:H,'Estadistico resumen'!B5) -> 45622 | G5: =_xlfn.MAXIFS('Resultados historicos'!O:O,'Resultados historicos'!$H:$H,'Estadistico resumen'!$B5) -> 2.98 | H5: =_xlfn.MINIFS('Resultados historicos'!O:O,'Resultados historicos'!$H:$H,'Estadistico resumen'!$B5) -> 0.16 | I5: =SUMIF('Resultados historicos'!$H:$H,'Estadistico resumen'!$B5,'Resultados historicos'!O:O)/COUNTIF('Resultados historicos'!$H:$H,'Estadistico resumen'!$B5) -> 0.69425 | J5: {=_xlfn.STDEV.S(_xlfn._xlws.FILTER('Resultados historicos'!O:O,'Resultados historicos'!$H:$H='Estadistico resumen'!$B5))} -> 0.49237419 | K5: =_xlfn.MAXIFS('Resultados historicos'!P:P,'Resultados historicos'!$H:$H,'Estadistico resumen'!$B5) -> 2 | L5: =_xlfn.MINIFS('Resultados historicos'!P:P,'Resultados historicos'!$H:$H,'Estadistico resumen'!$B5) -> 0.04 | M5: =SUMIF('Resultados historicos'!$H:$H,'Estadistico resumen'!$B5,'Resultados historicos'!P:P)/COUNTIF('Resultados historicos'!$H:$H,'Estadistico resumen'!$B5) -> 0.343625 | N5: {=_xlfn.STDEV.S(_xlfn._xlws.FILTER('Resultados historicos'!P:P,'Resultados historicos'!$H:$H='Estadistico resumen'!$B5))} -> 0.33662601 | O5: =_xlfn.MAXIFS('Resultados historicos'!Q:Q,'Resultados historicos'!$H:$H,'Estadistico resumen'!$B5) -> 1.46 | P5: =_xlfn.MINIFS('Resultados historicos'!Q:Q,'Resultados historicos'!$H:$H,'Estadistico resumen'!$B5) -> 0.02 | Q5: =SUMIF('Resultados historicos'!$H:$H,'Estadistico resumen'!$B5,'Resultados historicos'!Q:Q)/COUNTIF('Resultados historicos'!$H:$H,'Estadistico resumen'!$B5) -> 0.21675 | R5: {=_xlfn.STDEV.S(_xlfn._xlws.FILTER('Resultados historicos'!Q:Q,'Resultados historicos'!$H:$H='Estadistico resumen'!$B5))} -> 0.24931691 | U5: =TEXT(I5,"0,00")&" ± "&TEXT((_xlfn.NORM.S.INV(1-((1-$T$2)/2))*J5/SQRT(D5)),"0,00") -> 0,69 ± 0,14 | V5: =I5+(_xlfn.NORM.S.INV(1-((1-$T$2)/2))*J5/SQRT(D5)) -> 0.83604711 | W5: =TEXT(M5,"0,00")&" ± "&TEXT((_xlfn.NORM.S.INV(1-((1-$T$2)/2))*N5/SQRT(D5)),"0,00") -> 0,34 ± 0,10 | X5: =M5+(_xlfn.NORM.S.INV(1-((1-$T$2)/2))*N5/SQRT(D5)) -> 0.44056874 | Y5: =TEXT(Q5,"0,00")&" ± "&TEXT((_xlfn.NORM.S.INV(1-((1-$T$2)/2))*R5/SQRT(D5)),"0,00") -> 0,22 ± 0,07 | Z5: =Q5+(_xlfn.NORM.S.INV(1-((1-$T$2)/2))*R5/SQRT(D5)) -> 0.2885499 | AB5: =_xlfn.MINIFS('Resultados historicos'!Y:Y,'Resultados historicos'!$H:$H,'Estadistico resumen'!$B5) -> 41.9 | AC5: =_xlfn.MAXIFS('Resultados historicos'!Y:Y,'Resultados historicos'!$H:$H,'Estadistico resumen'!$B5) -> 103705.2 | AD5: =SUMIF('Resultados historicos'!$H:$H,'Estadistico resumen'!$B5,'Resultados historicos'!Y:Y)/COUNTIFS('Resultados historicos'!$H:$H,'Estadistico resumen'!$B5,'Resultados historicos'!Y:Y,">0") -> 2942.9333
B6: Quebrada La Marinilla | D6: =COUNTIF('Resultados historicos'!H:H,'Estadistico resumen'!B6) -> 64 | E6: =_xlfn.MINIFS('Resultados historicos'!K:K,'Resultados historicos'!H:H,'Estadistico resumen'!B6) -> 43794 | F6: =_xlfn.MAXIFS('Resultados historicos'!K:K,'Resultados historicos'!H:H,'Estadistico resumen'!B6) -> 45622 | G6: =_xlfn.MAXIFS('Resultados historicos'!O:O,'Resultados historicos'!$H:$H,'Estadistico resumen'!$B6) -> 3.32 | H6: =_xlfn.MINIFS('Resultados historicos'!O:O,'Resultados historicos'!$H:$H,'Estadistico resumen'!$B6) -> 0.24 | I6: =SUMIF('Resultados historicos'!$H:$H,'Estadistico resumen'!$B6,'Resultados historicos'!O:O)/COUNTIF('Resultados historicos'!$H:$H,'Estadistico resumen'!$B6) -> 0.8428125 | J6: {=_xlfn.STDEV.S(_xlfn._xlws.FILTER('Resultados historicos'!O:O,'Resultados historicos'!$H:$H='Estadistico resumen'!$B6))} -> 0.55505604 | K6: =_xlfn.MAXIFS('Resultados historicos'!P:P,'Resultados historicos'!$H:$H,'Estadistico resumen'!$B6) -> 1.82 | L6: =_xlfn.MINIFS('Resultados historicos'!P:P,'Resultados historicos'!$H:$H,'Estadistico resumen'!$B6) -> 0.1 | M6: =SUMIF('Resultados historicos'!$H:$H,'Estadistico resumen'!$B6,'Resultados historicos'!P:P)/COUNTIF('Resultados historicos'!$H:$H,'Estadistico resumen'!$B6) -> 0.38796875 | N6: {=_xlfn.STDEV.S(_xlfn._xlws.FILTER('Resultados historicos'!P:P,'Resultados historicos'!$H:$H='Estadistico resumen'!$B6))} -> 0.35030227 | O6: =_xlfn.MAXIFS('Resultados historicos'!Q:Q,'Resultados historicos'!$H:$H,'Estadistico resumen'!$B6) -> 1.34 | P6: =_xlfn.MINIFS('Resultados historicos'!Q:Q,'Resultados historicos'!$H:$H,'Estadistico resumen'!$B6) -> 0.02 | Q6: =SUMIF('Resultados historicos'!$H:$H,'Estadistico resumen'!$B6,'Resultados historicos'!Q:Q)/COUNTIF('Resultados historicos'!$H:$H,'Estadistico resumen'!$B6) -> 0.23734375 | R6: {=_xlfn.STDEV.S(_xlfn._xlws.FILTER('Resultados historicos'!Q:Q,'Resultados historicos'!$H:$H='Estadistico resumen'!$B6))} -> 0.2839307 | U6: =TEXT(I6,"0,00")&" ± "&TEXT((_xlfn.NORM.S.INV(1-((1-$T$2)/2))*J6/SQRT(D6)),"0,00") -> 0,84 ± 0,18 | V6: =I6+(_xlfn.NORM.S.INV(1-((1-$T$2)/2))*J6/SQRT(D6)) -> 1.0215287 | W6: =TEXT(M6,"0,00")&" ± "&TEXT((_xlfn.NORM.S.INV(1-((1-$T$2)/2))*N6/SQRT(D6)),"0,00") -> 0,39 ± 0,11 | X6: =M6+(_xlfn.NORM.S.INV(1-((1-$T$2)/2))*N6/SQRT(D6)) -> 0.50075861 | Y6: =TEXT(Q6,"0,00")&" ± "&TEXT((_xlfn.NORM.S.INV(1-((1-$T$2)/2))*R6/SQRT(D6)),"0,00") -> 0,24 ± 0,09 | Z6: =Q6+(_xlfn.NORM.S.INV(1-((1-$T$2)/2))*R6/SQRT(D6)) -> 0.32876338 | AB6: =_xlfn.MINIFS('Resultados historicos'!Y:Y,'Resultados historicos'!$H:$H,'Estadistico resumen'!$B6) -> 878.08 | AC6: =_xlfn.MAXIFS('Resultados historicos'!Y:Y,'Resultados historicos'!$H:$H,'Estadistico resumen'!$B6) -> 8908.2 | AD6: =SUMIF('Resultados historicos'!$H:$H,'Estadistico resumen'!$B6,'Resultados historicos'!Y:Y)/COUNTIFS('Resultados historicos'!$H:$H,'Estadistico resumen'!$B6,'Resultados historicos'!Y:Y,">0") -> 3270.8659
B7: Quebrada La Cimarrona | D7: =COUNTIF('Resultados historicos'!H:H,'Estadistico resumen'!B7) -> 64 | E7: =_xlfn.MINIFS('Resultados historicos'!K:K,'Resultados historicos'!H:H,'Estadistico resumen'!B7) -> 43794 | F7: =_xlfn.MAXIFS('Resultados historicos'!K:K,'Resultados historicos'!H:H,'Estadistico resumen'!B7) -> 45629 | G7: =_xlfn.MAXIFS('Resultados historicos'!O:O,'Resultados historicos'!$H:$H,'Estadistico resumen'!$B7) -> 4.3 | H7: =_xlfn.MINIFS('Resultados historicos'!O:O,'Resultados historicos'!$H:$H,'Estadistico resumen'!$B7) -> 0.3 | I7: =SUMIF('Resultados historicos'!$H:$H,'Estadistico resumen'!$B7,'Resultados historicos'!O:O)/COUNTIF('Resultados historicos'!$H:$H,'Estadistico resumen'!$B7) -> 1.1221875 | J7: {=_xlfn.STDEV.S(_xlfn._xlws.FILTER('Resultados historicos'!O:O,'Resultados historicos'!$H:$H='Estadistico resumen'!$B7))} -> 0.90880956 | K7: =_xlfn.MAXIFS('Resultados historicos'!P:P,'Resultados historicos'!$H:$H,'Estadistico resumen'!$B7) -> 3.37 | L7: =_xlfn.MINIFS('Resultados historicos'!P:P,'Resultados historicos'!$H:$H,'Estadistico resumen'!$B7) -> 0.1 | M7: =SUMIF('Resultados historicos'!$H:$H,'Estadistico resumen'!$B7,'Resultados historicos'!P:P)/COUNTIF('Resultados historicos'!$H:$H,'Estadistico resumen'!$B7) -> 0.6575 | N7: {=_xlfn.STDEV.S(_xlfn._xlws.FILTER('Resultados historicos'!P:P,'Resultados historicos'!$H:$H='Estadistico resumen'!$B7))} -> 0.73462224 | O7: =_xlfn.MAXIFS('Resultados historicos'!Q:Q,'Resultados historicos'!$H:$H,'Estadistico resumen'!$B7) -> 1.76 | P7: =_xlfn.MINIFS('Resultados historicos'!Q:Q,'Resultados historicos'!$H:$H,'Estadistico resumen'!$B7) -> 0.06 | Q7: =SUMIF('Resultados historicos'!$H:$H,'Estadistico resumen'!$B7,'Resultados historicos'!Q:Q)/COUNTIF('Resultados historicos'!$H:$H,'Estadistico resumen'!$B7) -> 0.3871875 | R7: {=_xlfn.STDEV.S(_xlfn._xlws.FILTER('Resultados historicos'!Q:Q,'Resultados historicos'!$H:$H='Estadistico resumen'!$B7))} -> 0.45195332 | U7: =TEXT(I7,"0,00")&" ± "&TEXT((_xlfn.NORM.S.INV(1-((1-$T$2)/2))*J7/SQRT(D7)),"0,00") -> 1,12 ± 0,29 | V7: =I7+(_xlfn.NORM.S.INV(1-((1-$T$2)/2))*J7/SQRT(D7)) -> 1.4148048 | W7: =TEXT(M7,"0,00")&" ± "&TEXT((_xlfn.NORM.S.INV(1-((1-$T$2)/2))*N7/SQRT(D7)),"0,00") -> 0,66 ± 0,24 | X7: =M7+(_xlfn.NORM.S.INV(1-((1-$T$2)/2))*N7/SQRT(D7)) -> 0.89403269 | Y7: =TEXT(Q7,"0,00")&" ± "&TEXT((_xlfn.NORM.S.INV(1-((1-$T$2)/2))*R7/SQRT(D7)),"0,00") -> 0,39 ± 0,15 | Z7: =Q7+(_xlfn.NORM.S.INV(1-((1-$T$2)/2))*R7/SQRT(D7)) -> 0.53270683 | AB7: =_xlfn.MINIFS('Resultados historicos'!Y:Y,'Resultados historicos'!$H:$H,'Estadistico resumen'!$B7) -> 145.59 | AC7: =_xlfn.MAXIFS('Resultados historicos'!Y:Y,'Resultados historicos'!$H:$H,'Estadistico resumen'!$B7) -> 4417.14 | AD7: =SUMIF('Resultados historicos'!$H:$H,'Estadistico resumen'!$B7,'Resultados historicos'!Y:Y)/COUNTIFS('Resultados historicos'!$H:$H,'Estadistico resumen'!$B7,'Resultados historicos'!Y:Y,">0") -> 1253.127
A9: 1 | B9: Rio Pantanillo | C9: ESTACION EL HIERBAL | D9: =COUNTIF('Resultados historicos'!D:D,'Estadistico resumen'!C9) -> 16 | E9: =_xlfn.MINIFS('Resultados historicos'!K:K,'Resultados historicos'!D:D,'Estadistico resumen'!C9) -> 43795 | F9: =_xlfn.MAXIFS('Resultados historicos'!K:K,'Resultados historicos'!D:D,'Estadistico resumen'!C9) -> 45622 | G9: =_xlfn.MAXIFS('Resultados historicos'!O:O,'Resultados historicos'!$D:$D,'Estadistico resumen'!$C9) -> 1.3 | H9: =_xlfn.MINIFS('Resultados historicos'!O:O,'Resultados historicos'!$D:$D,'Estadistico resumen'!$C9) -> 0.3 | I9: =SUMIF('Resultados historicos'!$D:$D,'Estadistico resumen'!$C9,'Resultados historicos'!O:O)/COUNTIF('Resultados historicos'!$D:$D,'Estadistico resumen'!$C9) -> 0.72 | J9: {=_xlfn.STDEV.S(_xlfn._xlws.FILTER('Resultados historicos'!O:O,'Resultados historicos'!$D:$D='Estadistico resumen'!$C9))} -> 0.29933259 | K9: =_xlfn.MAXIFS('Resultados historicos'!P:P,'Resultados historicos'!$D:$D,'Estadistico resumen'!$C9) -> 0.54 | L9: =_xlfn.MINIFS('Resultados historicos'!P:P,'Resultados historicos'!$D:$D,'Estadistico resumen'!$C9) -> 0.1 | M9: =SUMIF('Resultados historicos'!$D:$D,'Estadistico resumen'!$C9,'Resultados historicos'!P:P)/COUNTIF('Resultados historicos'!$D:$D,'Estadistico resumen'!$C9) -> 0.28625 | N9: {=_xlfn.STDEV.S(_xlfn._xlws.FILTER('Resultados historicos'!P:P,'Resultados historicos'!$D:$D='Estadistico resumen'!$C9))} -> 0.12015962 | O9: =_xlfn.MAXIFS('Resultados historicos'!Q:Q,'Resultados historicos'!$D:$D,'Estadistico resumen'!$C9) -> 0.3 | P9: =_xlfn.MINIFS('Resultados historicos'!Q:Q,'Resultados historicos'!$D:$D,'Estadistico resumen'!$C9) -> 0.04 | Q9: =SUMIF('Resultados historicos'!$D:$D,'Estadistico resumen'!$C9,'Resultados historicos'!Q:Q)/COUNTIF('Resultados historicos'!$D:$D,'Estadistico resumen'!$C9) -> 0.16375 | R9: {=_xlfn.STDEV.S(_xlfn._xlws.FILTER('Resultados historicos'!Q:Q,'Resultados historicos'!$D:$D='Estadistico resumen'!$C9))} -> 0.079067482 | T9: Condiciones normales por estación (n<30, t-student) | U9: =TEXT(I9,"0,00")&" ± "&TEXT((_xlfn.T.INV(1-((1-$T$2)/2),D9-1)*J9/SQRT(D9)),"0,00") -> 0,72 ± 0,22 | V9: =I9+(_xlfn.T.INV(1-((1-$T$2)/2),D9-1)*J9/SQRT(D9)) -> 0.9405118 | W9: =TEXT(M9,"0,00")&" ± "&TEXT((_xlfn.T.INV(1-((1-$T$2)/2),D9-1)*N9/SQRT(D9)),"0,00") -> 0,29 ± 0,09 | X9: =M9+(_xlfn.T.INV(1-((1-$T$2)/2),D9-1)*N9/SQRT(D9)) -> 0.37476897 | Y9: =TEXT(Q9,"0,00")&" ± "&TEXT((_xlfn.T.INV(1-((1-$T$2)/2),D9-1)*R9/SQRT(D9)),"0,00") -> 0,16 ± 0,06 | Z9: =Q9+(_xlfn.T.INV(1-((1-$T$2)/2),D9-1)*R9/SQRT(D9)) -> 0.22199729 | AB9: =_xlfn.MINIFS('Resultados historicos'!Y:Y,'Resultados historicos'!$D:$D,'Estadistico resumen'!$C9) -> 1565.49 | AC9: =_xlfn.MAXIFS('Resultados historicos'!Y:Y,'Resultados historicos'!$D:$D,'Estadistico resumen'!$C9) -> 10163.29 | AD9: =SUMIF('Resultados historicos'!D:D,'Estadistico resumen'!$C9,'Resultados historicos'!Y:Y)/COUNTIFS('Resultados historicos'!$D:$D,'Estadistico resumen'!$C9,'Resultados historicos'!Y:Y,">0") -> 4364.4069
