Workbook

Sheet Contenido
A1: Datos para acuerdo Corporativo para reglamentación de Color.
A2: 1 | B2: Resultados históricos
A3: 2 | B3: Tabla dinámica de historicos de resultados
A4: 3 | B4: Interpretación de información para Río Negro en longitud de onda 436
A5: 4 | B5: Interpretación de información para Río Negro en longitud de onda 525
A6: 5 | B6: Interpretación de información para Río Negro en longitud de onda 620
A7: 6 | B7: Interpretación de información para Quebrada La Cimarrona en longitud de onda 436
A8: 7 | B8: Interpretación de información para Quebrada La Cimarrona en longitud de onda 525
A9: 8 | B9: Interpretación de información para Quebrada La Cimarrona en longitud de onda 620
A10: 9 | B10: Interpretación de información para Quebrada La Marinilla en longitud de onda 436
A11: 10 | B11: Interpretación de información para Quebrada La Marinilla en longitud de onda 525
A12: 11 | B12: Interpretación de información para Quebrada La Marinilla en longitud de onda 620
A13: 12 | B13: Interpretación de información para Quebrada La Mosca en longitud de onda 436
... A21: 20 | B21: Ejemplos de usuarios aplicando la normativa propuesta y los límites correspondientes.

Sheet Resultados historicos
A1: Año | B1: Codigo interno | C1: Orden Fuente | D1: Nombre de la fuente hidrica y Estacion | E1: Código de estación | F1: Municipio | G1: Referente Normativo y tiempo | H1: Fuente superficial | I1: Latitud | J1: Longitud | K1: Fecha de toma (AAAA-MM-DD) | L1: Mes | M1: Tiempo | N1: N | O1: Color real λ=436 nm (m⁻¹) | P1: Color real λ=525 nm (m⁻¹) | Q1: Color real λ=620 nm (m⁻¹) | R1: DBO₅ (mg/L O₂) | S1: DQO (mg/L O₂) | T1: Oxígeno disuelto (mg/L) | U1: Saturación Ox % | V1: Temperatura (°C) | W1: pH (U. de pH) | X1: Conductividad (us/cm) | Y1: Caudal (L/s)
A2: 2020 | B2: 2020-08-1106 | C2: 1 | D2: ESTACION EL HIERBAL | E2: LOT-061-RET-300-PANTANILLO | F2: El Retiro | G2: R. 112-5304-2016 - Río Negro - Tramo: 2 - Río Negro | H2: Rio Negro | I2: 06°04'50,05" | J2: 75°29'46,80" | K2: 44067 | L2: ago | M2: Lluvias | N2: 207 | O2: 1.2 | P2: 0.4 | Q2: 0.1 | R2: 2.5 | S2: 29.1 | T2: 7.41 | U2: 93.9 | V2: 14.6 | W2: 6.69 | X2: 37.2 | Y2: 3200
A3: 2020 | B3: 2020-11-1861 | C3: 1 | D3: ESTACION EL HIERBAL | E3: LOT-061-RET-300-PANTANILLO | F3: El Retiro | G3: R. 112-5304-2016 - Río Negro - Tramo: 2 - Río Negro | H3: Rio Negro | I3: 06°04'50,05" | J3: 75°29'46,80" | K3: 44158 | L3: nov | M3: Lluvias | N3: 228 | O3: 0.9 | P3: 0.4 | Q3: 0.3 | R3: 1.6 | S3: 10 | T3: 7.67 | U3: 99.1 | V3: 15.6 | W3: 6.63 | X3: 32.5 | Y3: 7350
A4: 2021 | B4: 2021-07-1202 | C4: 1 | D4: ESTACION EL HIERBAL | E4: LOT-061-RET-300-PANTANILLO | F4: El Retiro | G4: R. 112-5304-2016 - Río Negro - Tramo: 2 - Río Negro | H4: Rio Negro | I4: 06°04'50,05" | J4: 75°29'46,80" | K4: 44389 | L4: jul | M4: Lluvias | N4: 297 | O4: 0.7 | P4: 0.3 | Q4: 0.2 | R4: 5.5 | S4: 10 | T4: 7.38 | U4: 95.6 | V4: 15 | W4: 6.66 | X4: 37.6 | Y4: 2832.56
A5: 2021 | B5: 2021-07-1191 | C5: 1 | D5: ESTACION LA AMISTAD | E5: LOT-066-SAN-200-LA_MARINILLA | F5: El Santuario | G5: R. 112-5304-2016 - Río Negro - Tramo: 14 - Quebrada La Marinilla | H5: Quebrada La Marinilla | I5: 06°08'11,79" | J5: 75°16'09,54" | K5: 44389 | L5: jul | M5: Lluvias | N5: 311 | O5: 0.6 | P5: 0.2 | Q5: 0.1 | R5: 12 | S5: 17.7 | T5: 6.11 | U5: 88.5 | V5: 20.9 | W5: 6.99 | X5: 100.7 | Y5: 5524.21
A6: 2019 | B6: 2019-11-2790 | C6: 1 | D6: ESTACION EL HIERBAL | E6: LOT-061-RET-300-PANTANILLO | F6: El Retiro | G6: R. 112-5304-2016 - Río Negro - Tramo: 2 - Río Negro | H6: Rio Negro | I6: 06°04'50,05" | J6: 75°29'46,80" | K6: 43795 | L6: nov | M6: Lluvias | N6: 161 | O6: 0.3 | P6: 0.1 | Q6: 0.1 | R6: 2.1 | S6: 10 | T6: 7.35 | U6: 96.2 | V6: 16.2 | W6: 7.72 | X6: 31.6 | Y6: 10163.29
A7: 2020 | B7: 2020-02-0244 | C7: 1 | D7: ESTACION EL HIERBAL | E7: LOT-061-RET-300-PANTANILLO | F7: El Retiro | G7: R. 112-5304-2016 - Río Negro - Tramo: 2 - Río Negro | H7: Rio Negro | I7: 06°04'50,05" | J7: 75°29'46,80" | K7: 43886 | L7: feb | M7: Seco | N7: 184 | O7: 0.8 | P7: 0.3 | Q7: 0.2 | R7: 6.9 | S7: 111.2 | T7: 7.33 | U7: 98.4 | V7: 17.2 | W7: 7.34 | X7: 45.9 | Y7: 1565.49
A8: 2021 | B8: 2021-02-188 | C8: 1 | D8: ESTACION EL HIERBAL | E8: LOT-061-RET-300-PANTANILLO | F8: El Retiro | G8: R. 112-5304-2016 - Río Negro - Tramo: 2 - Río Negro | H8: Rio Negro | I8: 06°04'50,05" | J8: 75°29'46,80" | K8: 44228 | L8: feb | M8: Seco | N8: 251 | O8: 0.6 | P8: 0.26 | Q8: 0.18 | R8: 1.9 | S8: 10 | T8: 7.4 | U8: 96.9 | V8: 15.9 | W8: 6.97 | X8: 59.5 | Y8: 2963.78
A9: 2021 | B9: 2021-11-2215 | C9: 1 | D9: ESTACION EL HIERBAL | E9: LOT-061-RET-300-PANTANILLO | F9: El Retiro | G9: R. 112-5304-2016 - Río Negro - Tramo: 2 - Río Negro | H9: Rio Negro | I9: 06°04'50,05" | J9: 75°29'46,80" | K9: 44529 | L9: nov | M9: Lluvias | N9: 274 | O9: 0.7 | P9: 0.3 | Q9: 0.2 | R9: 0.2 | S9: 3.9 | T9: 7.32 | U9: 96.5 | V9: 16.1 | W9: 6.89 | X9: 26.6 | Y9: 1875.17
A10: 2022 | B10: 2022-02-0213 | C10: 1 | D10: ESTACION EL HIERBAL | E10: LOT-061-RET-300-PANTANILLO | F10: El Retiro | G10: R. 112-5304-2016 - Río Negro - Tramo: 2 - Río Negro | H10: Rio Negro | I10: 06°04'50,05" | J10: 75°29'46,80" | K10: 44614 | L10: feb | M10: Seco | N10: 131 | O10: 1.3 | P10: 0.4 | Q10: 0.2 | R10: 2 | S10: 10.6 | T10: 7.855 | U10: 98.7 | V10: 14 | W10: 6.84 | X10: 28.7 | Y10: 3017.3
A11: 2022 | B11: 2022-06-0901 | C11: 1 | D11: ESTACION EL HIERBAL | E11: LOT-061-RET-300-PANTANILLO | F11: El Retiro | G11: R. 112-5304-2016 - Río Negro - Tramo: 2 - Río Negro | H11: Rio Negro | I11: 06°04'50,05" | J11: 75°29'46,80" | K11: 44720 | L11: jun | M11: Lluvias | N11: 141 | O11: 0.8 | P11: 0.3 | Q11: 0.2 | R11: 4.9 | S11: 15.4 | T11: 7.535 | U11: 98.3 | V11: 15.6 | W11: 7.205 | X11: 57.55 | Y11: 6912
A12: 2019 | B12: 2019-11-2767 | C12: 1 | D12: ESTACION LA AMISTAD | E12: LOT-066-SAN-200-LA_MARINILLA | F12: El Santuario | G12: R. 112-5304-2016 - Río Negro - Tramo: 14 - Quebrada La Marinilla | H12: Quebrada La Marinilla | I12: 06°08'11,79" | J12: 75°16'09,54" | K12: 43794 | L12: nov | M12: Lluvias | N12: 175 | O12: 0.6 | P12: 0.3 | Q12: 0.1 | R12: 3.1 | S12: 25.5 | T12: 5.92 | U12: 85.5 | V12: 20.6 | W12: 7.27 | X12: 78.6 | Y12: 1849.32
A13: 2020 | B13: 2020-02-0233 | C13: 1 | D13: ESTACION LA AMISTAD | E13: LOT-066-SAN-200-LA_MARINILLA | F13: El Santuario | G13: R. 112-5304-2016 - Río Negro - Tramo: 14 - Quebrada La Marinilla | H13: Quebrada La Marinilla | I13: 06°08'11,79" | J13: 75°16'09,54" | K13: 43885 | L13: feb | M13: Seco | N13: 198 | O13: 0.4 | P13: 0.2 | Q13: 0.1 | R13: 3.5 | S13: 31.5 | T13: 6.2 | U13: 88.7 | V13: 20 | W13: 7.34 | X13: 100.2 | Y13: 878.08
... A20: 2023 | B20: 2023-11-2332 | C20: 1 | D20: ESTACION EL HIERBAL | E20: LOT-061-RET-300-PANTANILLO | F20: El Retiro | G20: R. 112-5304-2016 - Río Negro - Tramo: 2 - Río Negro | H20: Rio Negro | I20: 06°04'50,05" | J20: 75°29'46,80" | K20: 45252 | L20: nov | M20: Lluvias | N20: 123 | O20: 0.48 | P20: 0.18 | Q20: 0.08 | R20: 2.1 | S20: 11.1 | T20: 7.56 | U20: 98.65 | V20: 15.9 | W20: 6.185 | X20: 33.5 | Y20: 4975.7
A21: 2024 | B21: 2024-02-0183 | C21: 1 | D21: ESTACION EL HIERBAL | E21: LOT-061-RET-300-PANTANILLO | F21: El Retiro | G21: R. 112-5304-2016 - Río Negro - Tramo: 2 - Río Negro | H21: Rio Negro | I21: 06°04'50,05" | J21: 75°29'46,80" | K21: 45349 | L21: feb | M21: Seco | O21: 1.1 | P21: 0.54 | Q21: 0.3 | R21: 2.3 | S21: 9.3 | T21: 7.505 | U21: 98.25 | V21: 16.1 | W21: 7.125 | X21: 45.8 | Y21: N.D.
A22: 2024 | B22: 2024-06-0837 | C22: 1 | D22: ESTACION EL HIERBAL | E22: LOT-061-RET-300-PANTANILLO | F22: El Retiro | G22: R. 112-5304-2016 - Río Negro - Tramo: 2 - Río Negro | H22: Rio Negro | I22: 06°04'50,05" | J22: 75°29'46,80" | K22: 45461 | L22: jun | M22: Lluvias | O22: 0.84 | P22: 0.34 | Q22: 0.18 | R22: 1.1 | S22: 18.6 | T22: 7.61 | U22: 98.85 | V22: 16 | W22: 7.1 | X22: 34.65 | Y22: N.D.
A23: 2024 | B23: 2024-11-1985 | C23: 1 | D23: ESTACION EL HIERBAL | E23: LOT-061-RET-300-PANTANILLO | F23: El Retiro | G23: R. 112-5304-2016 - Río Negro - Tramo: 2 - Río Negro | H23: Rio Negro | I23: 06°04'50,05" | J23: 75°29'46,80" | K23: 45622 | L23: nov | M23: Lluvias | O23: 0.56 | P23: 0.32 | Q23: 0.2 | R23: 0.7 | S23: 12.32 | T23: 7.735 | U23: 100.2 | V23: 15.5 | W23: 7.33 | X23: 32.95 | Y23: N.D.
A24: 2021 | B24: 2021-07-1203 | C24: 2 | D24: ESTACION MONTENEVADO | E24: LOT-199-RIO-100-RIO_NEGRO | F24: Rionegro | G24: R. 112-5304-2016 - Río Negro - Tramo: 3 - Río Negro | H24: Rio Negro | I24: 06°05'42,34" | J24: 75°28'32,82" | K24: 44389 | L24: jul | M24: Lluvias | N24: 298 | O24: 0.4 | P24: 0.1 | Q24: 0.1 | R24: 4.4 | S24: 2.8 | T24: 7.49 | U24: 97.5 | V24: 15.6 | W24: 6.76 | X24: 43.6 | Y24: 2189.39
A25: 2024 | B25: 2024-06-0860 | C25: 1 | D25: ROMERAL | E25: LOT-085-GUA-100-LA_MOSCA | F25: Guarne | G25: R. 112-5304-2016 - Río Negro - Tramo: 12 - Quebrada La Mosca | H25: Quebrada La Mosca | I25: 06°18'32,19" | J25: 75°27'33,70" | K25: 45461 | L25: jun | M25: Lluvias | O25: 0.46 | P25: 0.16 | Q25: 0.08 | R25: 1.6 | S25: 14.3 | T25: 7.195 | U25: 99.2 | V25: 17.9 | W25: 7.48 | X25: 67.5 | Y25: 141.5
A26: 2024 | B26: 2024-11-2003 | C26: 1 | D26: ROMERAL | E26: LOT-085-GUA-100-LA_MOSCA | F26: Guarne | G26: R. 112-5304-2016 - Río Negro - Tramo: 12 - Quebrada La Mosca | H26: Quebrada La Mosca | I26: 06°18'32,19" | J26: 75°27'33,70" | K26: 45622 | L26: nov | M26: Lluvias | O26: 0.24 | P26: 0.16 | Q26: 0.16 | R26: 0.4 | S26: 11.6 | T26: 7.405 | U26: 101.15 | V26: 17.4 | W26: 7.53 | X26: 77.45 | Y26: 127.6
A27: 2024 | B27: 2024-02-0174 | C27: 1 | D27: ROMERAL | E27: LOT-085-GUA-100-LA_MOSCA | F27: Guarne | G27: R. 112-5304-2016 - Río Negro - Tramo: 12 - Quebrada La Mosca | H27: Quebrada La Mosca | I27: 06°18'32,19" | J27: 75°27'33,70" | K27: 45349 | L27: feb | M27: Seco | N27: 1 | O27: 0.64 | P27: 0.32 | Q27: 0.2 | R27: 1.1 | S27: 0 | T27: 7.085 | U27: 99.15 | V27: 18 | W27: 7.305 | X27: 115.75 | Y27: 41.9
A28: 2021 | B28: 2021-07-1217 | C28: 1 | D28: ROMERAL | E28: LOT-085-GUA-100-LA_MOSCA | F28: Guarne | G28: R. 112-5304-2016 - Río Negro - Tramo: 12 - Quebrada La Mosca | H28: Quebrada La Mosca | I28: 06°18'32,19" | J28: 75°27'33,70" | K28: 44390 | L28: jul | M28: Lluvias | N28: 315 | O28: 0.5 | P28: 0.2 | Q28: 0.2 | R28: 3.6 | S28: 10 | T28: 7.59 | U28: 101.9 | V28: 16.8 | W28: 7.54 | X28: 66.1 | Y28: 229.63
A29: 2019 | B29: 2019-11-2772 | C29: 1 | D29: ROMERAL | E29: LOT-085-GUA-100-LA_MOSCA | F29: Guarne | G29: R. 112-5304-2016 - Río Negro - Tramo: 12 - Quebrada La Mosca | H29: Quebrada La Mosca | I29: 06°18'32,19" | J29: 75°27'33,70" | K29: 43794 | L29: nov | M29: Lluvias | N29: 179 | O29: 0.3 | P29: 0.1 | Q29: 0.1 | R29: 1 | S29: 10 | T29: 7.47 | U29: 98.1 | V29: 15.8 | W29: 7.5 | X29: 62.8 | Y29: 136.47
A30: 2019 | B30: 2019-11-2791 | C30: 2 | D30: ESTACION MONTENEVADO | E30: LOT-199-RIO-100-RIO_NEGRO | F30: Rionegro | G30: R. 112-5304-2016 - Río Negro - Tramo: 3 - Río Negro | H30: Rio Negro | I30: 06°05'42,34" | J30: 75°28'32,82" | K30: 43795 | L30: nov | M30: Lluvias | N30: 162 | O30: 0.5 | P30: 0.1 | Q30: 0.1 | R30: 2.2 | S30: 18.1 | T30: 7.24 | U30: 97.7 | V30: 17.5 | W30: 7.23 | X30: 44.6 | Y30: 9631.39
A31: 2020 | B31: 2020-02-0245 | C31: 2 | D31: ESTACION MONTENEVADO | E31: LOT-199-RIO-100-RIO_NEGRO | F31: Rionegro | G31: R. 112-5304-2016 - Río Negro - Tramo: 3 - Río Negro | H31: Rio Negro | I31: 06°05'42,34" | J31: 75°28'32,82" | K31: 43886 | L31: feb | M31: Seco | N31: 185 | O31: 0.6 | P31: 0.3 | Q31: 0.2 | R31: 4.7 | S31: 10 | T31: 6.85 | U31: 92.1 | V31: 17.9 | W31: 6.75 | X31: 86.6 | Y31: 684.89
A32: 2020 | B32: 2020-08-1107 | C32: 2 | D32: ESTACION MONTENEVADO | E32: LOT-199-RIO-100-RIO_NEGRO | F32: Rionegro | G32: R. 112-5304-2016 - Río Negro - Tramo: 3 - Río Negro | H32: Rio Negro | I32: 06°05'42,34" | J32: 75°28'32,82" | K32: 44067 | L32: ago | M32: Lluvias | N32: 208 | O32: 1.4 | P32: 0.5 | Q32: 0.1 | R32: 1.3 | S32: 24.9 | T32: 7.66 | U32: 98 | V32: 15.2 | W32: 6.7 | X32: 38 | Y32: 4800
A33: 2020 | B33: 2020-11-1862 | C33: 2 | D33: ESTACION MONTENEVADO | E33: LOT-199-RIO-100-RIO_NEGRO | F33: Rionegro | G33: R. 112-5304-2016 - Río Negro - Tramo: 3 - Río Negro | H33: Rio Negro | I33: 06°05'42,34" | J33: 75°28'32,82" | K33: 44158 | L33: nov | M33: Lluvias | N33: 229 | O33: 0.8 | P33: 0.4 | Q33: 0.3 | R33: 1.1 | S33: 10.8 | T33: 7.78 | U33: 101.9 | V33: 16.2 | W33: 6.96 | X33: 43.9 | Y33: 11230
A34: 2021 | B34: 2021-02-189 | C34: 2 | D34: ESTACION MONTENEVADO | E34: LOT-199-RIO-100-RIO_NEGRO | F34: Rionegro | G34: R. 112-5304-2016 - Río Negro - Tramo: 3 - Río Negro | H34: Rio Negro | I34: 06°05'42,34" | J34: 75°28'32,82" | K34: 44228 | L34: feb | M34: Seco | N34: 252 | O34: 0.58 | P34: 0.34 | Q34: 0.24 | R34: 1.6 | S34: 10 | T34: 7.09 | U34: 96.6 | V34: 17.2 | W34: 6.92 | X34: 79.4 | Y34: 859.86
A35: 2021 | B35: 2021-11-2216 | C35: 2 | D35: ESTACION MONTENEVADO | E35: LOT-199-RIO-100-RIO_NEGRO | F35: Rionegro | G35: R. 112-5304-2016 - Río Negro - Tramo: 3 - Río Negro | H35: Rio Negro | I35: 06°05'42,34" | J35: 75°28'32,82" | K35: 44529 | L35: nov | M35: Lluvias | N35: 275 | O35: 0.6 | P35: 0.3 | Q35: 0.2 | R35: 1 | S35: 5.1 | T35: 7.38 | U35: 97.3 | V35: 16.5 | W35: 6.99 | X35: 34.4 | Y35: 3371.45
A36: 2019 | B36: 2019-11-2797 | C36: 1 | D36: ESTACION PUENTE LARGA | E36: LOT-044-CAR-200-LA_CIMARRONA | F36: El Carmen de Viboral | G36: R. 112-5304-2016 - Río Negro - Tramo: 10 - Quebrada La Cimarrona | H36: Quebrada La Cimarrona | I36: 06°04'05,00" | J36: 75°19'18,00" | K36: 43795 | L36: nov | M36: Lluvias | N36: 171 | O36: 0.3 | P36: 0.1 | Q36: 0.1 | R36: 1.4 | S36: 10 | T36: 6.82 | U36: 97.5 | V36: 19.3 | W36: 7.31 | X36: 76.7 | Y36: 287.08
A37: 2020 | B37: 2020-02-0251 | C37: 1 | D37: ESTACION PUENTE LARGA | E37: LOT-044-CAR-200-LA_CIMARRONA | F37: El Carmen de Viboral | G37: R. 112-5304-2016 - Río Negro - Tramo: 10 - Quebrada La Cimarrona | H37: Quebrada La Cimarrona | I37: 06°04'05,00" | J37: 75°19'18,00" | K37: 43886 | L37: feb | M37: Seco | N37: 194 | O37: 0.4 | P37: 0.2 | Q37: 0.1 | R37: 1.9 | S37: 10 | T37: 6.96 | U37: 104.5 | V37: 22.1 | W37: 7.68 | X37: 95.3 | Y37: 145.59
A38: 2020 | B38: 2020-02-0238 | C38: 1 | D38: ROMERAL | E38: LOT-085-GUA-100-LA_MOSCA | F38: Guarne | G38: R. 112-5304-2016 - Río Negro - Tramo: 12 - Quebrada La Mosca | H38: Quebrada La Mosca | I38: 06°18'32,19" | J38: 75°27'33,70" | K38: 43885 | L38: feb | M38: Seco | N38: 202 | O38: 0.5 | P38: 0.2 | Q38: 0.1 | R38: 1.4 | S38: 18.6 | T38: 7.37 | U38: 99.5 | V38: 17.3 | W38: 7.43 | X38: 91 | Y38: 51.97
... A40: 2020 | B40: 2020-11-1878 | C40: 1 | D40: ROMERAL | E40: LOT-085-GUA-100-LA_MOSCA | F40: Guarne | G40: R. 112-5304-2016 - Río Negro - Tramo: 12 - Quebrada La Mosca | H40: Quebrada La Mosca | I40: 06°18'32,19" | J40: 75°27'33,70" | K40: 44159 | L40: nov | M40: Lluvias | N40: 246 | O40: 0.7 | P40: 0.4 | Q40: 0.2 | R40: 1 | S40: 10 | T40: 8.04 | U40: 104.6 | V40: 15.5 | W40: 7.51 | X40: 61.6 | Y40: 220.42
A41: 2021 | B41: 2021-11-2204 | C41: 1 | D41: ESTACION LA AMISTAD | E41: LOT-066-SAN-200-LA_MARINILLA | F41: El Santuario | G41: R. 112-5304-2016 - Río Negro - Tramo: 14 - Quebrada La Marinilla | H41: Quebrada La Marinilla | I41: 06°08'11,79" | J41: 75°16'09,54" | K41: 44529 | L41: nov | M41: Lluvias | N41: 288 | O41: 0.94 | P41: 0.5 | Q41: 0.32 | R41: 4.9 | S41: 54.2 | T41: 6.18 | U41: 179.7 | V41: 21 | W41: 6.9 | X41: 91.15 | Y41: N.D.
A42: 2022 | B42: 2022-03-0248 | C42: 1 | D42: ESTACION LA AMISTAD | E42: LOT-066-SAN-200-LA_MARINILLA | F42: El Santuario | G42: R. 112-5304-2016 - Río Negro - Tramo: 14 - Quebrada La Marinilla | H42: Quebrada La Marinilla | I42: 06°08'11,79" | J42: 75°16'09,54" | K42: 44621 | L42: mar | M42: Seco | N42: 58 | O42: 0.98 | P42: 0.4 | Q42: 0.24 | R42: 7 | S42: 18.1 | T42: 6.06 | U42: 87.45 | V42: 19.7 | W42: 7.21 | X42: 102.5 | Y42: 1065.7
A43: 2022 | B43: 2022-06-0951 | C43: 1 | D43: ESTACION LA AMISTAD | E43: LOT-066-SAN-200-LA_MARINILLA | F43: El Santuario | G43: R. 112-5304-2016 - Río Negro - Tramo: 14 - Quebrada La Marinilla | H43: Quebrada La Marinilla | I43: 06°08'11,79" | J43: 75°16'09,54" | K43: 44727 | L43: jun | M43: Lluvias | N43: 75 | O43: 0.34 | P43: 0.1 | Q43: 0.04 | R43: 4 | S43: 36 | T43: 6.155 | U43: 89 | V43: 20.8 | W43: 7.06 | X43: 87.15 | Y43: 1627.3
A44: 2022 | B44: 2022-11-2253 | C44: 1 | D44: ESTACION LA AMISTAD | E44: LOT-066-SAN-200-LA_MARINILLA | F44: El Santuario | G44: R. 112-5304-2016 - Río Negro - Tramo: 14 - Quebrada La Marinilla | H44: Quebrada La Marinilla | I44: 06°08'11,79" | J44: 75°16'09,54" | K44: 44894 | L44: nov | M44: Lluvias | N44: 88 | O44: 0.38 | P44: 0.14 | Q44: 0.04 | R44: 2.3 | S44: 13.3 | T44: 6.135 | U44: 90.35 | V44: 20.7 | W44: 6.875 | X44: 84.4 | Y44: N.D.
A45: 2021 | B45: 2021-02-208 | C45: 1 | D45: ROMERAL | E45: LOT-085-GUA-100-LA_MOSCA | F45: Guarne | G45: R. 112-5304-2016 - Río Negro - Tramo: 12 - Quebrada La Mosca | H45: Quebrada La Mosca | I45: 06°18'32,19" | J45: 75°27'33,70" | K45: 44229 | L45: feb | M45: Seco | N45: 269 | O45: 0.38 | P45: 0.14 | Q45: 0.06 | R45: 0.7 | S45: 10 | T45: 7.5 | U45: 98.3 | V45: 15.7 | W45: 7.24 | X45: 85.6 | Y45: 74.32
A46: 2021 | B46: 2021-11-2228 | C46: 1 | D46: ROMERAL | E46: LOT-085-GUA-100-LA_MOSCA | F46: Guarne | G46: R. 112-5304-2016 - Río Negro - Tramo: 12 - Quebrada La Mosca | H46: Quebrada La Mosca | I46: 06°18'32,19" | J46: 75°27'33,70" | K46: 44529 | L46: nov | M46: Lluvias | N46: 292 | O46: 0.8 | P46: 0.38 | Q46: 0.22 | R46: 0.1 | S46: 0 | T46: 7.43 | U46: 100.4 | V46: 17 | W46: 7.22 | X46: 50.45 | Y46: 355.31
A47: 2022 | B47: 2022-02-0214 | C47: 2 | D47: ESTACION MONTENEVADO | E47: LOT-199-RIO-100-RIO_NEGRO | F47: Rionegro | G47: R. 112-5304-2016 - Río Negro - Tramo: 3 - Río Negro | H47: Rio Negro | I47: 06°05'42,34" | J47: 75°28'32,82" | K47: 44614 | L47: feb | M47: Seco | N47: 132 | O47: 1.2 | P47: 0.4 | Q47: 0.2 | R47: 3.6 | S47: 20.7 | T47: 7.92 | U47: 99.3 | V47: 14.4 | W47: 6.885 | X47: 40.5 | Y47: 4735.5
...

Sheet TD historicos
A1: Tiempo | B1: Seco
A2: Fuente superficial | B2: Rio Negro
A4: Promedio de Color real λ=436 nm (m⁻¹) | B4: Etiquetas de columna
A5: Etiquetas de fila | B5: 2020 | C5: 2021 | D5: 2022 | E5: 2023 | F5: 2024 | G5: Total general
A6: 1 | B6: 0.8 | C6: 0.6 | D6: 1.3 | E6: 0.42 | F6: 1.1 | G6: 0.844
A7: 2 | B7: 0.6 | C7: 0.58 | D7: 1.2 | E7: 0.4 | F7: 0.56 | G7: 0.668
A8: 4 | B8: 0.5 | C8: 0.48 | D8: 1.4 | E8: 0.52 | F8: 1.06 | G8: 0.792
A9: 6 | B9: 0.3 | C9: 0.7 | D9: 1.1 | E9: 0.62 | F9: 0.66 | G9: 0.676
A10: 7 | B10: 0.4 | C10: 0.8 | D10: 1.1 | E10: 0.76 | F10: 1.1 | G10: 0.832
A11: 8 | B11: 0.4 | C11: 0.72 | D11: 1 | E11: 1.02 | F11: 0.82 | G11: 0.792
A12: 9 | B12: 1.4 | C12: 0.68 | D12: 1 | E12: 1.54 | F12: 2.34 | G12: 1.392
A13: 10 | B13: 1.1 | C13: 1.42 | D13: 1.1 | E13: 1.46 | F13: 1.82 | G13: 1.38
A14: 11 | B14: 1.3 | C14: 0.94 | D14: 0.9 | E14: 1.32 | F14: 1.28 | G14: 1.1133333
A15: 12 | B15: 1.1 | C15: 0.84 | D15: 0.9 | E15: 1 | F15: 1.4 | G15: 1.0133333
A16: Total general | B16: 0.79 | C16: 0.795 | D16: 1.1 | E16: 0.906 | F16: 1.214 | G16: 0.95461538

Sheet RN436
A2: Rio Negro | H2: Comportamiento estadistico por estación según historicos | O2: Mediciones por año en color para todos los tramos | U2: Todas las estaciones y mediciones
A3: Orden | B3: Estaciones | C3: =H30 -> λ=436 (m⁻¹) | D3: Año | E3: Año | F3: λ=436 (m⁻¹)
A4: {=_xlfn._xlws.FILTER(CHOOSE(1,'Resultados historicos'!C:C,'Resultados historicos'!D:D,'Resultados historicos'!O:O,'Resultados historicos'!A:A),'Resultados historicos'!H:H=A2)} -> 1 | B4: {=_xlfn._xlws.FILTER(CHOOSE(2,'Resultados historicos'!C:C,'Resultados historicos'!D:D,'Resultados historicos'!O:O,'Resultados historicos'!A:A),'Resultados historicos'!H:H=A2)} -> ESTACION EL HIERBAL | C4: {=_xlfn._xlws.FILTER(CHOOSE(3,'Resultados historicos'!C:C,'Resultados historicos'!D:D,'Resultados historicos'!O:O,'Resultados historicos'!A:A),'Resultados historicos'!H:H=A2)} -> 1.2 | D4: {=_xlfn._xlws.FILTER(CHOOSE(4,'Resultados historicos'!C:C,'Resultados historicos'!D:D,'Resultados historicos'!O:O,'Resultados historicos'!A:A),'Resultados historicos'!H:H=A2)} -> 2020 | E4: 2019 | F4: 0.3
A5: 1 | B5: ESTACION EL HIERBAL | C5: 0.9 | D5: 2020 | E5: 2019 | F5: 0.5
A6: 1 | B6: ESTACION EL HIERBAL | C6: 0.7 | D6: 2021 | E6: 2019 | F6: 0.6
A7: 1 | B7: ESTACION EL HIERBAL | C7: 0.3 | D7: 2019 | E7: 2019 | F7: 0.3
A8: 1 | B8: ESTACION EL HIERBAL | C8: 0.8 | D8: 2020 | E8: 2019 | F8: 0.4
A9: 1 | B9: ESTACION EL HIERBAL | C9: 0.6 | D9: 2021 | E9: 2019 | F9: 0.4
A10: 1 | B10: ESTACION EL HIERBAL | C10: 0.7 | D10: 2021 | E10: 2019 | F10: 0.4
A11: 1 | B11: ESTACION EL HIERBAL | C11: 1.3 | D11: 2022 | E11: 2019 | F11: 0.6
A12: 1 | B12: ESTACION EL HIERBAL | C12: 0.8 | D12: 2022 | E12: 2019 | F12: 0.8
A13: 1 | B13: ESTACION EL HIERBAL | C13: 0.5 | D13: 2022 | E13: 2019 | F13: 0.4
A14: 1 | B14: ESTACION EL HIERBAL | C14: 0.42 | D14: 2023 | E14: 2020 | F14: 1.2
A15: 1 | B15: ESTACION EL HIERBAL | C15: 0.32 | D15: 2023 | E15: 2020 | F15: 0.9
A16: 1 | B16: ESTACION EL HIERBAL | C16: 0.48 | D16: 2023 | E16: 2020 | F16: 0.8
... A20: 2 | B20: ESTACION MONTENEVADO | C20: 0.4 | D20: 2021 | E20: 2020 | F20: 0.5
A21: 2 | B21: ESTACION MONTENEVADO | C21: 0.5 | D21: 2019 | E21: 2020 | F21: 1.1 | O21: =H30 -> λ=436 (m⁻¹) | W21: =O21 -> λ=436 (m⁻¹)
A22: 2 | B22: ESTACION MONTENEVADO | C22: 0.6 | D22: 2020 | E22: 2020 | F22: 0.6 | O22: Año | P22: =J31 -> n | Q22: =K31 -> Mín | R22: =L31 -> Media | S22: =M31 -> Max | T22: =N31 -> DS | V22: Intervalo de confianza para n>30 | W22: Alerta | X22: Revisión | Y22: Aceptado
A23: 2 | B23: ESTACION MONTENEVADO | C23: 1.4 | D23: 2020 | E23: 2020 | F23: 0.3 | O23: {=_xlfn._xlws.SORT(_xlfn.UNIQUE(_xlfn.ANCHORARRAY(D4)))} -> 2019 | P23: =COUNTIF(_xlfn.ANCHORARRAY($D$4),O23) -> 10 | Q23: =_xlfn.MINIFS(_xlfn.ANCHORARRAY($C$4),_xlfn.ANCHORARRAY($D$4),O23) -> 0.3 | R23: =SUMIFS(_xlfn.ANCHORARRAY($C$4),_xlfn.ANCHORARRAY($D$4),O23)/P23 -> 0.47 | S23: =_xlfn.MAXIFS(_xlfn.ANCHORARRAY($C$4),_xlfn.ANCHORARRAY($D$4),O23) -> 0.8 | T23: {=_xlfn.STDEV.S(_xlfn._xlws.FILTER(_xlfn.ANCHORARRAY($C$4),_xlfn.ANCHORARRAY($D$4)=O23))} -> 0.15670212 | V23: Nivel de confianza | W23: 0.9 | X23: 0.95 | Y23: 0.99
A24: 2 | B24: ESTACION MONTENEVADO | C24: 0.8 | D24: 2020 | E24: 2020 | F24: 0.8 | O24: 2020 | P24: =COUNTIF(_xlfn.ANCHORARRAY($D$4),O24) -> 28 | Q24: =_xlfn.MINIFS(_xlfn.ANCHORARRAY($C$4),_xlfn.ANCHORARRAY($D$4),O24) -> 0.3 | R24: =SUMIFS(_xlfn.ANCHORARRAY($C$4),_xlfn.ANCHORARRAY($D$4),O24)/P24 -> 0.86785714 | S24: =_xlfn.MAXIFS(_xlfn.ANCHORARRAY($C$4),_xlfn.ANCHORARRAY($D$4),O24) -> 1.4 | T24: {=_xlfn.STDEV.S(_xlfn._xlws.FILTER(_xlfn.ANCHORARRAY($C$4),_xlfn.ANCHORARRAY($D$4)=O24))} -> 0.2881018 | V24: Nivel de significancia | W24: =1-W23 -> 0.1 | X24: =1-X23 -> 0.05 | Y24: =1-Y23 -> 0.01
A25: 2 | B25: ESTACION MONTENEVADO | C25: 0.58 | D25: 2021 | E25: 2020 | F25: 0.7 | O25: 2021 | P25: =COUNTIF(_xlfn.ANCHORARRAY($D$4),O25) -> 30 | Q25: =_xlfn.MINIFS(_xlfn.ANCHORARRAY($C$4),_xlfn.ANCHORARRAY($D$4),O25) -> 0.08 | R25: =SUMIFS(_xlfn.ANCHORARRAY($C$4),_xlfn.ANCHORARRAY($D$4),O25)/P25 -> 0.724 | S25: =_xlfn.MAXIFS(_xlfn.ANCHORARRAY($C$4),_xlfn.ANCHORARRAY($D$4),O25) -> 1.48 | T25: {=_xlfn.STDEV.S(_xlfn._xlws.FILTER(_xlfn.ANCHORARRAY($C$4),_xlfn.ANCHORARRAY($D$4)=O25))} -> 0.29629436 | V25: Z(1-a/2) | W25: =_xlfn.NORM.S.INV(1-(W24/2)) -> 1.6448536 | X25: =_xlfn.NORM.S.INV(1-(X24/2)) -> 1.959964 | Y25: =_xlfn.NORM.S.INV(1-(Y24/2)) -> 2.5758293
A26: 2 | B26: ESTACION MONTENEVADO | C26: 0.6 | D26: 2021 | E26: 2020 | F26: 0.9 | O26: 2022 | P26: =COUNTIF(_xlfn.ANCHORARRAY($D$4),O26) -> 30 | Q26: =_xlfn.MINIFS(_xlfn.ANCHORARRAY($C$4),_xlfn.ANCHORARRAY($D$4),O26) -> 0.5 | R26: =SUMIFS(_xlfn.ANCHORARRAY($C$4),_xlfn.ANCHORARRAY($D$4),O26)/P26 -> 0.855 | S26: =_xlfn.MAXIFS(_xlfn.ANCHORARRAY($C$4),_xlfn.ANCHORARRAY($D$4),O26) -> 1.68 | T26: {=_xlfn.STDEV.S(_xlfn._xlws.FILTER(_xlfn.ANCHORARRAY($C$4),_xlfn.ANCHORARRAY($D$4)=O26))} -> 0.28491681 | V26: Intervalo de confianza | W26: =TEXT(R29,"0,00")&" ± "&TEXT((W25*T29/SQRT(P29)),"0,00") -> 0,82 ± 0,06 | X26: =TEXT(R29,"0,00")&" ± "&TEXT((X25*T29/SQRT(P29)),"0,00") -> 0,82 ± 0,07 | Y26: =TEXT(R29,"0,00")&" ± "&TEXT((Y25*T29/SQRT(P29)),"0,00") -> 0,82 ± 0,09
A27: 2 | B27: ESTACION MONTENEVADO | C27: 1.2 | D27: 2022 | E27: 2020 | F27: 0.9 | O27: 2023 | P27: =COUNTIF(_xlfn.ANCHORARRAY($D$4),O27) -> 30 | Q27: =_xlfn.MINIFS(_xlfn.ANCHORARRAY($C$4),_xlfn.ANCHORARRAY($D$4),O27) -> 0.24 | R27: =SUMIFS(_xlfn.ANCHORARRAY($C$4),_xlfn.ANCHORARRAY($D$4),O27)/P27 -> 0.60566667 | S27: =_xlfn.MAXIFS(_xlfn.ANCHORARRAY($C$4),_xlfn.ANCHORARRAY($D$4),O27) -> 1.54 | T27: {=_xlfn.STDEV.S(_xlfn._xlws.FILTER(_xlfn.ANCHORARRAY($C$4),_xlfn.ANCHORARRAY($D$4)=O27))} -> 0.36102998 | V27: L inf | W27: =R29-(W25*T29/SQRT(P29)) -> 0.76744277 | X27: =R29-(X25*T29/SQRT(P29)) -> 0.75686496 | Y27: =R29-(Y25*T29/SQRT(P29)) -> 0.73619121
A28: 2 | B28: ESTACION MONTENEVADO | C28: 0.6 | D28: 2022 | E28: 2020 | F28: 0.4 | O28: 2024 | P28: =COUNTIF(_xlfn.ANCHORARRAY($D$4),O28) -> 30 | Q28: =_xlfn.MINIFS(_xlfn.ANCHORARRAY($C$4),_xlfn.ANCHORARRAY($D$4),O28) -> 0.56 | R28: =SUMIFS(_xlfn.ANCHORARRAY($C$4),_xlfn.ANCHORARRAY($D$4),O28)/P28 -> 1.1813333 | S28: =_xlfn.MAXIFS(_xlfn.ANCHORARRAY($C$4),_xlfn.ANCHORARRAY($D$4),O28) -> 2.34 | T28: {=_xlfn.STDEV.S(_xlfn._xlws.FILTER(_xlfn.ANCHORARRAY($C$4),_xlfn.ANCHORARRAY($D$4)=O28))} -> 0.58469994 | V28: L sup | W28: =R29+(W25*T29/SQRT(P29)) -> 0.87787368 | X28: =R29+(X25*T29/SQRT(P29)) -> 0.8884515 | Y28: =R29+(Y25*T29/SQRT(P29)) -> 0.90912524
A29: 2 | B29: ESTACION MONTENEVADO | C29: 0.54 | D29: 2022 | E29: 2020 | F29: 0.8 | O29: Todos | P29: =SUM(P23:P28) -> 158 | R29: =AVERAGE(_xlfn.ANCHORARRAY(C4)) -> 0.82265823 | T29: =_xlfn.STDEV.S(_xlfn.ANCHORARRAY(C4)) -> 0.42195091
A30: 2 | B30: ESTACION MONTENEVADO | C30: 0.4 | D30: 2023 | E30: 2020 | F30: 1.2 | H30: ='Estadistico resumen'!$G$1 -> λ=436 (m⁻¹)
A31: 2 | B31: ESTACION MONTENEVADO | C31: 0.36 | D31: 2023 | E31: 2020 | F31: 0.4 | H31: Orden | I31: Estaciones | J31: ='Estadistico resumen'!$D$2 -> n | K31: Mín | L31: Media | M31: Max | N31: DS
A32: 2 | B32: ESTACION MONTENEVADO | C32: 0.34 | D32: 2023 | E32: 2020 | F32: 1.4 | H32: {=_xlfn._xlws.SORT(_xlfn.UNIQUE(_xlfn.ANCHORARRAY(A4)))} -> 1 | I32: =VLOOKUP(H32,$A$4:$B$161,2) -> ESTACION EL HIERBAL | J32: =COUNTIF(_xlfn.ANCHORARRAY($B$4),I32) -> 16 | K32: =_xlfn.MINIFS(_xlfn.ANCHORARRAY($C$4),_xlfn.ANCHORARRAY($B$4),I32) -> 0.3 | L32: =SUMIFS(_xlfn.ANCHORARRAY($C$4),_xlfn.ANCHORARRAY($B$4),I32)/J32 -> 0.72 | M32: =_xlfn.MAXIFS(_xlfn.ANCHORARRAY($C$4),_xlfn.ANCHORARRAY($B$4),I32) -> 1.3 | N32: {=_xlfn.STDEV.S(_xlfn._xlws.FILTER(_xlfn.ANCHORARRAY($C$4),_xlfn.ANCHORARRAY($B$4)=I32))} -> 0.29933259
A33: 2 | B33: ESTACION MONTENEVADO | C33: 0.56 | D33: 2024 | E33: 2020 | F33: 0.9 | H33: 2 | I33: =VLOOKUP(H33,$A$4:$B$161,2) -> ESTACION MONTENEVADO | J33: =COUNTIF(_xlfn.ANCHORARRAY($B$4),I33) -> 16 | K33: =_xlfn.MINIFS(_xlfn.ANCHORARRAY($C$4),_xlfn.ANCHORARRAY($B$4),I33) -> 0.34 | L33: =SUMIFS(_xlfn.ANCHORARRAY($C$4),_xlfn.ANCHORARRAY($B$4),I33)/J33 -> 0.72625 | M33: =_xlfn.MAXIFS(_xlfn.ANCHORARRAY($C$4),_xlfn.ANCHORARRAY($B$4),I33) -> 2.12 | N33: {=_xlfn.STDEV.S(_xlfn._xlws.FILTER(_xlfn.ANCHORARRAY($C$4),_xlfn.ANCHORARRAY($B$4)=I33))} -> 0.47021803
A34: 2 | B34: ESTACION MONTENEVADO | C34: 0.62 | D34: 2024 | E34: 2020 | F34: 1.1 | H34: 4 | I34: =VLOOKUP(H34,$A$4:$B$161,2) -> ESTACION CHARCOMANSO | J34: =COUNTIF(_xlfn.ANCHORARRAY($B$4),I34) -> 16 | K34: =_xlfn.MINIFS(_xlfn.ANCHORARRAY($C$4),_xlfn.ANCHORARRAY($B$4),I34) -> 0.44 | L34: =SUMIFS(_xlfn.ANCHORARRAY($C$4),_xlfn.ANCHORARRAY($B$4),I34)/J34 -> 0.775 | M34: =_xlfn.MAXIFS(_xlfn.ANCHORARRAY($C$4),_xlfn.ANCHORARRAY($B$4),I34) -> 1.82 | N34: {=_xlfn.STDEV.S(_xlfn._xlws.FILTER(_xlfn.ANCHORARRAY($C$4),_xlfn.ANCHORARRAY($B$4)=I34))} -> 0.3890844
A35: 2 | B35: ESTACION MONTENEVADO | C35: 2.12 | D35: 2024 | E35: 2020 | F35: 0.8 | H35: 6 | I35: =VLOOKUP(H35,$A$4:$B$161,2) -> ESTACION BOCATOMA MUNICIPIO DE RIONEGRO | J35: =COUNTIF(_xlfn.ANCHORARRAY($B$4),I35) -> 16 | K35: =_xlfn.MINIFS(_xlfn.ANCHORARRAY($C$4),_xlfn.ANCHORARRAY($B$4),I35) -> 0.3 | L35: =SUMIFS(_xlfn.ANCHORARRAY($C$4),_xlfn.ANCHORARRAY($B$4),I35)/J35 -> 0.6975 | M35: =_xlfn.MAXIFS(_xlfn.ANCHORARRAY($C$4),_xlfn.ANCHORARRAY($B$4),I35) -> 2.2 | N35: {=_xlfn.STDEV.S(_xlfn._xlws.FILTER(_xlfn.ANCHORARRAY($C$4),_xlfn.ANCHORARRAY($B$4)=I35))} -> 0.4541292
A36: 4 | B36: ESTACION CHARCOMANSO | C36: 1.06 | D36: 2024 | E36: 2020 | F36: 0.9 | H36: 7 | I36: =VLOOKUP(H36,$A$4:$B$161,2) -> ESTACION PUENTE REAL | J36: =COUNTIF(_xlfn.ANCHORARRAY($B$4),I36) -> 16 | K36: =_xlfn.MINIFS(_xlfn.ANCHORARRAY($C$4),_xlfn.ANCHORARRAY($B$4),I36) -> 0.3 | L36: =SUMIFS(_xlfn.ANCHORARRAY($C$4),_xlfn.ANCHORARRAY($B$4),I36)/J36 -> 0.755625 | M36: =_xlfn.MAXIFS(_xlfn.ANCHORARRAY($C$4),_xlfn.ANCHORARRAY($B$4),I36) -> 1.6 | N36: {=_xlfn.STDEV.S(_xlfn._xlws.FILTER(_xlfn.ANCHORARRAY($C$4),_xlfn.ANCHORARRAY($B$4)=I36))} -> 0.34134965
A37: 4 | B37: ESTACION CHARCOMANSO | C37: 0.6 | D37: 2024 | E37: 2020 | F37: 0.9 | H37: 8 | I37: =VLOOKUP(H37,$A$4:$B$161,2) -> ESTACION PUENTE ANTES DE LA EBAR EPRIO | J37: =COUNTIF(_xlfn.ANCHORARRAY($B$4),I37) -> 16 | K37: =_xlfn.MINIFS(_xlfn.ANCHORARRAY($C$4),_xlfn.ANCHORARRAY($B$4),I37) -> 0.24 | L37: =SUMIFS(_xlfn.ANCHORARRAY($C$4),_xlfn.ANCHORARRAY($B$4),I37)/J37 -> 0.8025 | M37: =_xlfn.MAXIFS(_xlfn.ANCHORARRAY($C$4),_xlfn.ANCHORARRAY($B$4),I37) -> 2.2 | N37: {=_xlfn.STDEV.S(_xlfn._xlws.FILTER(_xlfn.ANCHORARRAY($C$4),_xlfn.ANCHORARRAY($B$4)=I37))} -> 0.44547353
A38: 4 | B38: ESTACION CHARCOMANSO | C38: 1.82 | D38: 2024 | E38: 2020 | F38: 0.8 | H38: 9 | I38: =VLOOKUP(H38,$A$4:$B$161,2) -> ESTACION DESPUES DE LA DESCARGA DE LA PTARD MUNICIPIO DE RIONEGRO | J38: =COUNTIF(_xlfn.ANCHORARRAY($B$4),I38) -> 15 | K38: =_xlfn.MINIFS(_xlfn.ANCHORARRAY($C$4),_xlfn.ANCHORARRAY($B$4),I38) -> 0.28 | L38: =SUMIFS(_xlfn.ANCHORARRAY($C$4),_xlfn.ANCHORARRAY($B$4),I38)/J38 -> 1.0293333 | M38: =_xlfn.MAXIFS(_xlfn.ANCHORARRAY($C$4),_xlfn.ANCHORARRAY($B$4),I38) -> 2.34 | N38: {=_xlfn.STDEV.S(_xlfn._xlws.FILTER(_xlfn.ANCHORARRAY($C$4),_xlfn.ANCHORARRAY($B$4)=I38))} -> 0.55192477
A39: 4 | B39: ESTACION CHARCOMANSO | C39: 0.9 | D39: 2021 | E39: 2020 | F39: 1.3 | H39: 10 | I39: =VLOOKUP(H39,$A$4:$B$161,2) -> ESTACION PUENTE AUTOPISTA | J39: =COUNTIF(_xlfn.ANCHORARRAY($B$4),I39) -> 16 | K39: =_xlfn.MINIFS(_xlfn.ANCHORARRAY($C$4),_xlfn.ANCHORARRAY($B$4),I39) -> 0.08 | L39: =SUMIFS(_xlfn.ANCHORARRAY($C$4),_xlfn.ANCHORARRAY($B$4),I39)/J39 -> 0.965 | M39: =_xlfn.MAXIFS(_xlfn.ANCHORARRAY($C$4),_xlfn.ANCHORARRAY($B$4),I39) -> 1.82 | N39: {=_xlfn.STDEV.S(_xlfn._xlws.FILTER(_xlfn.ANCHORARRAY($C$4),_xlfn.ANCHORARRAY($B$4)=I39))} -> 0.47924941
A40: 4 | B40: ESTACION CHARCOMANSO | C40: 0.6 | D40: 2019 | E40: 2020 | F40: 0.8 | H40: 11 | I40: =VLOOKUP(H40,$A$4:$B$161,2) -> ESTACION LA FRESERA | J40: =COUNTIF(_xlfn.ANCHORARRAY($B$4),I40) -> 16 | K40: =_xlfn.MINIFS(_xlfn.ANCHORARRAY($C$4),_xlfn.ANCHORARRAY($B$4),I40) -> 0.3 | L40: =SUMIFS(_xlfn.ANCHORARRAY($C$4),_xlfn.ANCHORARRAY($B$4),I40)/J40 -> 0.93 | M40: =_xlfn.MAXIFS(_xlfn.ANCHORARRAY($C$4),_xlfn.ANCHORARRAY($B$4),I40) -> 1.86 | N40: {=_xlfn.STDEV.S(_xlfn._xlws.FILTER(_xlfn.ANCHORARRAY($C$4),_xlfn.ANCHORARRAY($B$4)=I40))} -> 0.41773995
A41: 4 | B41: ESTACION CHARCOMANSO | C41: 0.5 | D41: 2020 | E41: 2020 | F41: 1.1 | H41: 12 | I41: =VLOOKUP(H41,$A$4:$B$161,2) -> ESTACION RIO ABAJO | J41: =COUNTIF(_xlfn.ANCHORARRAY($B$4),I41) -> 15 | K41: =_xlfn.MINIFS(_xlfn.ANCHORARRAY($C$4),_xlfn.ANCHORARRAY($B$4),I41) -> 0.25 | L41: =SUMIFS(_xlfn.ANCHORARRAY($C$4),_xlfn.ANCHORARRAY($B$4),I41)/J41 -> 0.83933333 | M41: =_xlfn.MAXIFS(_xlfn.ANCHORARRAY($C$4),_xlfn.ANCHORARRAY($B$4),I41) -> 1.4 | N41: {=_xlfn.STDEV.S(_xlfn._xlws.FILTER(_xlfn.ANCHORARRAY($C$4),_xlfn.ANCHORARRAY($B$4)=I41))} -> 0.27251387
A42: 4 | B42: ESTACION CHARCOMANSO | C42: 1.1 | D42: 2020 | E42: 2021 | F42: 0.7
A43: 4 | B43: ESTACION CHARCOMANSO | C43: 0.6 | D43: 2020 | E43: 2021 | F43: 0.6
A44: 4 | B44: ESTACION CHARCOMANSO | C44: 0.48 | D44: 2021 | E44: 2021 | F44: 0.7
...

Sheet RN525
A2: Rio Negro | H2: Comportamiento estadistico por estación según historicos | O2: Mediciones por año en color para todos los tramos | U2: Todas las estaciones y mediciones
A3: Orden | B3: Estaciones | C3: =H30 -> λ=525 (m⁻¹) | D3: Año | E3: Año | F3: λ=436 (m⁻¹)
A4: {=_xlfn._xlws.FILTER(CHOOSE(1,'Resultados historicos'!C:C,'Resultados historicos'!D:D,'Resultados historicos'!O:O,'Resultados historicos'!A:A),'Resultados historicos'!H:H=A2)} -> 1 | B4: {=_xlfn._xlws.FILTER(CHOOSE(2,'Resultados historicos'!C:C,'Resultados historicos'!D:D,'Resultados historicos'!O:O,'Resultados historicos'!A:A),'Resultados historicos'!H:H=A2)} -> ESTACION EL HIERBAL | C4: {=_xlfn._xlws.FILTER(CHOOSE(3,'Resultados historicos'!C:C,'Resultados historicos'!D:D,'Resultados historicos'!P:P,'Resultados historicos'!A:A),'Resultados historicos'!H:H=A2)} -> 0.4 | D4: {=_xlfn._xlws.FILTER(CHOOSE(4,'Resultados historicos'!C:C,'Resultados historicos'!D:D,'Resultados historicos'!O:O,'Resultados historicos'!A:A),'Resultados historicos'!H:H=A2)} -> 2020 | E4: 2019 | F4: 0.1
A5: 1 | B5: ESTACION EL HIERBAL | C5: 0.4 | D5: 2020 | E5: 2019 | F5: 0.1
A6: 1 | B6: ESTACION EL HIERBAL | C6: 0.3 | D6: 2021 | E6: 2019 | F6: 0.1
A7: 1 | B7: ESTACION EL HIERBAL | C7: 0.1 | D7: 2019 | E7: 2019 | F7: 0.1
A8: 1 | B8: ESTACION EL HIERBAL | C8: 0.3 | D8: 2020 | E8: 2019 | F8: 0.1
A9: 1 | B9: ESTACION EL HIERBAL | C9: 0.26 | D9: 2021 | E9: 2019 | F9: 0.1
A10: 1 | B10: ESTACION EL HIERBAL | C10: 0.3 | D10: 2021 | E10: 2019 | F10: 0.1
A11: 1 | B11: ESTACION EL HIERBAL | C11: 0.4 | D11: 2022 | E11: 2019 | F11: 0.2
A12: 1 | B12: ESTACION EL HIERBAL | C12: 0.3 | D12: 2022 | E12: 2019 | F12: 0.3
A13: 1 | B13: ESTACION EL HIERBAL | C13: 0.18 | D13: 2022 | E13: 2019 | F13: 0.1
A14: 1 | B14: ESTACION EL HIERBAL | C14: 0.16 | D14: 2023 | E14: 2020 | F14: 0.4
A15: 1 | B15: ESTACION EL HIERBAL | C15: 0.1 | D15: 2023 | E15: 2020 | F15: 0.4
A16: 1 | B16: ESTACION EL HIERBAL | C16: 0.18 | D16: 2023 | E16: 2020 | F16: 0.3
... A20: 2 | B20: ESTACION MONTENEVADO | C20: 0.1 | D20: 2021 | E20: 2020 | F20: 0.2
A21: 2 | B21: ESTACION MONTENEVADO | C21: 0.1 | D21: 2019 | E21: 2020 | F21: 0.3 | O21: =H30 -> λ=525 (m⁻¹) | W21: =O21 -> λ=525 (m⁻¹)
A22: 2 | B22: ESTACION MONTENEVADO | C22: 0.3 | D22: 2020 | E22: 2020 | F22: 0.3 | O22: Año | P22: =J31 -> n | Q22: =K31 -> Mín | R22: =L31 -> Media | S22: =M31 -> Max | T22: =N31 -> DS | V22: Intervalo de confianza para n>30 | W22: Alerta | X22: Revisión | Y22: Aceptado
A23: 2 | B23: ESTACION MONTENEVADO | C23: 0.5 | D23: 2020 | E23: 2020 | F23: 0.1 | O23: {=_xlfn._xlws.SORT(_xlfn.UNIQUE(_xlfn.ANCHORARRAY(D4)))} -> 2019 | P23: =COUNTIF(_xlfn.ANCHORARRAY($D$4),O23) -> 10 | Q23: =_xlfn.MINIFS(_xlfn.ANCHORARRAY($C$4),_xlfn.ANCHORARRAY($D$4),O23) -> 0.1 | R23: =SUMIFS(_xlfn.ANCHORARRAY($C$4),_xlfn.ANCHORARRAY($D$4),O23)/P23 -> 0.13 | S23: =_xlfn.MAXIFS(_xlfn.ANCHORARRAY($C$4),_xlfn.ANCHORARRAY($D$4),O23) -> 0.3 | T23: {=_xlfn.STDEV.S(_xlfn._xlws.FILTER(_xlfn.ANCHORARRAY($C$4),_xlfn.ANCHORARRAY($D$4)=O23))} -> 0.067494856 | V23: Nivel de confianza | W23: 0.9 | X23: 0.95 | Y23: 0.99
A24: 2 | B24: ESTACION MONTENEVADO | C24: 0.4 | D24: 2020 | E24: 2020 | F24: 0.2 | O24: 2020 | P24: =COUNTIF(_xlfn.ANCHORARRAY($D$4),O24) -> 28 | Q24: =_xlfn.MINIFS(_xlfn.ANCHORARRAY($C$4),_xlfn.ANCHORARRAY($D$4),O24) -> 0.1 | R24: =SUMIFS(_xlfn.ANCHORARRAY($C$4),_xlfn.ANCHORARRAY($D$4),O24)/P24 -> 0.375 | S24: =_xlfn.MAXIFS(_xlfn.ANCHORARRAY($C$4),_xlfn.ANCHORARRAY($D$4),O24) -> 0.8 | T24: {=_xlfn.STDEV.S(_xlfn._xlws.FILTER(_xlfn.ANCHORARRAY($C$4),_xlfn.ANCHORARRAY($D$4)=O24))} -> 0.18584143 | V24: Nivel de significancia | W24: =1-W23 -> 0.1 | X24: =1-X23 -> 0.05 | Y24: =1-Y23 -> 0.01
A25: 2 | B25: ESTACION MONTENEVADO | C25: 0.34 | D25: 2021 | E25: 2020 | F25: 0.3 | O25: 2021 | P25: =COUNTIF(_xlfn.ANCHORARRAY($D$4),O25) -> 30 | Q25: =_xlfn.MINIFS(_xlfn.ANCHORARRAY($C$4),_xlfn.ANCHORARRAY($D$4),O25) -> 0.1 | R25: =SUMIFS(_xlfn.ANCHORARRAY($C$4),_xlfn.ANCHORARRAY($D$4),O25)/P25 -> 0.396 | S25: =_xlfn.MAXIFS(_xlfn.ANCHORARRAY($C$4),_xlfn.ANCHORARRAY($D$4),O25) -> 1.06 | T25: {=_xlfn.STDEV.S(_xlfn._xlws.FILTER(_xlfn.ANCHORARRAY($C$4),_xlfn.ANCHORARRAY($D$4)=O25))} -> 0.20998522 | V25: Z(1-a/2) | W25: =_xlfn.NORM.S.INV(1-(W24/2)) -> 1.6448536 | X25: =_xlfn.NORM.S.INV(1-(X24/2)) -> 1.959964 | Y25: =_xlfn.NORM.S.INV(1-(Y24/2)) -> 2.5758293
A26: 2 | B26: ESTACION MONTENEVADO | C26: 0.3 | D26: 2021 | E26: 2020 | F26: 0.2 | O26: 2022 | P26: =COUNTIF(_xlfn.ANCHORARRAY($D$4),O26) -> 30 | Q26: =_xlfn.MINIFS(_xlfn.ANCHORARRAY($C$4),_xlfn.ANCHORARRAY($D$4),O26) -> 0.18 | R26: =SUMIFS(_xlfn.ANCHORARRAY($C$4),_xlfn.ANCHORARRAY($D$4),O26)/P26 -> 0.35733333 | S26: =_xlfn.MAXIFS(_xlfn.ANCHORARRAY($C$4),_xlfn.ANCHORARRAY($D$4),O26) -> 0.98 | T26: {=_xlfn.STDEV.S(_xlfn._xlws.FILTER(_xlfn.ANCHORARRAY($C$4),_xlfn.ANCHORARRAY($D$4)=O26))} -> 0.14304408 | V26: Intervalo de confianza | W26: =TEXT(R29,"0,00")&" ± "&TEXT((W25*T29/SQRT(P29)),"0,00") -> 0,40 ± 0,04 | X26: =TEXT(R29,"0,00")&" ± "&TEXT((X25*T29/SQRT(P29)),"0,00") -> 0,40 ± 0,05 | Y26: =TEXT(R29,"0,00")&" ± "&TEXT((Y25*T29/SQRT(P29)),"0,00") -> 0,40 ± 0,06
A27: 2 | B27: ESTACION MONTENEVADO | C27: 0.4 | D27: 2022 | E27: 2020 | F27: 0.4 | O27: 2023 | P27: =COUNTIF(_xlfn.ANCHORARRAY($D$4),O27) -> 30 | Q27: =_xlfn.MINIFS(_xlfn.ANCHORARRAY($C$4),_xlfn.ANCHORARRAY($D$4),O27) -> 0.08 | R27: =SUMIFS(_xlfn.ANCHORARRAY($C$4),_xlfn.ANCHORARRAY($D$4),O27)/P27 -> 0.26733333 | S27: =_xlfn.MAXIFS(_xlfn.ANCHORARRAY($C$4),_xlfn.ANCHORARRAY($D$4),O27) -> 0.94 | T27: {=_xlfn.STDEV.S(_xlfn._xlws.FILTER(_xlfn.ANCHORARRAY($C$4),_xlfn.ANCHORARRAY($D$4)=O27))} -> 0.22544872 | V27: L inf | W27: =R29-(W25*T29/SQRT(P29)) -> 0.35934101 | X27: =R29-(X25*T29/SQRT(P29)) -> 0.35152758 | Y27: =R29-(Y25*T29/SQRT(P29)) -> 0.33625666
A28: 2 | B28: ESTACION MONTENEVADO | C28: 0.3 | D28: 2022 | E28: 2020 | F28: 0.2 | O28: 2024 | P28: =COUNTIF(_xlfn.ANCHORARRAY($D$4),O28) -> 30 | Q28: =_xlfn.MINIFS(_xlfn.ANCHORARRAY($C$4),_xlfn.ANCHORARRAY($D$4),O28) -> 0.22 | R28: =SUMIFS(_xlfn.ANCHORARRAY($C$4),_xlfn.ANCHORARRAY($D$4),O28)/P28 -> 0.69333333 | S28: =_xlfn.MAXIFS(_xlfn.ANCHORARRAY($C$4),_xlfn.ANCHORARRAY($D$4),O28) -> 1.78 | T28: {=_xlfn.STDEV.S(_xlfn._xlws.FILTER(_xlfn.ANCHORARRAY($C$4),_xlfn.ANCHORARRAY($D$4)=O28))} -> 0.49204242 | V28: L sup | W28: =R29+(W25*T29/SQRT(P29)) -> 0.44091215 | X28: =R29+(X25*T29/SQRT(P29)) -> 0.44872559 | Y28: =R29+(Y25*T29/SQRT(P29)) -> 0.4639965
A29: 2 | B29: ESTACION MONTENEVADO | C29: 0.22 | D29: 2022 | E29: 2020 | F29: 0.2 | O29: Todos | P29: =SUM(P23:P28) -> 158 | R29: =AVERAGE(_xlfn.ANCHORARRAY(C4)) -> 0.40012658 | T29: =_xlfn.STDEV.S(_xlfn.ANCHORARRAY(C4)) -> 0.31167921
A30: 2 | B30: ESTACION MONTENEVADO | C30: 0.14 | D30: 2023 | E30: 2020 | F30: 0.6 | H30: ='Estadistico resumen'!K1 -> λ=525 (m⁻¹)
A31: 2 | B31: ESTACION MONTENEVADO | C31: 0.1 | D31: 2023 | E31: 2020 | F31: 0.1 | H31: Orden | I31: Estaciones | J31: ='Estadistico resumen'!$D$2 -> n | K31: Mín | L31: Media | M31: Max | N31: DS
A32: 2 | B32: ESTACION MONTENEVADO | C32: 0.16 | D32: 2023 | E32: 2020 | F32: 0.8 | H32: {=_xlfn._xlws.SORT(_xlfn.UNIQUE(_xlfn.ANCHORARRAY(A4)))} -> 1 | I32: =VLOOKUP(H32,$A$4:$B$161,2) -> ESTACION EL HIERBAL | J32: =COUNTIF(_xlfn.ANCHORARRAY($B$4),I32) -> 16 | K32: =_xlfn.MINIFS(_xlfn.ANCHORARRAY($C$4),_xlfn.ANCHORARRAY($B$4),I32) -> 0.1 | L32: =SUMIFS(_xlfn.ANCHORARRAY($C$4),_xlfn.ANCHORARRAY($B$4),I32)/J32 -> 0.28625 | M32: =_xlfn.MAXIFS(_xlfn.ANCHORARRAY($C$4),_xlfn.ANCHORARRAY($B$4),I32) -> 0.54 | N32: {=_xlfn.STDEV.S(_xlfn._xlws.FILTER(_xlfn.ANCHORARRAY($C$4),_xlfn.ANCHORARRAY($B$4)=I32))} -> 0.12015962
A33: 2 | B33: ESTACION MONTENEVADO | C33: 0.22 | D33: 2024 | E33: 2020 | F33: 0.4 | H33: 2 | I33: =VLOOKUP(H33,$A$4:$B$161,2) -> ESTACION MONTENEVADO | J33: =COUNTIF(_xlfn.ANCHORARRAY($B$4),I33) -> 16 | K33: =_xlfn.MINIFS(_xlfn.ANCHORARRAY($C$4),_xlfn.ANCHORARRAY($B$4),I33) -> 0.1 | L33: =SUMIFS(_xlfn.ANCHORARRAY($C$4),_xlfn.ANCHORARRAY($B$4),I33)/J33 -> 0.35125 | M33: =_xlfn.MAXIFS(_xlfn.ANCHORARRAY($C$4),_xlfn.ANCHORARRAY($B$4),I33) -> 1.78 | N33: {=_xlfn.STDEV.S(_xlfn._xlws.FILTER(_xlfn.ANCHORARRAY($C$4),_xlfn.ANCHORARRAY($B$4)=I33))} -> 0.3991303
A34: 2 | B34: ESTACION MONTENEVADO | C34: 0.26 | D34: 2024 | E34: 2020 | F34: 0.7 | H34: 4 | I34: =VLOOKUP(H34,$A$4:$B$161,2) -> ESTACION CHARCOMANSO | J34: =COUNTIF(_xlfn.ANCHORARRAY($B$4),I34) -> 16 | K34: =_xlfn.MINIFS(_xlfn.ANCHORARRAY($C$4),_xlfn.ANCHORARRAY($B$4),I34) -> 0.1 | L34: =SUMIFS(_xlfn.ANCHORARRAY($C$4),_xlfn.ANCHORARRAY($B$4),I34)/J34 -> 0.34375 | M34: =_xlfn.MAXIFS(_xlfn.ANCHORARRAY($C$4),_xlfn.ANCHORARRAY($B$4),I34) -> 1.38 | N34: {=_xlfn.STDEV.S(_xlfn._xlws.FILTER(_xlfn.ANCHORARRAY($C$4),_xlfn.ANCHORARRAY($B$4)=I34))} -> 0.29970819
A35: 2 | B35: ESTACION MONTENEVADO | C35: 1.78 | D35: 2024 | E35: 2020 | F35: 0.3 | H35: 6 | I35: =VLOOKUP(H35,$A$4:$B$161,2) -> ESTACION BOCATOMA MUNICIPIO DE RIONEGRO | J35: =COUNTIF(_xlfn.ANCHORARRAY($B$4),I35) -> 16 | K35: =_xlfn.MINIFS(_xlfn.ANCHORARRAY($C$4),_xlfn.ANCHORARRAY($B$4),I35) -> 0.1 | L35: =SUMIFS(_xlfn.ANCHORARRAY($C$4),_xlfn.ANCHORARRAY($B$4),I35)/J35 -> 0.32 | M35: =_xlfn.MAXIFS(_xlfn.ANCHORARRAY($C$4),_xlfn.ANCHORARRAY($B$4),I35) -> 1.7 | N35: {=_xlfn.STDEV.S(_xlfn._xlws.FILTER(_xlfn.ANCHORARRAY($C$4),_xlfn.ANCHORARRAY($B$4)=I35))} -> 0.38045587
A36: 4 | B36: ESTACION CHARCOMANSO | C36: 0.4 | D36: 2024 | E36: 2020 | F36: 0.4 | H36: 7 | I36: =VLOOKUP(H36,$A$4:$B$161,2) -> ESTACION PUENTE REAL | J36: =COUNTIF(_xlfn.ANCHORARRAY($B$4),I36) -> 16 | K36: =_xlfn.MINIFS(_xlfn.ANCHORARRAY($C$4),_xlfn.ANCHORARRAY($B$4),I36) -> 0.08 | L36: =SUMIFS(_xlfn.ANCHORARRAY($C$4),_xlfn.ANCHORARRAY($B$4),I36)/J36 -> 0.345 | M36: =_xlfn.MAXIFS(_xlfn.ANCHORARRAY($C$4),_xlfn.ANCHORARRAY($B$4),I36) -> 1.26 | N36: {=_xlfn.STDEV.S(_xlfn._xlws.FILTER(_xlfn.ANCHORARRAY($C$4),_xlfn.ANCHORARRAY($B$4)=I36))} -> 0.2810931
A37: 4 | B37: ESTACION CHARCOMANSO | C37: 0.3 | D37: 2024 | E37: 2020 | F37: 0.3 | H37: 8 | I37: =VLOOKUP(H37,$A$4:$B$161,2) -> ESTACION PUENTE ANTES DE LA EBAR EPRIO | J37: =COUNTIF(_xlfn.ANCHORARRAY($B$4),I37) -> 16 | K37: =_xlfn.MINIFS(_xlfn.ANCHORARRAY($C$4),_xlfn.ANCHORARRAY($B$4),I37) -> 0.08 | L37: =SUMIFS(_xlfn.ANCHORARRAY($C$4),_xlfn.ANCHORARRAY($B$4),I37)/J37 -> 0.3625 | M37: =_xlfn.MAXIFS(_xlfn.ANCHORARRAY($C$4),_xlfn.ANCHORARRAY($B$4),I37) -> 1.46 | N37: {=_xlfn.STDEV.S(_xlfn._xlws.FILTER(_xlfn.ANCHORARRAY($C$4),_xlfn.ANCHORARRAY($B$4)=I37))} -> 0.32247997
A38: 4 | B38: ESTACION CHARCOMANSO | C38: 1.38 | D38: 2024 | E38: 2020 | F38: 0.4 | H38: 9 | I38: =VLOOKUP(H38,$A$4:$B$161,2) -> ESTACION DESPUES DE LA DESCARGA DE LA PTARD MUNICIPIO DE RIONEGRO | J38: =COUNTIF(_xlfn.ANCHORARRAY($B$4),I38) -> 15 | K38: =_xlfn.MINIFS(_xlfn.ANCHORARRAY($C$4),_xlfn.ANCHORARRAY($B$4),I38) -> 0.1 | L38: =SUMIFS(_xlfn.ANCHORARRAY($C$4),_xlfn.ANCHORARRAY($B$4),I38)/J38 -> 0.53466667 | M38: =_xlfn.MAXIFS(_xlfn.ANCHORARRAY($C$4),_xlfn.ANCHORARRAY($B$4),I38) -> 1.38 | N38: {=_xlfn.STDEV.S(_xlfn._xlws.FILTER(_xlfn.ANCHORARRAY($C$4),_xlfn.ANCHORARRAY($B$4)=I38))} -> 0.37747028
A39: 4 | B39: ESTACION CHARCOMANSO | C39: 0.5 | D39: 2021 | E39: 2020 | F39: 0.8 | H39: 10 | I39: =VLOOKUP(H39,$A$4:$B$161,2) -> ESTACION PUENTE AUTOPISTA | J39: =COUNTIF(_xlfn.ANCHORARRAY($B$4),I39) -> 16 | K39: =_xlfn.MINIFS(_xlfn.ANCHORARRAY($C$4),_xlfn.ANCHORARRAY($B$4),I39) -> 0.16 | L39: =SUMIFS(_xlfn.ANCHORARRAY($C$4),_xlfn.ANCHORARRAY($B$4),I39)/J39 -> 0.54375 | M39: =_xlfn.MAXIFS(_xlfn.ANCHORARRAY($C$4),_xlfn.ANCHORARRAY($B$4),I39) -> 1.02 | N39: {=_xlfn.STDEV.S(_xlfn._xlws.FILTER(_xlfn.ANCHORARRAY($C$4),_xlfn.ANCHORARRAY($B$4)=I39))} -> 0.29386788
A40: 4 | B40: ESTACION CHARCOMANSO | C40: 0.1 | D40: 2019 | E40: 2020 | F40: 0.4 | H40: 11 | I40: =VLOOKUP(H40,$A$4:$B$161,2) -> ESTACION LA FRESERA | J40: =COUNTIF(_xlfn.ANCHORARRAY($B$4),I40) -> 16 | K40: =_xlfn.MINIFS(_xlfn.ANCHORARRAY($C$4),_xlfn.ANCHORARRAY($B$4),I40) -> 0.12 | L40: =SUMIFS(_xlfn.ANCHORARRAY($C$4),_xlfn.ANCHORARRAY($B$4),I40)/J40 -> 0.505 | M40: =_xlfn.MAXIFS(_xlfn.ANCHORARRAY($C$4),_xlfn.ANCHORARRAY($B$4),I40) -> 1.22 | N40: {=_xlfn.STDEV.S(_xlfn._xlws.FILTER(_xlfn.ANCHORARRAY($C$4),_xlfn.ANCHORARRAY($B$4)=I40))} -> 0.30519939
A41: 4 | B41: ESTACION CHARCOMANSO | C41: 0.2 | D41: 2020 | E41: 2020 | F41: 0.6 | H41: 12 | I41: =VLOOKUP(H41,$A$4:$B$161,2) -> ESTACION RIO ABAJO | J41: =COUNTIF(_xlfn.ANCHORARRAY($B$4),I41) -> 15 | K41: =_xlfn.MINIFS(_xlfn.ANCHORARRAY($C$4),_xlfn.ANCHORARRAY($B$4),I41) -> 0.08 | L41: =SUMIFS(_xlfn.ANCHORARRAY($C$4),_xlfn.ANCHORARRAY($B$4),I41)/J41 -> 0.41866667 | M41: =_xlfn.MAXIFS(_xlfn.ANCHORARRAY($C$4),_xlfn.ANCHORARRAY($B$4),I41) -> 0.74 | N41: {=_xlfn.STDEV.S(_xlfn._xlws.FILTER(_xlfn.ANCHORARRAY($C$4),_xlfn.ANCHORARRAY($B$4)=I41))} -> 0.17751727
A42: 4 | B42: ESTACION CHARCOMANSO | C42: 0.3 | D42: 2020 | E42: 2021 | F42: 0.3
A43: 4 | B43: ESTACION CHARCOMANSO | C43: 0.3 | D43: 2020 | E43: 2021 | F43: 0.26
A44: 4 | B44: ESTACION CHARCOMANSO | C44: 0.18 | D44: 2021 | E44: 2021 | F44: 0.3
...

Sheet RN620
A2: Rio Negro | H2: Comportamiento estadistico por estación según historicos | O2: Mediciones por año en color para todos los tramos | U2: Todas las estaciones y mediciones
A3: Orden | B3: Estaciones | C3: =H30 -> λ=620 (m⁻¹) | D3: Año | E3: Año | F3: λ=436 (m⁻¹)
A4: {=_xlfn._xlws.FILTER(CHOOSE(1,'Resultados historicos'!C:C,'Resultados historicos'!D:D,'Resultados historicos'!O:O,'Resultados historicos'!A:A),'Resultados historicos'!H:H=A2)} -> 1 | B4: {=_xlfn._xlws.FILTER(CHOOSE(2,'Resultados historicos'!C:C,'Resultados historicos'!D:D,'Resultados historicos'!O:O,'Resultados historicos'!A:A),'Resultados historicos'!H:H=A2)} -> ESTACION EL HIERBAL | C4: {=_xlfn._xlws.FILTER(CHOOSE(3,'Resultados historicos'!C:C,'Resultados historicos'!D:D,'Resultados historicos'!Q:Q,'Resultados historicos'!A:A),'Resultados historicos'!H:H=A2)} -> 0.1 | D4: {=_xlfn._xlws.FILTER(CHOOSE(4,'Resultados historicos'!C:C,'Resultados historicos'!D:D,'Resultados historicos'!O:O,'Resultados historicos'!A:A),'Resultados historicos'!H:H=A2)} -> 2020 | E4: 2019 | F4: 0.1
A5: 1 | B5: ESTACION EL HIERBAL | C5: 0.3 | D5: 2020 | E5: 2019 | F5: 0.1
A6: 1 | B6: ESTACION EL HIERBAL | C6: 0.2 | D6: 2021 | E6: 2019 | F6: 0.1
A7: 1 | B7: ESTACION EL HIERBAL | C7: 0.1 | D7: 2019 | E7: 2019 | F7: 0.1
A8: 1 | B8: ESTACION EL HIERBAL | C8: 0.2 | D8: 2020 | E8: 2019 | F8: 0.1
A9: 1 | B9: ESTACION EL HIERBAL | C9: 0.18 | D9: 2021 | E9: 2019 | F9: 0.1
A10: 1 | B10: ESTACION EL HIERBAL | C10: 0.2 | D10: 2021 | E10: 2019 | F10: 0.1
A11: 1 | B11: ESTACION EL HIERBAL | C11: 0.2 | D11: 2022 | E11: 2019 | F11: 0.1
A12: 1 | B12: ESTACION EL HIERBAL | C12: 0.2 | D12: 2022 | E12: 2019 | F12: 0.1
A13: 1 | B13: ESTACION EL HIERBAL | C13: 0.06 | D13: 2022 | E13: 2019 | F13: 0.1
A14: 1 | B14: ESTACION EL HIERBAL | C14: 0.08 | D14: 2023 | E14: 2020 | F14: 0.1
A15: 1 | B15: ESTACION EL HIERBAL | C15: 0.04 | D15: 2023 | E15: 2020 | F15: 0.3
A16: 1 | B16: ESTACION EL HIERBAL | C16: 0.08 | D16: 2023 | E16: 2020 | F16: 0.2
... A20: 2 | B20: ESTACION MONTENEVADO | C20: 0.1 | D20: 2021 | E20: 2020 | F20: 0.1
A21: 2 | B21: ESTACION MONTENEVADO | C21: 0.1 | D21: 2019 | E21: 2020 | F21: 0.1 | O21: =H30 -> λ=620 (m⁻¹) | W21: =O21 -> λ=620 (m⁻¹)
A22: 2 | B22: ESTACION MONTENEVADO | C22: 0.2 | D22: 2020 | E22: 2020 | F22: 0.2 | O22: Año | P22: =J31 -> n | Q22: =K31 -> Mín | R22: =L31 -> Media | S22: =M31 -> Max | T22: =N31 -> DS | V22: Intervalo de confianza para n>30 | W22: Alerta | X22: Revisión | Y22: Aceptado
A23: 2 | B23: ESTACION MONTENEVADO | C23: 0.1 | D23: 2020 | E23: 2020 | F23: 0.1 | O23: {=_xlfn._xlws.SORT(_xlfn.UNIQUE(_xlfn.ANCHORARRAY(D4)))} -> 2019 | P23: =COUNTIF(_xlfn.ANCHORARRAY($D$4),O23) -> 10 | Q23: =_xlfn.MINIFS(_xlfn.ANCHORARRAY($C$4),_xlfn.ANCHORARRAY($D$4),O23) -> 0.1 | R23: =SUMIFS(_xlfn.ANCHORARRAY($C$4),_xlfn.ANCHORARRAY($D$4),O23)/P23 -> 0.1 | S23: =_xlfn.MAXIFS(_xlfn.ANCHORARRAY($C$4),_xlfn.ANCHORARRAY($D$4),O23) -> 0.1 | T23: {=_xlfn.STDEV.S(_xlfn._xlws.FILTER(_xlfn.ANCHORARRAY($C$4),_xlfn.ANCHORARRAY($D$4)=O23))} -> 1.4628473e-17 | V23: Nivel de confianza | W23: 0.9 | X23: 0.95 | Y23: 0.99
A24: 2 | B24: ESTACION MONTENEVADO | C24: 0.3 | D24: 2020 | E24: 2020 | F24: 0.1 | O24: 2020 | P24: =COUNTIF(_xlfn.ANCHORARRAY($D$4),O24) -> 28 | Q24: =_xlfn.MINIFS(_xlfn.ANCHORARRAY($C$4),_xlfn.ANCHORARRAY($D$4),O24) -> 0.1 | R24: =SUMIFS(_xlfn.ANCHORARRAY($C$4),_xlfn.ANCHORARRAY($D$4),O24)/P24 -> 0.19285714 | S24: =_xlfn.MAXIFS(_xlfn.ANCHORARRAY($C$4),_xlfn.ANCHORARRAY($D$4),O24) -> 0.5 | T24: {=_xlfn.STDEV.S(_xlfn._xlws.FILTER(_xlfn.ANCHORARRAY($C$4),_xlfn.ANCHORARRAY($D$4)=O24))} -> 0.10862293 | V24: Nivel de significancia | W24: =1-W23 -> 0.1 | X24: =1-X23 -> 0.05 | Y24: =1-Y23 -> 0.01
A25: 2 | B25: ESTACION MONTENEVADO | C25: 0.24 | D25: 2021 | E25: 2020 | F25: 0.2 | O25: 2021 | P25: =COUNTIF(_xlfn.ANCHORARRAY($D$4),O25) -> 30 | Q25: =_xlfn.MINIFS(_xlfn.ANCHORARRAY($C$4),_xlfn.ANCHORARRAY($D$4),O25) -> 0.08 | R25: =SUMIFS(_xlfn.ANCHORARRAY($C$4),_xlfn.ANCHORARRAY($D$4),O25)/P25 -> 0.22466667 | S25: =_xlfn.MAXIFS(_xlfn.ANCHORARRAY($C$4),_xlfn.ANCHORARRAY($D$4),O25) -> 0.7 | T25: {=_xlfn.STDEV.S(_xlfn._xlws.FILTER(_xlfn.ANCHORARRAY($C$4),_xlfn.ANCHORARRAY($D$4)=O25))} -> 0.12700077 | V25: Z(1-a/2) | W25: =_xlfn.NORM.S.INV(1-(W24/2)) -> 1.6448536 | X25: =_xlfn.NORM.S.INV(1-(X24/2)) -> 1.959964 | Y25: =_xlfn.NORM.S.INV(1-(Y24/2)) -> 2.5758293
A26: 2 | B26: ESTACION MONTENEVADO | C26: 0.2 | D26: 2021 | E26: 2020 | F26: 0.1 | O26: 2022 | P26: =COUNTIF(_xlfn.ANCHORARRAY($D$4),O26) -> 30 | Q26: =_xlfn.MINIFS(_xlfn.ANCHORARRAY($C$4),_xlfn.ANCHORARRAY($D$4),O26) -> 0.06 | R26: =SUMIFS(_xlfn.ANCHORARRAY($C$4),_xlfn.ANCHORARRAY($D$4),O26)/P26 -> 0.20166667 | S26: =_xlfn.MAXIFS(_xlfn.ANCHORARRAY($C$4),_xlfn.ANCHORARRAY($D$4),O26) -> 0.64 | T26: {=_xlfn.STDEV.S(_xlfn._xlws.FILTER(_xlfn.ANCHORARRAY($C$4),_xlfn.ANCHORARRAY($D$4)=O26))} -> 0.10550644 | V26: Intervalo de confianza | W26: =TEXT(R29,"0,00")&" ± "&TEXT((W25*T29/SQRT(P29)),"0,00") -> 0,25 ± 0,03 | X26: =TEXT(R29,"0,00")&" ± "&TEXT((X25*T29/SQRT(P29)),"0,00") -> 0,25 ± 0,04 | Y26: =TEXT(R29,"0,00")&" ± "&TEXT((Y25*T29/SQRT(P29)),"0,00") -> 0,25 ± 0,05
A27: 2 | B27: ESTACION MONTENEVADO | C27: 0.2 | D27: 2022 | E27: 2020 | F27: 0.2 | O27: 2023 | P27: =COUNTIF(_xlfn.ANCHORARRAY($D$4),O27) -> 30 | Q27: =_xlfn.MINIFS(_xlfn.ANCHORARRAY($C$4),_xlfn.ANCHORARRAY($D$4),O27) -> 0.02 | R27: =SUMIFS(_xlfn.ANCHORARRAY($C$4),_xlfn.ANCHORARRAY($D$4),O27)/P27 -> 0.14933333 | S27: =_xlfn.MAXIFS(_xlfn.ANCHORARRAY($C$4),_xlfn.ANCHORARRAY($D$4),O27) -> 0.7 | T27: {=_xlfn.STDEV.S(_xlfn._xlws.FILTER(_xlfn.ANCHORARRAY($C$4),_xlfn.ANCHORARRAY($D$4)=O27))} -> 0.16254301 | V27: L inf | W27: =R29-(W25*T29/SQRT(P29)) -> 0.21266336 | X27: =R29-(X25*T29/SQRT(P29)) -> 0.20598352 | Y27: =R29-(Y25*T29/SQRT(P29)) -> 0.19292816
A28: 2 | B28: ESTACION MONTENEVADO | C28: 0.2 | D28: 2022 | E28: 2020 | F28: 0.1 | O28: 2024 | P28: =COUNTIF(_xlfn.ANCHORARRAY($D$4),O28) -> 30 | Q28: =_xlfn.MINIFS(_xlfn.ANCHORARRAY($C$4),_xlfn.ANCHORARRAY($D$4),O28) -> 0.12 | R28: =SUMIFS(_xlfn.ANCHORARRAY($C$4),_xlfn.ANCHORARRAY($D$4),O28)/P28 -> 0.51466667 | S28: =_xlfn.MAXIFS(_xlfn.ANCHORARRAY($C$4),_xlfn.ANCHORARRAY($D$4),O28) -> 1.7 | T28: {=_xlfn.STDEV.S(_xlfn._xlws.FILTER(_xlfn.ANCHORARRAY($C$4),_xlfn.ANCHORARRAY($D$4)=O28))} -> 0.47202961 | V28: L sup | W28: =R29+(W25*T29/SQRT(P29)) -> 0.28239993 | X28: =R29+(X25*T29/SQRT(P29)) -> 0.28907977 | Y28: =R29+(Y25*T29/SQRT(P29)) -> 0.30213513
A29: 2 | B29: ESTACION MONTENEVADO | C29: 0.1 | D29: 2022 | E29: 2020 | F29: 0.1 | O29: Todos | P29: =SUM(P23:P28) -> 158 | R29: =AVERAGE(_xlfn.ANCHORARRAY(C4)) -> 0.24753165 | T29: =_xlfn.STDEV.S(_xlfn.ANCHORARRAY(C4)) -> 0.26645989
A30: 2 | B30: ESTACION MONTENEVADO | C30: 0.06 | D30: 2023 | E30: 2020 | F30: 0.4 | H30: ='Estadistico resumen'!O1 -> λ=620 (m⁻¹)
A31: 2 | B31: ESTACION MONTENEVADO | C31: 0.04 | D31: 2023 | E31: 2020 | F31: 0.1 | H31: Orden | I31: Estaciones | J31: ='Estadistico resumen'!$D$2 -> n | K31: Mín | L31: Media | M31: Max | N31: DS
A32: 2 | B32: ESTACION MONTENEVADO | C32: 0.1 | D32: 2023 | E32: 2020 | F32: 0.5 | H32: {=_xlfn._xlws.SORT(_xlfn.UNIQUE(_xlfn.ANCHORARRAY(A4)))} -> 1 | I32: =VLOOKUP(H32,$A$4:$B$161,2) -> ESTACION EL HIERBAL | J32: =COUNTIF(_xlfn.ANCHORARRAY($B$4),I32) -> 16 | K32: =_xlfn.MINIFS(_xlfn.ANCHORARRAY($C$4),_xlfn.ANCHORARRAY($B$4),I32) -> 0.04 | L32: =SUMIFS(_xlfn.ANCHORARRAY($C$4),_xlfn.ANCHORARRAY($B$4),I32)/J32 -> 0.16375 | M32: =_xlfn.MAXIFS(_xlfn.ANCHORARRAY($C$4),_xlfn.ANCHORARRAY($B$4),I32) -> 0.3 | N32: {=_xlfn.STDEV.S(_xlfn._xlws.FILTER(_xlfn.ANCHORARRAY($C$4),_xlfn.ANCHORARRAY($B$4)=I32))} -> 0.079067482
A33: 2 | B33: ESTACION MONTENEVADO | C33: 0.12 | D33: 2024 | E33: 2020 | F33: 0.2 | H33: 2 | I33: =VLOOKUP(H33,$A$4:$B$161,2) -> ESTACION MONTENEVADO | J33: =COUNTIF(_xlfn.ANCHORARRAY($B$4),I33) -> 16 | K33: =_xlfn.MINIFS(_xlfn.ANCHORARRAY($C$4),_xlfn.ANCHORARRAY($B$4),I33) -> 0.04 | L33: =SUMIFS(_xlfn.ANCHORARRAY($C$4),_xlfn.ANCHORARRAY($B$4),I33)/J33 -> 0.2425 | M33: =_xlfn.MAXIFS(_xlfn.ANCHORARRAY($C$4),_xlfn.ANCHORARRAY($B$4),I33) -> 1.7 | N33: {=_xlfn.STDEV.S(_xlfn._xlws.FILTER(_xlfn.ANCHORARRAY($C$4),_xlfn.ANCHORARRAY($B$4)=I33))} -> 0.39502743
A34: 2 | B34: ESTACION MONTENEVADO | C34: 0.12 | D34: 2024 | E34: 2020 | F34: 0.2 | H34: 4 | I34: =VLOOKUP(H34,$A$4:$B$161,2) -> ESTACION CHARCOMANSO | J34: =COUNTIF(_xlfn.ANCHORARRAY($B$4),I34) -> 16 | K34: =_xlfn.MINIFS(_xlfn.ANCHORARRAY($C$4),_xlfn.ANCHORARRAY($B$4),I34) -> 0.06 | L34: =SUMIFS(_xlfn.ANCHORARRAY($C$4),_xlfn.ANCHORARRAY($B$4),I34)/J34 -> 0.2025 | M34: =_xlfn.MAXIFS(_xlfn.ANCHORARRAY($C$4),_xlfn.ANCHORARRAY($B$4),I34) -> 1.18 | N34: {=_xlfn.STDEV.S(_xlfn._xlws.FILTER(_xlfn.ANCHORARRAY($C$4),_xlfn.ANCHORARRAY($B$4)=I34))} -> 0.2688122
A35: 2 | B35: ESTACION MONTENEVADO | C35: 1.7 | D35: 2024 | E35: 2020 | F35: 0.1 | H35: 6 | I35: =VLOOKUP(H35,$A$4:$B$161,2) -> ESTACION BOCATOMA MUNICIPIO DE RIONEGRO | J35: =COUNTIF(_xlfn.ANCHORARRAY($B$4),I35) -> 16 | K35: =_xlfn.MINIFS(_xlfn.ANCHORARRAY($C$4),_xlfn.ANCHORARRAY($B$4),I35) -> 0.04 | L35: =SUMIFS(_xlfn.ANCHORARRAY($C$4),_xlfn.ANCHORARRAY($B$4),I35)/J35 -> 0.21625 | M35: =_xlfn.MAXIFS(_xlfn.ANCHORARRAY($C$4),_xlfn.ANCHORARRAY($B$4),I35) -> 1.6 | N35: {=_xlfn.STDEV.S(_xlfn._xlws.FILTER(_xlfn.ANCHORARRAY($C$4),_xlfn.ANCHORARRAY($B$4)=I35))} -> 0.37289632
A36: 4 | B36: ESTACION CHARCOMANSO | C36: 0.18 | D36: 2024 | E36: 2020 | F36: 0.2 | H36: 7 | I36: =VLOOKUP(H36,$A$4:$B$161,2) -> ESTACION PUENTE REAL | J36: =COUNTIF(_xlfn.ANCHORARRAY($B$4),I36) -> 16 | K36: =_xlfn.MINIFS(_xlfn.ANCHORARRAY($C$4),_xlfn.ANCHORARRAY($B$4),I36) -> 0.02 | L36: =SUMIFS(_xlfn.ANCHORARRAY($C$4),_xlfn.ANCHORARRAY($B$4),I36)/J36 -> 0.216875 | M36: =_xlfn.MAXIFS(_xlfn.ANCHORARRAY($C$4),_xlfn.ANCHORARRAY($B$4),I36) -> 1.12 | N36: {=_xlfn.STDEV.S(_xlfn._xlws.FILTER(_xlfn.ANCHORARRAY($C$4),_xlfn.ANCHORARRAY($B$4)=I36))} -> 0.25502206
A37: 4 | B37: ESTACION CHARCOMANSO | C37: 0.18 | D37: 2024 | E37: 2020 | F37: 0.1 | H37: 8 | I37: =VLOOKUP(H37,$A$4:$B$161,2) -> ESTACION PUENTE ANTES DE LA EBAR EPRIO | J37: =COUNTIF(_xlfn.ANCHORARRAY($B$4),I37) -> 16 | K37: =_xlfn.MINIFS(_xlfn.ANCHORARRAY($C$4),_xlfn.ANCHORARRAY($B$4),I37) -> 0.04 | L37: =SUMIFS(_xlfn.ANCHORARRAY($C$4),_xlfn.ANCHORARRAY($B$4),I37)/J37 -> 0.24 | M37: =_xlfn.MAXIFS(_xlfn.ANCHORARRAY($C$4),_xlfn.ANCHORARRAY($B$4),I37) -> 1.3 | N37: {=_xlfn.STDEV.S(_xlfn._xlws.FILTER(_xlfn.ANCHORARRAY($C$4),_xlfn.ANCHORARRAY($B$4)=I37))} -> 0.29574764
A38: 4 | B38: ESTACION CHARCOMANSO | C38: 1.18 | D38: 2024 | E38: 2020 | F38: 0.2 | H38: 9 | I38: =VLOOKUP(H38,$A$4:$B$161,2) -> ESTACION DESPUES DE LA DESCARGA DE LA PTARD MUNICIPIO DE RIONEGRO | J38: =COUNTIF(_xlfn.ANCHORARRAY($B$4),I38) -> 15 | K38: =_xlfn.MINIFS(_xlfn.ANCHORARRAY($C$4),_xlfn.ANCHORARRAY($B$4),I38) -> 0.08 | L38: =SUMIFS(_xlfn.ANCHORARRAY($C$4),_xlfn.ANCHORARRAY($B$4),I38)/J38 -> 0.332 | M38: =_xlfn.MAXIFS(_xlfn.ANCHORARRAY($C$4),_xlfn.ANCHORARRAY($B$4),I38) -> 0.9 | N38: {=_xlfn.STDEV.S(_xlfn._xlws.FILTER(_xlfn.ANCHORARRAY($C$4),_xlfn.ANCHORARRAY($B$4)=I38))} -> 0.25843485
A39: 4 | B39: ESTACION CHARCOMANSO | C39: 0.3 | D39: 2021 | E39: 2020 | F39: 0.4 | H39: 10 | I39: =VLOOKUP(H39,$A$4:$B$161,2) -> ESTACION PUENTE AUTOPISTA | J39: =COUNTIF(_xlfn.ANCHORARRAY($B$4),I39) -> 16 | K39: =_xlfn.MINIFS(_xlfn.ANCHORARRAY($C$4),_xlfn.ANCHORARRAY($B$4),I39) -> 0.04 | L39: =SUMIFS(_xlfn.ANCHORARRAY($C$4),_xlfn.ANCHORARRAY($B$4),I39)/J39 -> 0.2975 | M39: =_xlfn.MAXIFS(_xlfn.ANCHORARRAY($C$4),_xlfn.ANCHORARRAY($B$4),I39) -> 0.7 | N39: {=_xlfn.STDEV.S(_xlfn._xlws.FILTER(_xlfn.ANCHORARRAY($C$4),_xlfn.ANCHORARRAY($B$4)=I39))} -> 0.20770171
A40: 4 | B40: ESTACION CHARCOMANSO | C40: 0.1 | D40: 2019 | E40: 2020 | F40: 0.2 | H40: 11 | I40: =VLOOKUP(H40,$A$4:$B$161,2) -> ESTACION LA FRESERA | J40: =COUNTIF(_xlfn.ANCHORARRAY($B$4),I40) -> 16 | K40: =_xlfn.MINIFS(_xlfn.ANCHORARRAY($C$4),_xlfn.ANCHORARRAY($B$4),I40) -> 0.04 | L40: =SUMIFS(_xlfn.ANCHORARRAY($C$4),_xlfn.ANCHORARRAY($B$4),I40)/J40 -> 0.3125 | M40: =_xlfn.MAXIFS(_xlfn.ANCHORARRAY($C$4),_xlfn.ANCHORARRAY($B$4),I40) -> 1.1 | N40: {=_xlfn.STDEV.S(_xlfn._xlws.FILTER(_xlfn.ANCHORARRAY($C$4),_xlfn.ANCHORARRAY($B$4)=I40))} -> 0.2733374
A41: 4 | B41: ESTACION CHARCOMANSO | C41: 0.1 | D41: 2020 | E41: 2020 | F41: 0.3 | H41: 12 | I41: =VLOOKUP(H41,$A$4:$B$161,2) -> ESTACION RIO ABAJO | J41: =COUNTIF(_xlfn.ANCHORARRAY($B$4),I41) -> 15 | K41: =_xlfn.MINIFS(_xlfn.ANCHORARRAY($C$4),_xlfn.ANCHORARRAY($B$4),I41) -> 0.06 | L41: =SUMIFS(_xlfn.ANCHORARRAY($C$4),_xlfn.ANCHORARRAY($B$4),I41)/J41 -> 0.25733333 | M41: =_xlfn.MAXIFS(_xlfn.ANCHORARRAY($C$4),_xlfn.ANCHORARRAY($B$4),I41) -> 0.48 | N41: {=_xlfn.STDEV.S(_xlfn._xlws.FILTER(_xlfn.ANCHORARRAY($C$4),_xlfn.ANCHORARRAY($B$4)=I41))} -> 0.10686886
A42: 4 | B42: ESTACION CHARCOMANSO | C42: 0.1 | D42: 2020 | E42: 2021 | F42: 0.2
A43: 4 | B43: ESTACION CHARCOMANSO | C43: 0.2 | D43: 2020 | E43: 2021 | F43: 0.18
A44: 4 | B44: ESTACION CHARCOMANSO | C44: 0.08 | D44: 2021 | E44: 2021 | F44: 0.2
...

Sheet CM436
A2: Quebrada La Cimarrona | H2: Comportamiento estadistico por estación según historicos | O2: Mediciones por año en color para todos los tramos | U2: Todas las estaciones y mediciones
A3: Orden | B3: Estaciones | C3: =H30 -> λ=436 (m⁻¹) | D3: Año | E3: Año | F3: λ=436 (m⁻¹)
A4: {=_xlfn._xlws.FILTER(CHOOSE(1,'Resultados historicos'!C:C,'Resultados historicos'!D:D,'Resultados historicos'!O:O,'Resultados historicos'!A:A),'Resultados historicos'!H:H=A2)} -> 1 | B4: {=_xlfn._xlws.FILTER(CHOOSE(2,'Resultados historicos'!C:C,'Resultados historicos'!D:D,'Resultados historicos'!O:O,'Resultados historicos'!A:A),'Resultados historicos'!H:H=A2)} -> ESTACION PUENTE LARGA | C4: {=_xlfn._xlws.FILTER(CHOOSE(3,'Resultados historicos'!C:C,'Resultados historicos'!D:D,'Resultados historicos'!O:O,'Resultados historicos'!A:A),'Resultados historicos'!H:H=A2)} -> 0.3 | D4: {=_xlfn._xlws.FILTER(CHOOSE(4,'Resultados historicos'!C:C,'Resultados historicos'!D:D,'Resultados historicos'!O:O,'Resultados historicos'!A:A),'Resultados historicos'!H:H=A2)} -> 2019 | E4: 2019 | F4: 0.3
A5: 1 | B5: ESTACION PUENTE LARGA | C5: 0.4 | D5: 2020 | E5: 2019 | F5: 0.9
A6: 1 | B6: ESTACION PUENTE LARGA | C6: 0.3 | D6: 2020 | E6: 2019 | F6: 0.5
A7: 1 | B7: ESTACION PUENTE LARGA | C7: 0.5 | D7: 2020 | E7: 2019 | F7: 1.8
A8: 1 | B8: ESTACION PUENTE LARGA | C8: 0.54 | D8: 2021 | E8: 2020 | F8: 0.4
A9: 1 | B9: ESTACION PUENTE LARGA | C9: 0.5 | D9: 2021 | E9: 2020 | F9: 0.3
A10: 1 | B10: ESTACION PUENTE LARGA | C10: 0.5 | D10: 2021 | E10: 2020 | F10: 0.5
A11: 1 | B11: ESTACION PUENTE LARGA | C11: 0.98 | D11: 2022 | E11: 2020 | F11: 1.1
A12: 1 | B12: ESTACION PUENTE LARGA | C12: 0.38 | D12: 2022 | E12: 2020 | F12: 0.4
A13: 1 | B13: ESTACION PUENTE LARGA | C13: 0.4 | D13: 2022 | E13: 2020 | F13: 0.7
A14: 1 | B14: ESTACION PUENTE LARGA | C14: 0.56 | D14: 2023 | E14: 2020 | F14: 1.1
A15: 1 | B15: ESTACION PUENTE LARGA | C15: 0.34 | D15: 2023 | E15: 2020 | F15: 0.6
A16: 1 | B16: ESTACION PUENTE LARGA | C16: 0.76 | D16: 2023 | E16: 2020 | F16: 0.8
